BEGIN:VCALENDAR
VERSION:2.0
PRODID:-//軽井沢大賀ホール - ECPv6.3.1//NONSGML v1.0//EN
CALSCALE:GREGORIAN
METHOD:PUBLISH
X-WR-CALNAME:軽井沢大賀ホール
X-ORIGINAL-URL:https://www.ohgahall.or.jp
X-WR-CALDESC:軽井沢大賀ホール のイベント
REFRESH-INTERVAL;VALUE=DURATION:PT1H
X-Robots-Tag:noindex
X-PUBLISHED-TTL:PT1H
BEGIN:VTIMEZONE
TZID:Asia/Tokyo
BEGIN:STANDARD
TZOFFSETFROM:+0900
TZOFFSETTO:+0900
TZNAME:JST
DTSTART:20280101T000000
END:STANDARD
END:VTIMEZONE
BEGIN:VEVENT
DTSTART;TZID=Asia/Tokyo:20280101T080000
DTEND;TZID=Asia/Tokyo:20280101T170000
DTSTAMP:20260424T224850
CREATED:20250111T044530Z
LAST-MODIFIED:20250609T055541Z
UID:10001059-1830326400-1830358800@www.ohgahall.or.jp
SUMMARY:元日
DESCRIPTION:
URL:https://www.ohgahall.or.jp/event/10001059/
END:VEVENT
BEGIN:VEVENT
DTSTART;TZID=Asia/Tokyo:20280101T080000
DTEND;TZID=Asia/Tokyo:20280101T170000
DTSTAMP:20260424T224850
CREATED:20250111T045630Z
LAST-MODIFIED:20250111T045630Z
UID:10001073-1830326400-1830358800@www.ohgahall.or.jp
SUMMARY:休館日
DESCRIPTION:
URL:https://www.ohgahall.or.jp/event/10001073/
END:VEVENT
END:VCALENDAR