BEGIN:VCALENDAR
VERSION:2.0
PRODID:-//軽井沢大賀ホール - ECPv6.3.1//NONSGML v1.0//EN
CALSCALE:GREGORIAN
METHOD:PUBLISH
X-WR-CALNAME:軽井沢大賀ホール
X-ORIGINAL-URL:https://www.ohgahall.or.jp
X-WR-CALDESC:軽井沢大賀ホール のイベント
REFRESH-INTERVAL;VALUE=DURATION:PT1H
X-Robots-Tag:noindex
X-PUBLISHED-TTL:PT1H
BEGIN:VTIMEZONE
TZID:Asia/Tokyo
BEGIN:STANDARD
TZOFFSETFROM:+0900
TZOFFSETTO:+0900
TZNAME:JST
DTSTART:20270101T000000
END:STANDARD
END:VTIMEZONE
BEGIN:VEVENT
DTSTART;TZID=Asia/Tokyo:20270719T080000
DTEND;TZID=Asia/Tokyo:20270719T170000
DTSTAMP:20260422T150712
CREATED:20250111T044021Z
LAST-MODIFIED:20250111T044021Z
UID:10001052-1815984000-1816016400@www.ohgahall.or.jp
SUMMARY:海の日
DESCRIPTION:
URL:https://www.ohgahall.or.jp/event/10001052/
END:VEVENT
BEGIN:VEVENT
DTSTART;TZID=Asia/Tokyo:20270719T080000
DTEND;TZID=Asia/Tokyo:20270719T170000
DTSTAMP:20260422T150712
CREATED:20260402T023258Z
LAST-MODIFIED:20260402T023258Z
UID:10001669-1815984000-1816016400@www.ohgahall.or.jp
SUMMARY:公演が計画されております
DESCRIPTION:
URL:https://www.ohgahall.or.jp/event/10001669/
END:VEVENT
END:VCALENDAR