BEGIN:VCALENDAR
VERSION:2.0
PRODID:-//軽井沢大賀ホール - ECPv6.3.1//NONSGML v1.0//EN
CALSCALE:GREGORIAN
METHOD:PUBLISH
X-ORIGINAL-URL:https://www.ohgahall.or.jp
X-WR-CALDESC:軽井沢大賀ホール のイベント
REFRESH-INTERVAL;VALUE=DURATION:PT1H
X-Robots-Tag:noindex
X-PUBLISHED-TTL:PT1H
BEGIN:VTIMEZONE
TZID:Asia/Tokyo
BEGIN:STANDARD
TZOFFSETFROM:+0900
TZOFFSETTO:+0900
TZNAME:JST
DTSTART:20270101T000000
END:STANDARD
END:VTIMEZONE
BEGIN:VEVENT
DTSTART;TZID=Asia/Tokyo:20270322T080000
DTEND;TZID=Asia/Tokyo:20270322T170000
DTSTAMP:20260422T091134
CREATED:20241021T075947Z
LAST-MODIFIED:20241021T075947Z
UID:10000938-1805702400-1805734800@www.ohgahall.or.jp
SUMMARY:振替休日
DESCRIPTION:
URL:https://www.ohgahall.or.jp/event/10000938/
END:VEVENT
BEGIN:VEVENT
DTSTART;TZID=Asia/Tokyo:20270322T080000
DTEND;TZID=Asia/Tokyo:20270322T170000
DTSTAMP:20260422T091134
CREATED:20250219T081648Z
LAST-MODIFIED:20260313T062226Z
UID:10001168-1805702400-1805734800@www.ohgahall.or.jp
SUMMARY:公演が計画されております
DESCRIPTION:
URL:https://www.ohgahall.or.jp/event/10001168/
END:VEVENT
END:VCALENDAR