BEGIN:VCALENDAR
VERSION:2.0
PRODID:-//軽井沢大賀ホール - ECPv6.3.1//NONSGML v1.0//EN
CALSCALE:GREGORIAN
METHOD:PUBLISH
X-ORIGINAL-URL:https://www.ohgahall.or.jp
X-WR-CALDESC:軽井沢大賀ホール のイベント
REFRESH-INTERVAL;VALUE=DURATION:PT1H
X-Robots-Tag:noindex
X-PUBLISHED-TTL:PT1H
BEGIN:VTIMEZONE
TZID:Asia/Tokyo
BEGIN:STANDARD
TZOFFSETFROM:+0900
TZOFFSETTO:+0900
TZNAME:JST
DTSTART:20270101T000000
END:STANDARD
END:VTIMEZONE
BEGIN:VEVENT
DTSTART;TZID=Asia/Tokyo:20270319T080000
DTEND;TZID=Asia/Tokyo:20270319T170000
DTSTAMP:20260422T091242
CREATED:20250119T013334Z
LAST-MODIFIED:20250607T024908Z
UID:10001112-1805443200-1805475600@www.ohgahall.or.jp
SUMMARY:関係者のみのご利用がございます
DESCRIPTION:
URL:https://www.ohgahall.or.jp/event/10001112/
END:VEVENT
END:VCALENDAR