BEGIN:VCALENDAR
VERSION:2.0
PRODID:-//軽井沢大賀ホール - ECPv6.3.1//NONSGML v1.0//EN
CALSCALE:GREGORIAN
METHOD:PUBLISH
X-ORIGINAL-URL:https://www.ohgahall.or.jp
X-WR-CALDESC:軽井沢大賀ホール のイベント
REFRESH-INTERVAL;VALUE=DURATION:PT1H
X-Robots-Tag:noindex
X-PUBLISHED-TTL:PT1H
BEGIN:VTIMEZONE
TZID:Asia/Tokyo
BEGIN:STANDARD
TZOFFSETFROM:+0900
TZOFFSETTO:+0900
TZNAME:JST
DTSTART:20260101T000000
END:STANDARD
END:VTIMEZONE
BEGIN:VEVENT
DTSTART;VALUE=DATE:20260923
DTEND;VALUE=DATE:20260924
DTSTAMP:20260421T231312
CREATED:20260413T013415Z
LAST-MODIFIED:20260413T013417Z
UID:10001230-1790121600-1790207999@www.ohgahall.or.jp
SUMMARY:長野県150周年記念事業 信州唱歌童謡の全国コンクール2026
DESCRIPTION:
URL:https://www.ohgahall.or.jp/event/10001230/
CATEGORIES:コンクール
END:VEVENT
BEGIN:VEVENT
DTSTART;TZID=Asia/Tokyo:20260923T080000
DTEND;TZID=Asia/Tokyo:20260923T170000
DTSTAMP:20260421T231312
CREATED:20240407T020746Z
LAST-MODIFIED:20240407T020746Z
UID:10000572-1790150400-1790182800@www.ohgahall.or.jp
SUMMARY:秋分の日
DESCRIPTION:
URL:https://www.ohgahall.or.jp/event/10000572/
END:VEVENT
END:VCALENDAR