BEGIN:VCALENDAR
VERSION:2.0
PRODID:-//軽井沢大賀ホール - ECPv6.3.1//NONSGML v1.0//EN
CALSCALE:GREGORIAN
METHOD:PUBLISH
X-ORIGINAL-URL:https://www.ohgahall.or.jp
X-WR-CALDESC:軽井沢大賀ホール のイベント
REFRESH-INTERVAL;VALUE=DURATION:PT1H
X-Robots-Tag:noindex
X-PUBLISHED-TTL:PT1H
BEGIN:VTIMEZONE
TZID:Asia/Tokyo
BEGIN:STANDARD
TZOFFSETFROM:+0900
TZOFFSETTO:+0900
TZNAME:JST
DTSTART:20250101T000000
END:STANDARD
END:VTIMEZONE
BEGIN:VEVENT
DTSTART;TZID=Asia/Tokyo:20251213T080000
DTEND;TZID=Asia/Tokyo:20251213T170000
DTSTAMP:20260421T230544
CREATED:20250124T040833Z
LAST-MODIFIED:20251212T055339Z
UID:10001117-1765612800-1765645200@www.ohgahall.or.jp
SUMMARY:アマチュアサックス愛好家によるクリスマスコンサート 20th Anniversary
DESCRIPTION:
URL:https://www.ohgahall.or.jp/event/10001117/
CATEGORIES:クラシック
ATTACH;FMTTYPE=image/jpeg:https://www.ohgahall.or.jp/K3PJBvmt/wp-content/uploads/2025/01/20thXmasチラシ①_page-0001.jpg
END:VEVENT
END:VCALENDAR