BEGIN:VCALENDAR
VERSION:2.0
PRODID:-//軽井沢大賀ホール - ECPv6.3.1//NONSGML v1.0//EN
CALSCALE:GREGORIAN
METHOD:PUBLISH
X-ORIGINAL-URL:https://www.ohgahall.or.jp
X-WR-CALDESC:軽井沢大賀ホール のイベント
REFRESH-INTERVAL;VALUE=DURATION:PT1H
X-Robots-Tag:noindex
X-PUBLISHED-TTL:PT1H
BEGIN:VTIMEZONE
TZID:Asia/Tokyo
BEGIN:STANDARD
TZOFFSETFROM:+0900
TZOFFSETTO:+0900
TZNAME:JST
DTSTART:20250101T000000
END:STANDARD
END:VTIMEZONE
BEGIN:VEVENT
DTSTART;VALUE=DATE:20251122
DTEND;VALUE=DATE:20251123
DTSTAMP:20260422T010437
CREATED:20240304T083756Z
LAST-MODIFIED:20250824T064129Z
UID:10000417-1763769600-1763855999@www.ohgahall.or.jp
SUMMARY:Petit Concert（プティ・コンサート）
DESCRIPTION:
URL:https://www.ohgahall.or.jp/event/10000417/
CATEGORIES:クラシック
END:VEVENT
BEGIN:VEVENT
DTSTART;TZID=Asia/Tokyo:20251122T100000
DTEND;TZID=Asia/Tokyo:20251122T150000
DTSTAMP:20260422T010437
CREATED:20250901T103734Z
LAST-MODIFIED:20250906T012532Z
UID:10001431-1763805600-1763823600@www.ohgahall.or.jp
SUMMARY:［他会場公演］2025軽井沢リゾート コンサート
DESCRIPTION:
URL:https://www.ohgahall.or.jp/event/10001431/
CATEGORIES:クラシック
ATTACH;FMTTYPE=image/jpeg:https://www.ohgahall.or.jp/K3PJBvmt/wp-content/uploads/2025/08/2025リゾート_チラシv5_OL_omoteresise.jpg
END:VEVENT
BEGIN:VEVENT
DTSTART;TZID=Asia/Tokyo:20251122T120000
DTEND;TZID=Asia/Tokyo:20251122T150000
DTSTAMP:20260422T010437
CREATED:20250925T084946Z
LAST-MODIFIED:20251122T074312Z
UID:10001463-1763812800-1763823600@www.ohgahall.or.jp
SUMMARY:［他会場公演］ルシア塩満 プロ50周年記念 アルパコンサート
DESCRIPTION:
URL:https://www.ohgahall.or.jp/event/10001463/
CATEGORIES:その他
ATTACH;FMTTYPE=image/jpeg:https://www.ohgahall.or.jp/K3PJBvmt/wp-content/uploads/2025/09/20250925175045_00001-scaled.jpg
END:VEVENT
END:VCALENDAR