BEGIN:VCALENDAR
VERSION:2.0
PRODID:-//軽井沢大賀ホール - ECPv6.3.1//NONSGML v1.0//EN
CALSCALE:GREGORIAN
METHOD:PUBLISH
X-WR-CALNAME:軽井沢大賀ホール
X-ORIGINAL-URL:https://www.ohgahall.or.jp
X-WR-CALDESC:軽井沢大賀ホール のイベント
REFRESH-INTERVAL;VALUE=DURATION:PT1H
X-Robots-Tag:noindex
X-PUBLISHED-TTL:PT1H
BEGIN:VTIMEZONE
TZID:Asia/Tokyo
BEGIN:STANDARD
TZOFFSETFROM:+0900
TZOFFSETTO:+0900
TZNAME:JST
DTSTART:20250101T000000
END:STANDARD
END:VTIMEZONE
BEGIN:VEVENT
DTSTART;TZID=Asia/Tokyo:20251020T080000
DTEND;TZID=Asia/Tokyo:20251020T170000
DTSTAMP:20260422T024545
CREATED:20240304T083407Z
LAST-MODIFIED:20251020T074801Z
UID:10000405-1760947200-1760979600@www.ohgahall.or.jp
SUMMARY:スペシャルオリンピックス支援のためのチャリティーコンサート 響きあう晩秋の音物語 2
DESCRIPTION:
URL:https://www.ohgahall.or.jp/event/10000405/
CATEGORIES:クラシック
ATTACH;FMTTYPE=image/jpeg:https://www.ohgahall.or.jp/K3PJBvmt/wp-content/uploads/2024/03/20250421190400_00001-scaled.jpg
END:VEVENT
END:VCALENDAR