BEGIN:VCALENDAR
VERSION:2.0
PRODID:-//軽井沢大賀ホール - ECPv6.3.1//NONSGML v1.0//EN
CALSCALE:GREGORIAN
METHOD:PUBLISH
X-WR-CALNAME:軽井沢大賀ホール
X-ORIGINAL-URL:https://www.ohgahall.or.jp
X-WR-CALDESC:軽井沢大賀ホール のイベント
REFRESH-INTERVAL;VALUE=DURATION:PT1H
X-Robots-Tag:noindex
X-PUBLISHED-TTL:PT1H
BEGIN:VTIMEZONE
TZID:Asia/Tokyo
BEGIN:STANDARD
TZOFFSETFROM:+0900
TZOFFSETTO:+0900
TZNAME:JST
DTSTART:20250101T000000
END:STANDARD
END:VTIMEZONE
BEGIN:VEVENT
DTSTART;TZID=Asia/Tokyo:20251013T080000
DTEND;TZID=Asia/Tokyo:20251013T170000
DTSTAMP:20260422T024545
CREATED:20240304T083331Z
LAST-MODIFIED:20250815T045020Z
UID:10000403-1760342400-1760374800@www.ohgahall.or.jp
SUMMARY:マウントあさま室内合奏団演奏会（第24回ワークショップ）
DESCRIPTION:
URL:https://www.ohgahall.or.jp/event/10000403/
CATEGORIES:クラシック
ATTACH;FMTTYPE=image/jpeg:https://www.ohgahall.or.jp/K3PJBvmt/wp-content/uploads/2024/03/20250814104333_00001-scaled.jpg
END:VEVENT
BEGIN:VEVENT
DTSTART;TZID=Asia/Tokyo:20251013T080000
DTEND;TZID=Asia/Tokyo:20251013T170000
DTSTAMP:20260422T024545
CREATED:20240407T023026Z
LAST-MODIFIED:20240407T023026Z
UID:10000607-1760342400-1760374800@www.ohgahall.or.jp
SUMMARY:スポーツの日
DESCRIPTION:
URL:https://www.ohgahall.or.jp/event/10000607/
END:VEVENT
END:VCALENDAR