BEGIN:VCALENDAR
VERSION:2.0
PRODID:-//軽井沢大賀ホール - ECPv6.3.1//NONSGML v1.0//EN
CALSCALE:GREGORIAN
METHOD:PUBLISH
X-WR-CALNAME:軽井沢大賀ホール
X-ORIGINAL-URL:https://www.ohgahall.or.jp
X-WR-CALDESC:軽井沢大賀ホール のイベント
REFRESH-INTERVAL;VALUE=DURATION:PT1H
X-Robots-Tag:noindex
X-PUBLISHED-TTL:PT1H
BEGIN:VTIMEZONE
TZID:Asia/Tokyo
BEGIN:STANDARD
TZOFFSETFROM:+0900
TZOFFSETTO:+0900
TZNAME:JST
DTSTART:20250101T000000
END:STANDARD
END:VTIMEZONE
BEGIN:VEVENT
DTSTART;TZID=Asia/Tokyo:20250822T080000
DTEND;TZID=Asia/Tokyo:20250822T170000
DTSTAMP:20260422T061045
CREATED:20240907T032019Z
LAST-MODIFIED:20250708T045357Z
UID:10000813-1755849600-1755882000@www.ohgahall.or.jp
SUMMARY:第14回若い芽の弦楽アンサンブルアカデミー in 軽井沢
DESCRIPTION:
URL:https://www.ohgahall.or.jp/event/10000813/
CATEGORIES:クラシック
END:VEVENT
BEGIN:VEVENT
DTSTART;TZID=Asia/Tokyo:20250822T153000
DTEND;TZID=Asia/Tokyo:20250822T180000
DTSTAMP:20260422T061045
CREATED:20250408T111405Z
LAST-MODIFIED:20250822T085054Z
UID:10001220-1755876600-1755885600@www.ohgahall.or.jp
SUMMARY:第14回YEK 横山奏 指揮 YEKストリング・オーケストラ
DESCRIPTION:
URL:https://www.ohgahall.or.jp/event/10001220/
CATEGORIES:クラシック
END:VEVENT
END:VCALENDAR