BEGIN:VCALENDAR
VERSION:2.0
PRODID:-//軽井沢大賀ホール - ECPv6.3.1//NONSGML v1.0//EN
CALSCALE:GREGORIAN
METHOD:PUBLISH
X-ORIGINAL-URL:https://www.ohgahall.or.jp
X-WR-CALDESC:軽井沢大賀ホール のイベント
REFRESH-INTERVAL;VALUE=DURATION:PT1H
X-Robots-Tag:noindex
X-PUBLISHED-TTL:PT1H
BEGIN:VTIMEZONE
TZID:Asia/Tokyo
BEGIN:STANDARD
TZOFFSETFROM:+0900
TZOFFSETTO:+0900
TZNAME:JST
DTSTART:20250101T000000
END:STANDARD
END:VTIMEZONE
BEGIN:VEVENT
DTSTART;VALUE=DATE:20250817
DTEND;VALUE=DATE:20250818
DTSTAMP:20260422T060716
CREATED:20240304T082842Z
LAST-MODIFIED:20250817T070136Z
UID:10000390-1755388800-1755475199@www.ohgahall.or.jp
SUMMARY:軽井沢夏の狂言
DESCRIPTION:
URL:https://www.ohgahall.or.jp/event/10000390/
CATEGORIES:伝統芸能
ATTACH;FMTTYPE=image/jpeg:https://www.ohgahall.or.jp/K3PJBvmt/wp-content/uploads/2024/03/★燎の会_軽井沢夏の狂言_20250817_A4_チラシ__page-0001.jpg
END:VEVENT
END:VCALENDAR