BEGIN:VCALENDAR
VERSION:2.0
PRODID:-//軽井沢大賀ホール - ECPv6.3.1//NONSGML v1.0//EN
CALSCALE:GREGORIAN
METHOD:PUBLISH
X-ORIGINAL-URL:https://www.ohgahall.or.jp
X-WR-CALDESC:軽井沢大賀ホール のイベント
REFRESH-INTERVAL;VALUE=DURATION:PT1H
X-Robots-Tag:noindex
X-PUBLISHED-TTL:PT1H
BEGIN:VTIMEZONE
TZID:Asia/Tokyo
BEGIN:STANDARD
TZOFFSETFROM:+0900
TZOFFSETTO:+0900
TZNAME:JST
DTSTART:20250101T000000
END:STANDARD
END:VTIMEZONE
BEGIN:VEVENT
DTSTART;TZID=Asia/Tokyo:20250816T080000
DTEND;TZID=Asia/Tokyo:20250816T170000
DTSTAMP:20260422T060854
CREATED:20241221T031235Z
LAST-MODIFIED:20250816T080727Z
UID:10001025-1755331200-1755363600@www.ohgahall.or.jp
SUMMARY:森 麻季 ソプラノ・リサイタル
DESCRIPTION:
URL:https://www.ohgahall.or.jp/event/10001025/
CATEGORIES:クラシック
ATTACH;FMTTYPE=image/jpeg:https://www.ohgahall.or.jp/K3PJBvmt/wp-content/uploads/2024/12/20250411162403_00001-scaled.jpg
END:VEVENT
END:VCALENDAR