BEGIN:VCALENDAR
VERSION:2.0
PRODID:-//軽井沢大賀ホール - ECPv6.3.1//NONSGML v1.0//EN
CALSCALE:GREGORIAN
METHOD:PUBLISH
X-ORIGINAL-URL:https://www.ohgahall.or.jp
X-WR-CALDESC:軽井沢大賀ホール のイベント
REFRESH-INTERVAL;VALUE=DURATION:PT1H
X-Robots-Tag:noindex
X-PUBLISHED-TTL:PT1H
BEGIN:VTIMEZONE
TZID:Asia/Tokyo
BEGIN:STANDARD
TZOFFSETFROM:+0900
TZOFFSETTO:+0900
TZNAME:JST
DTSTART:20250101T000000
END:STANDARD
END:VTIMEZONE
BEGIN:VEVENT
DTSTART;TZID=Asia/Tokyo:20250802T080000
DTEND;TZID=Asia/Tokyo:20250802T170000
DTSTAMP:20260422T061427
CREATED:20240304T082425Z
LAST-MODIFIED:20250802T074346Z
UID:10000376-1754121600-1754154000@www.ohgahall.or.jp
SUMMARY:戦後80回目の平和記念日に寄せて コンサート「命ある限り輝いて」
DESCRIPTION:
URL:https://www.ohgahall.or.jp/event/10000376/
CATEGORIES:その他
ATTACH;FMTTYPE=image/jpeg:https://www.ohgahall.or.jp/K3PJBvmt/wp-content/uploads/2024/03/2025年8月2日80回目に平和記念日に寄せて「命ある限り輝いて」-3_page-0001.jpg
END:VEVENT
END:VCALENDAR