BEGIN:VCALENDAR
VERSION:2.0
PRODID:-//軽井沢大賀ホール - ECPv6.3.1//NONSGML v1.0//EN
CALSCALE:GREGORIAN
METHOD:PUBLISH
X-WR-CALNAME:軽井沢大賀ホール
X-ORIGINAL-URL:https://www.ohgahall.or.jp
X-WR-CALDESC:軽井沢大賀ホール のイベント
REFRESH-INTERVAL;VALUE=DURATION:PT1H
X-Robots-Tag:noindex
X-PUBLISHED-TTL:PT1H
BEGIN:VTIMEZONE
TZID:Asia/Tokyo
BEGIN:STANDARD
TZOFFSETFROM:+0900
TZOFFSETTO:+0900
TZNAME:JST
DTSTART:20250101T000000
END:STANDARD
END:VTIMEZONE
BEGIN:VEVENT
DTSTART;TZID=Asia/Tokyo:20250721T080000
DTEND;TZID=Asia/Tokyo:20250721T170000
DTSTAMP:20260422T073038
CREATED:20240407T022852Z
LAST-MODIFIED:20240407T022852Z
UID:10000603-1753084800-1753117200@www.ohgahall.or.jp
SUMMARY:海の日
DESCRIPTION:
URL:https://www.ohgahall.or.jp/event/10000603/
END:VEVENT
BEGIN:VEVENT
DTSTART;TZID=Asia/Tokyo:20250721T080000
DTEND;TZID=Asia/Tokyo:20250721T170000
DTSTAMP:20260422T073038
CREATED:20250208T010018Z
LAST-MODIFIED:20250724T054422Z
UID:10001146-1753084800-1753117200@www.ohgahall.or.jp
SUMMARY:“夏の軽井沢 プロム2025”
DESCRIPTION:
URL:https://www.ohgahall.or.jp/event/10001146/
CATEGORIES:クラシック
ATTACH;FMTTYPE=image/jpeg:https://www.ohgahall.or.jp/K3PJBvmt/wp-content/uploads/2025/02/20250312150245_00001-コピー-scaled.jpg
END:VEVENT
END:VCALENDAR