BEGIN:VCALENDAR
VERSION:2.0
PRODID:-//軽井沢大賀ホール - ECPv6.3.1//NONSGML v1.0//EN
CALSCALE:GREGORIAN
METHOD:PUBLISH
X-ORIGINAL-URL:https://www.ohgahall.or.jp
X-WR-CALDESC:軽井沢大賀ホール のイベント
REFRESH-INTERVAL;VALUE=DURATION:PT1H
X-Robots-Tag:noindex
X-PUBLISHED-TTL:PT1H
BEGIN:VTIMEZONE
TZID:Asia/Tokyo
BEGIN:STANDARD
TZOFFSETFROM:+0900
TZOFFSETTO:+0900
TZNAME:JST
DTSTART:20250101T000000
END:STANDARD
END:VTIMEZONE
BEGIN:VEVENT
DTSTART;TZID=Asia/Tokyo:20250713T120000
DTEND;TZID=Asia/Tokyo:20250713T170000
DTSTAMP:20260422T073257
CREATED:20250614T011405Z
LAST-MODIFIED:20250614T011418Z
UID:10001339-1752408000-1752426000@www.ohgahall.or.jp
SUMMARY:軽井沢ファミリーオーケストラ 練習
DESCRIPTION:
URL:https://www.ohgahall.or.jp/event/10001339/
CATEGORIES:クラシック
ATTACH;FMTTYPE=image/jpeg:https://www.ohgahall.or.jp/K3PJBvmt/wp-content/uploads/2024/11/DSC02632-scaled.jpg
END:VEVENT
BEGIN:VEVENT
DTSTART;TZID=Asia/Tokyo:20250713T130000
DTEND;TZID=Asia/Tokyo:20250713T235900
DTSTAMP:20260422T073257
CREATED:20250614T011314Z
LAST-MODIFIED:20250614T011314Z
UID:10001340-1752411600-1752451140@www.ohgahall.or.jp
SUMMARY:【演奏者ラウンジ】軽井沢少年少女合唱団 練習
DESCRIPTION:
URL:https://www.ohgahall.or.jp/event/10001340/
CATEGORIES:コーラス
ATTACH;FMTTYPE=image/jpeg:https://www.ohgahall.or.jp/K3PJBvmt/wp-content/uploads/2024/03/2024012419265300.jpg
END:VEVENT
END:VCALENDAR