BEGIN:VCALENDAR
VERSION:2.0
PRODID:-//軽井沢大賀ホール - ECPv6.3.1//NONSGML v1.0//EN
CALSCALE:GREGORIAN
METHOD:PUBLISH
X-ORIGINAL-URL:https://www.ohgahall.or.jp
X-WR-CALDESC:軽井沢大賀ホール のイベント
REFRESH-INTERVAL;VALUE=DURATION:PT1H
X-Robots-Tag:noindex
X-PUBLISHED-TTL:PT1H
BEGIN:VTIMEZONE
TZID:Asia/Tokyo
BEGIN:STANDARD
TZOFFSETFROM:+0900
TZOFFSETTO:+0900
TZNAME:JST
DTSTART:20240101T000000
END:STANDARD
END:VTIMEZONE
BEGIN:VEVENT
DTSTART;TZID=Asia/Tokyo:20241207T080000
DTEND;TZID=Asia/Tokyo:20241207T170000
DTSTAMP:20260421T230503
CREATED:20240304T074357Z
LAST-MODIFIED:20241117T044345Z
UID:10000270-1733558400-1733590800@www.ohgahall.or.jp
SUMMARY:軽井沢音楽部クリスマスコンサート
DESCRIPTION:
URL:https://www.ohgahall.or.jp/event/10000270/
CATEGORIES:クラシック
ATTACH;FMTTYPE=image/jpeg:https://www.ohgahall.or.jp/K3PJBvmt/wp-content/uploads/2024/03/12_7コンサート軽井沢音楽部_page-0001.jpg
END:VEVENT
END:VCALENDAR