BEGIN:VCALENDAR
VERSION:2.0
PRODID:-//軽井沢大賀ホール - ECPv6.3.1//NONSGML v1.0//EN
CALSCALE:GREGORIAN
METHOD:PUBLISH
X-WR-CALNAME:軽井沢大賀ホール
X-ORIGINAL-URL:https://www.ohgahall.or.jp
X-WR-CALDESC:軽井沢大賀ホール のイベント
REFRESH-INTERVAL;VALUE=DURATION:PT1H
X-Robots-Tag:noindex
X-PUBLISHED-TTL:PT1H
BEGIN:VTIMEZONE
TZID:Asia/Tokyo
BEGIN:STANDARD
TZOFFSETFROM:+0900
TZOFFSETTO:+0900
TZNAME:JST
DTSTART:20290101T000000
END:STANDARD
END:VTIMEZONE
BEGIN:VEVENT
DTSTART;TZID=Asia/Tokyo:20290305T080000
DTEND;TZID=Asia/Tokyo:20290305T170000
DTSTAMP:20260425T191614
CREATED:20250610T022506Z
LAST-MODIFIED:20250610T022506Z
UID:10001328-1867392000-1867424400@www.ohgahall.or.jp
SUMMARY:休館日
DESCRIPTION:
URL:https://www.ohgahall.or.jp/event/10001328/
END:VEVENT
BEGIN:VEVENT
DTSTART;TZID=Asia/Tokyo:20290312T080000
DTEND;TZID=Asia/Tokyo:20290312T170000
DTSTAMP:20260425T191614
CREATED:20250610T022530Z
LAST-MODIFIED:20250610T022530Z
UID:10001329-1867996800-1868029200@www.ohgahall.or.jp
SUMMARY:休館日
DESCRIPTION:
URL:https://www.ohgahall.or.jp/event/10001329/
END:VEVENT
BEGIN:VEVENT
DTSTART;TZID=Asia/Tokyo:20290319T080000
DTEND;TZID=Asia/Tokyo:20290319T170000
DTSTAMP:20260425T191614
CREATED:20250610T022556Z
LAST-MODIFIED:20250610T022556Z
UID:10001330-1868601600-1868634000@www.ohgahall.or.jp
SUMMARY:休館日
DESCRIPTION:
URL:https://www.ohgahall.or.jp/event/10001330/
END:VEVENT
BEGIN:VEVENT
DTSTART;TZID=Asia/Tokyo:20290320T080000
DTEND;TZID=Asia/Tokyo:20290320T080000
DTSTAMP:20260425T191614
CREATED:20250610T022909Z
LAST-MODIFIED:20250610T022909Z
UID:10001335-1868688000-1868688000@www.ohgahall.or.jp
SUMMARY:春分の日
DESCRIPTION:
URL:https://www.ohgahall.or.jp/event/10001335/
END:VEVENT
BEGIN:VEVENT
DTSTART;TZID=Asia/Tokyo:20290321T080000
DTEND;TZID=Asia/Tokyo:20290321T170000
DTSTAMP:20260425T191614
CREATED:20250610T022624Z
LAST-MODIFIED:20250610T022624Z
UID:10001331-1868774400-1868806800@www.ohgahall.or.jp
SUMMARY:休館日
DESCRIPTION:
URL:https://www.ohgahall.or.jp/event/10001331/
END:VEVENT
BEGIN:VEVENT
DTSTART;TZID=Asia/Tokyo:20290326T080000
DTEND;TZID=Asia/Tokyo:20290326T170000
DTSTAMP:20260425T191614
CREATED:20250610T022650Z
LAST-MODIFIED:20250610T022650Z
UID:10001332-1869206400-1869238800@www.ohgahall.or.jp
SUMMARY:休館日
DESCRIPTION:
URL:https://www.ohgahall.or.jp/event/10001332/
END:VEVENT
END:VCALENDAR