BEGIN:VCALENDAR
VERSION:2.0
PRODID:-//軽井沢大賀ホール - ECPv6.3.1//NONSGML v1.0//EN
CALSCALE:GREGORIAN
METHOD:PUBLISH
X-WR-CALNAME:軽井沢大賀ホール
X-ORIGINAL-URL:https://www.ohgahall.or.jp
X-WR-CALDESC:軽井沢大賀ホール のイベント
REFRESH-INTERVAL;VALUE=DURATION:PT1H
X-Robots-Tag:noindex
X-PUBLISHED-TTL:PT1H
BEGIN:VTIMEZONE
TZID:Asia/Tokyo
BEGIN:STANDARD
TZOFFSETFROM:+0900
TZOFFSETTO:+0900
TZNAME:JST
DTSTART:20290101T000000
END:STANDARD
END:VTIMEZONE
BEGIN:VEVENT
DTSTART;TZID=Asia/Tokyo:20290205T080000
DTEND;TZID=Asia/Tokyo:20290205T170000
DTSTAMP:20260425T191758
CREATED:20250610T022235Z
LAST-MODIFIED:20250610T022235Z
UID:10001323-1864972800-1865005200@www.ohgahall.or.jp
SUMMARY:休館日
DESCRIPTION:
URL:https://www.ohgahall.or.jp/event/10001323/
END:VEVENT
BEGIN:VEVENT
DTSTART;TZID=Asia/Tokyo:20290212T080000
DTEND;TZID=Asia/Tokyo:20290212T080000
DTSTAMP:20260425T191758
CREATED:20250610T022837Z
LAST-MODIFIED:20250610T022837Z
UID:10001334-1865577600-1865577600@www.ohgahall.or.jp
SUMMARY:建国記念の日
DESCRIPTION:
URL:https://www.ohgahall.or.jp/event/10001334/
END:VEVENT
BEGIN:VEVENT
DTSTART;TZID=Asia/Tokyo:20290213T080000
DTEND;TZID=Asia/Tokyo:20290213T170000
DTSTAMP:20260425T191758
CREATED:20250610T022321Z
LAST-MODIFIED:20250610T022321Z
UID:10001324-1865664000-1865696400@www.ohgahall.or.jp
SUMMARY:休館日
DESCRIPTION:
URL:https://www.ohgahall.or.jp/event/10001324/
END:VEVENT
BEGIN:VEVENT
DTSTART;TZID=Asia/Tokyo:20290214T080000
DTEND;TZID=Asia/Tokyo:20290214T170000
DTSTAMP:20260425T191758
CREATED:20250610T022342Z
LAST-MODIFIED:20250610T022342Z
UID:10001325-1865750400-1865782800@www.ohgahall.or.jp
SUMMARY:休館日
DESCRIPTION:
URL:https://www.ohgahall.or.jp/event/10001325/
END:VEVENT
BEGIN:VEVENT
DTSTART;TZID=Asia/Tokyo:20290219T080000
DTEND;TZID=Asia/Tokyo:20290219T170000
DTSTAMP:20260425T191758
CREATED:20250610T022415Z
LAST-MODIFIED:20250610T022415Z
UID:10001326-1866182400-1866214800@www.ohgahall.or.jp
SUMMARY:休館日
DESCRIPTION:
URL:https://www.ohgahall.or.jp/event/10001326/
END:VEVENT
BEGIN:VEVENT
DTSTART;TZID=Asia/Tokyo:20290223T080000
DTEND;TZID=Asia/Tokyo:20290223T080000
DTSTAMP:20260425T191758
CREATED:20250610T022757Z
LAST-MODIFIED:20250610T022807Z
UID:10001333-1866528000-1866528000@www.ohgahall.or.jp
SUMMARY:天皇誕生日
DESCRIPTION:
URL:https://www.ohgahall.or.jp/event/10001333/
END:VEVENT
BEGIN:VEVENT
DTSTART;TZID=Asia/Tokyo:20290226T080000
DTEND;TZID=Asia/Tokyo:20290226T170000
DTSTAMP:20260425T191758
CREATED:20250610T022439Z
LAST-MODIFIED:20250610T022439Z
UID:10001327-1866787200-1866819600@www.ohgahall.or.jp
SUMMARY:休館日
DESCRIPTION:
URL:https://www.ohgahall.or.jp/event/10001327/
END:VEVENT
BEGIN:VEVENT
DTSTART;TZID=Asia/Tokyo:20290227T080000
DTEND;TZID=Asia/Tokyo:20290227T170000
DTSTAMP:20260425T191758
CREATED:20250610T023000Z
LAST-MODIFIED:20250610T023000Z
UID:10001336-1866873600-1866906000@www.ohgahall.or.jp
SUMMARY:休館日
DESCRIPTION:
URL:https://www.ohgahall.or.jp/event/10001336/
END:VEVENT
END:VCALENDAR