BEGIN:VCALENDAR
VERSION:2.0
PRODID:-//軽井沢大賀ホール - ECPv6.3.1//NONSGML v1.0//EN
CALSCALE:GREGORIAN
METHOD:PUBLISH
X-ORIGINAL-URL:https://www.ohgahall.or.jp
X-WR-CALDESC:軽井沢大賀ホール のイベント
REFRESH-INTERVAL;VALUE=DURATION:PT1H
X-Robots-Tag:noindex
X-PUBLISHED-TTL:PT1H
BEGIN:VTIMEZONE
TZID:Asia/Tokyo
BEGIN:STANDARD
TZOFFSETFROM:+0900
TZOFFSETTO:+0900
TZNAME:JST
DTSTART:20280101T000000
END:STANDARD
END:VTIMEZONE
BEGIN:VEVENT
DTSTART;TZID=Asia/Tokyo:20281002T080000
DTEND;TZID=Asia/Tokyo:20281002T170000
DTSTAMP:20260425T122749
CREATED:20251012T060803Z
LAST-MODIFIED:20251012T060803Z
UID:10001508-1854086400-1854118800@www.ohgahall.or.jp
SUMMARY:休館日
DESCRIPTION:
URL:https://www.ohgahall.or.jp/event/10001508/
END:VEVENT
BEGIN:VEVENT
DTSTART;TZID=Asia/Tokyo:20281009T080000
DTEND;TZID=Asia/Tokyo:20281009T170000
DTSTAMP:20260425T122749
CREATED:20250609T055950Z
LAST-MODIFIED:20250609T055950Z
UID:10001296-1854691200-1854723600@www.ohgahall.or.jp
SUMMARY:スポーツの日
DESCRIPTION:
URL:https://www.ohgahall.or.jp/event/10001296/
END:VEVENT
BEGIN:VEVENT
DTSTART;TZID=Asia/Tokyo:20281010T080000
DTEND;TZID=Asia/Tokyo:20281010T170000
DTSTAMP:20260425T122749
CREATED:20251012T060822Z
LAST-MODIFIED:20251012T061019Z
UID:10001509-1854777600-1854810000@www.ohgahall.or.jp
SUMMARY:休館日
DESCRIPTION:
URL:https://www.ohgahall.or.jp/event/10001509/
END:VEVENT
BEGIN:VEVENT
DTSTART;TZID=Asia/Tokyo:20281011T080000
DTEND;TZID=Asia/Tokyo:20281011T170000
DTSTAMP:20260425T122749
CREATED:20251012T061038Z
LAST-MODIFIED:20251012T061038Z
UID:10001513-1854864000-1854896400@www.ohgahall.or.jp
SUMMARY:休館日
DESCRIPTION:
URL:https://www.ohgahall.or.jp/event/10001513/
END:VEVENT
BEGIN:VEVENT
DTSTART;TZID=Asia/Tokyo:20281016T080000
DTEND;TZID=Asia/Tokyo:20281016T170000
DTSTAMP:20260425T122749
CREATED:20251012T060840Z
LAST-MODIFIED:20251012T060840Z
UID:10001510-1855296000-1855328400@www.ohgahall.or.jp
SUMMARY:休館日
DESCRIPTION:
URL:https://www.ohgahall.or.jp/event/10001510/
END:VEVENT
BEGIN:VEVENT
DTSTART;TZID=Asia/Tokyo:20281023T080000
DTEND;TZID=Asia/Tokyo:20281023T170000
DTSTAMP:20260425T122749
CREATED:20251012T060901Z
LAST-MODIFIED:20251012T060901Z
UID:10001511-1855900800-1855933200@www.ohgahall.or.jp
SUMMARY:休館日
DESCRIPTION:
URL:https://www.ohgahall.or.jp/event/10001511/
END:VEVENT
BEGIN:VEVENT
DTSTART;TZID=Asia/Tokyo:20281030T080000
DTEND;TZID=Asia/Tokyo:20281030T170000
DTSTAMP:20260425T122749
CREATED:20251012T060926Z
LAST-MODIFIED:20251012T060926Z
UID:10001512-1856505600-1856538000@www.ohgahall.or.jp
SUMMARY:休館日
DESCRIPTION:
URL:https://www.ohgahall.or.jp/event/10001512/
END:VEVENT
END:VCALENDAR