BEGIN:VCALENDAR
VERSION:2.0
PRODID:-//軽井沢大賀ホール - ECPv6.3.1//NONSGML v1.0//EN
CALSCALE:GREGORIAN
METHOD:PUBLISH
X-WR-CALNAME:軽井沢大賀ホール
X-ORIGINAL-URL:https://www.ohgahall.or.jp
X-WR-CALDESC:軽井沢大賀ホール のイベント
REFRESH-INTERVAL;VALUE=DURATION:PT1H
X-Robots-Tag:noindex
X-PUBLISHED-TTL:PT1H
BEGIN:VTIMEZONE
TZID:Asia/Tokyo
BEGIN:STANDARD
TZOFFSETFROM:+0900
TZOFFSETTO:+0900
TZNAME:JST
DTSTART:20280101T000000
END:STANDARD
END:VTIMEZONE
BEGIN:VEVENT
DTSTART;TZID=Asia/Tokyo:20280403T080000
DTEND;TZID=Asia/Tokyo:20280403T170000
DTSTAMP:20260425T032615
CREATED:20251012T060256Z
LAST-MODIFIED:20251012T060256Z
UID:10001496-1838361600-1838394000@www.ohgahall.or.jp
SUMMARY:休館日
DESCRIPTION:
URL:https://www.ohgahall.or.jp/event/10001496/
END:VEVENT
BEGIN:VEVENT
DTSTART;TZID=Asia/Tokyo:20280410T080000
DTEND;TZID=Asia/Tokyo:20280410T170000
DTSTAMP:20260425T032615
CREATED:20251012T060317Z
LAST-MODIFIED:20251012T060317Z
UID:10001497-1838966400-1838998800@www.ohgahall.or.jp
SUMMARY:休館日
DESCRIPTION:
URL:https://www.ohgahall.or.jp/event/10001497/
END:VEVENT
BEGIN:VEVENT
DTSTART;TZID=Asia/Tokyo:20280417T080000
DTEND;TZID=Asia/Tokyo:20280417T170000
DTSTAMP:20260425T032615
CREATED:20251012T060340Z
LAST-MODIFIED:20251012T060340Z
UID:10001498-1839571200-1839603600@www.ohgahall.or.jp
SUMMARY:休館日
DESCRIPTION:
URL:https://www.ohgahall.or.jp/event/10001498/
END:VEVENT
BEGIN:VEVENT
DTSTART;TZID=Asia/Tokyo:20280424T080000
DTEND;TZID=Asia/Tokyo:20280424T170000
DTSTAMP:20260425T032615
CREATED:20251012T060404Z
LAST-MODIFIED:20251012T060404Z
UID:10001499-1840176000-1840208400@www.ohgahall.or.jp
SUMMARY:休館日
DESCRIPTION:
URL:https://www.ohgahall.or.jp/event/10001499/
END:VEVENT
BEGIN:VEVENT
DTSTART;TZID=Asia/Tokyo:20280428T080000
DTEND;TZID=Asia/Tokyo:20280428T170000
DTSTAMP:20260425T032615
CREATED:20250615T015031Z
LAST-MODIFIED:20250615T015031Z
UID:10001345-1840521600-1840554000@www.ohgahall.or.jp
SUMMARY:使用の予定がございます
DESCRIPTION:
URL:https://www.ohgahall.or.jp/event/10001345/
END:VEVENT
BEGIN:VEVENT
DTSTART;TZID=Asia/Tokyo:20280429T080000
DTEND;TZID=Asia/Tokyo:20280429T170000
DTSTAMP:20260425T032615
CREATED:20250609T055623Z
LAST-MODIFIED:20250609T055623Z
UID:10001288-1840608000-1840640400@www.ohgahall.or.jp
SUMMARY:昭和の日
DESCRIPTION:
URL:https://www.ohgahall.or.jp/event/10001288/
END:VEVENT
BEGIN:VEVENT
DTSTART;TZID=Asia/Tokyo:20280429T080000
DTEND;TZID=Asia/Tokyo:20280429T170000
DTSTAMP:20260425T032615
CREATED:20250615T015104Z
LAST-MODIFIED:20250615T015104Z
UID:10001346-1840608000-1840640400@www.ohgahall.or.jp
SUMMARY:使用の予定がございます
DESCRIPTION:
URL:https://www.ohgahall.or.jp/event/10001346/
END:VEVENT
BEGIN:VEVENT
DTSTART;TZID=Asia/Tokyo:20280430T080000
DTEND;TZID=Asia/Tokyo:20280430T170000
DTSTAMP:20260425T032615
CREATED:20250615T015131Z
LAST-MODIFIED:20250615T015131Z
UID:10001347-1840694400-1840726800@www.ohgahall.or.jp
SUMMARY:使用の予定がございます
DESCRIPTION:
URL:https://www.ohgahall.or.jp/event/10001347/
END:VEVENT
END:VCALENDAR