BEGIN:VCALENDAR
VERSION:2.0
PRODID:-//軽井沢大賀ホール - ECPv6.3.1//NONSGML v1.0//EN
CALSCALE:GREGORIAN
METHOD:PUBLISH
X-ORIGINAL-URL:https://www.ohgahall.or.jp
X-WR-CALDESC:軽井沢大賀ホール のイベント
REFRESH-INTERVAL;VALUE=DURATION:PT1H
X-Robots-Tag:noindex
X-PUBLISHED-TTL:PT1H
BEGIN:VTIMEZONE
TZID:Asia/Tokyo
BEGIN:STANDARD
TZOFFSETFROM:+0900
TZOFFSETTO:+0900
TZNAME:JST
DTSTART:20280101T000000
END:STANDARD
END:VTIMEZONE
BEGIN:VEVENT
DTSTART;TZID=Asia/Tokyo:20280207T080000
DTEND;TZID=Asia/Tokyo:20280207T170000
DTSTAMP:20260425T004119
CREATED:20250111T050307Z
LAST-MODIFIED:20250111T050307Z
UID:10001082-1833523200-1833555600@www.ohgahall.or.jp
SUMMARY:休館日
DESCRIPTION:
URL:https://www.ohgahall.or.jp/event/10001082/
END:VEVENT
BEGIN:VEVENT
DTSTART;TZID=Asia/Tokyo:20280211T080000
DTEND;TZID=Asia/Tokyo:20280211T170000
DTSTAMP:20260425T004119
CREATED:20250111T050412Z
LAST-MODIFIED:20250111T050412Z
UID:10001085-1833868800-1833901200@www.ohgahall.or.jp
SUMMARY:建国記念日
DESCRIPTION:
URL:https://www.ohgahall.or.jp/event/10001085/
END:VEVENT
BEGIN:VEVENT
DTSTART;TZID=Asia/Tokyo:20280214T080000
DTEND;TZID=Asia/Tokyo:20280214T170000
DTSTAMP:20260425T004119
CREATED:20250111T050327Z
LAST-MODIFIED:20250111T050327Z
UID:10001083-1834128000-1834160400@www.ohgahall.or.jp
SUMMARY:休館日
DESCRIPTION:
URL:https://www.ohgahall.or.jp/event/10001083/
END:VEVENT
BEGIN:VEVENT
DTSTART;TZID=Asia/Tokyo:20280215T080000
DTEND;TZID=Asia/Tokyo:20280215T170000
DTSTAMP:20260425T004119
CREATED:20250111T050347Z
LAST-MODIFIED:20250111T050347Z
UID:10001084-1834214400-1834246800@www.ohgahall.or.jp
SUMMARY:休館日
DESCRIPTION:
URL:https://www.ohgahall.or.jp/event/10001084/
END:VEVENT
BEGIN:VEVENT
DTSTART;TZID=Asia/Tokyo:20280218T080000
DTEND;TZID=Asia/Tokyo:20280218T170000
DTSTAMP:20260425T004119
CREATED:20251124T021339Z
LAST-MODIFIED:20251124T021339Z
UID:10001539-1834473600-1834506000@www.ohgahall.or.jp
SUMMARY:準備・リハーサル
DESCRIPTION:
URL:https://www.ohgahall.or.jp/event/10001539/
END:VEVENT
BEGIN:VEVENT
DTSTART;TZID=Asia/Tokyo:20280219T080000
DTEND;TZID=Asia/Tokyo:20280219T170000
DTSTAMP:20260425T004119
CREATED:20251124T021318Z
LAST-MODIFIED:20251124T021318Z
UID:10001538-1834560000-1834592400@www.ohgahall.or.jp
SUMMARY:公演が計画されております
DESCRIPTION:
URL:https://www.ohgahall.or.jp/event/10001538/
END:VEVENT
BEGIN:VEVENT
DTSTART;TZID=Asia/Tokyo:20280221T080000
DTEND;TZID=Asia/Tokyo:20280221T170000
DTSTAMP:20260425T004119
CREATED:20250111T050435Z
LAST-MODIFIED:20250111T050435Z
UID:10001086-1834732800-1834765200@www.ohgahall.or.jp
SUMMARY:休館日
DESCRIPTION:
URL:https://www.ohgahall.or.jp/event/10001086/
END:VEVENT
BEGIN:VEVENT
DTSTART;TZID=Asia/Tokyo:20280223T080000
DTEND;TZID=Asia/Tokyo:20280223T170000
DTSTAMP:20260425T004119
CREATED:20250111T050458Z
LAST-MODIFIED:20250111T050458Z
UID:10001087-1834905600-1834938000@www.ohgahall.or.jp
SUMMARY:天皇誕生日
DESCRIPTION:
URL:https://www.ohgahall.or.jp/event/10001087/
END:VEVENT
BEGIN:VEVENT
DTSTART;TZID=Asia/Tokyo:20280224T080000
DTEND;TZID=Asia/Tokyo:20280224T170000
DTSTAMP:20260425T004119
CREATED:20250111T050518Z
LAST-MODIFIED:20250111T050518Z
UID:10001088-1834992000-1835024400@www.ohgahall.or.jp
SUMMARY:休館日
DESCRIPTION:
URL:https://www.ohgahall.or.jp/event/10001088/
END:VEVENT
BEGIN:VEVENT
DTSTART;TZID=Asia/Tokyo:20280228T080000
DTEND;TZID=Asia/Tokyo:20280228T170000
DTSTAMP:20260425T004119
CREATED:20250111T050535Z
LAST-MODIFIED:20250111T050535Z
UID:10001089-1835337600-1835370000@www.ohgahall.or.jp
SUMMARY:休館日
DESCRIPTION:
URL:https://www.ohgahall.or.jp/event/10001089/
END:VEVENT
END:VCALENDAR