BEGIN:VCALENDAR
VERSION:2.0
PRODID:-//軽井沢大賀ホール - ECPv6.3.1//NONSGML v1.0//EN
CALSCALE:GREGORIAN
METHOD:PUBLISH
X-WR-CALNAME:軽井沢大賀ホール
X-ORIGINAL-URL:https://www.ohgahall.or.jp
X-WR-CALDESC:軽井沢大賀ホール のイベント
REFRESH-INTERVAL;VALUE=DURATION:PT1H
X-Robots-Tag:noindex
X-PUBLISHED-TTL:PT1H
BEGIN:VTIMEZONE
TZID:Asia/Tokyo
BEGIN:STANDARD
TZOFFSETFROM:+0900
TZOFFSETTO:+0900
TZNAME:JST
DTSTART:20270101T000000
END:STANDARD
END:VTIMEZONE
BEGIN:VEVENT
DTSTART;TZID=Asia/Tokyo:20271101T080000
DTEND;TZID=Asia/Tokyo:20271101T170000
DTSTAMP:20260424T195909
CREATED:20250111T045030Z
LAST-MODIFIED:20250111T045030Z
UID:10001060-1825056000-1825088400@www.ohgahall.or.jp
SUMMARY:休館日
DESCRIPTION:
URL:https://www.ohgahall.or.jp/event/10001060/
END:VEVENT
BEGIN:VEVENT
DTSTART;TZID=Asia/Tokyo:20271103T080000
DTEND;TZID=Asia/Tokyo:20271103T170000
DTSTAMP:20260424T195909
CREATED:20250111T044444Z
LAST-MODIFIED:20250111T044444Z
UID:10001057-1825228800-1825261200@www.ohgahall.or.jp
SUMMARY:文化の日
DESCRIPTION:
URL:https://www.ohgahall.or.jp/event/10001057/
END:VEVENT
BEGIN:VEVENT
DTSTART;TZID=Asia/Tokyo:20271103T080000
DTEND;TZID=Asia/Tokyo:20271103T170000
DTSTAMP:20260424T195909
CREATED:20251103T060757Z
LAST-MODIFIED:20251103T060757Z
UID:10001524-1825228800-1825261200@www.ohgahall.or.jp
SUMMARY:公演が計画されております
DESCRIPTION:
URL:https://www.ohgahall.or.jp/event/10001524/
END:VEVENT
BEGIN:VEVENT
DTSTART;TZID=Asia/Tokyo:20271104T080000
DTEND;TZID=Asia/Tokyo:20271104T170000
DTSTAMP:20260424T195909
CREATED:20250111T051011Z
LAST-MODIFIED:20250111T051011Z
UID:10001090-1825315200-1825347600@www.ohgahall.or.jp
SUMMARY:休館日
DESCRIPTION:
URL:https://www.ohgahall.or.jp/event/10001090/
END:VEVENT
BEGIN:VEVENT
DTSTART;TZID=Asia/Tokyo:20271105T080000
DTEND;TZID=Asia/Tokyo:20271105T170000
DTSTAMP:20260424T195909
CREATED:20251103T060927Z
LAST-MODIFIED:20251103T060927Z
UID:10001525-1825401600-1825434000@www.ohgahall.or.jp
SUMMARY:公演が計画されております
DESCRIPTION:
URL:https://www.ohgahall.or.jp/event/10001525/
END:VEVENT
BEGIN:VEVENT
DTSTART;TZID=Asia/Tokyo:20271106T080000
DTEND;TZID=Asia/Tokyo:20271106T170000
DTSTAMP:20260424T195909
CREATED:20251103T060950Z
LAST-MODIFIED:20251103T060950Z
UID:10001526-1825488000-1825520400@www.ohgahall.or.jp
SUMMARY:公演が計画されております
DESCRIPTION:
URL:https://www.ohgahall.or.jp/event/10001526/
END:VEVENT
BEGIN:VEVENT
DTSTART;TZID=Asia/Tokyo:20271108T080000
DTEND;TZID=Asia/Tokyo:20271108T170000
DTSTAMP:20260424T195909
CREATED:20250111T045050Z
LAST-MODIFIED:20250111T045050Z
UID:10001061-1825660800-1825693200@www.ohgahall.or.jp
SUMMARY:休館日
DESCRIPTION:
URL:https://www.ohgahall.or.jp/event/10001061/
END:VEVENT
BEGIN:VEVENT
DTSTART;TZID=Asia/Tokyo:20271113T080000
DTEND;TZID=Asia/Tokyo:20271113T170000
DTSTAMP:20260424T195909
CREATED:20260308T074721Z
LAST-MODIFIED:20260308T074721Z
UID:10001642-1826092800-1826125200@www.ohgahall.or.jp
SUMMARY:公演が計画されております
DESCRIPTION:
URL:https://www.ohgahall.or.jp/event/10001642/
END:VEVENT
BEGIN:VEVENT
DTSTART;TZID=Asia/Tokyo:20271115T080000
DTEND;TZID=Asia/Tokyo:20271115T170000
DTSTAMP:20260424T195909
CREATED:20250111T045110Z
LAST-MODIFIED:20250111T045110Z
UID:10001062-1826265600-1826298000@www.ohgahall.or.jp
SUMMARY:休館日
DESCRIPTION:
URL:https://www.ohgahall.or.jp/event/10001062/
END:VEVENT
BEGIN:VEVENT
DTSTART;TZID=Asia/Tokyo:20271116T080000
DTEND;TZID=Asia/Tokyo:20271116T170000
DTSTAMP:20260424T195909
CREATED:20260410T101039Z
LAST-MODIFIED:20260410T101039Z
UID:10001678-1826352000-1826384400@www.ohgahall.or.jp
SUMMARY:公演が計画されております
DESCRIPTION:
URL:https://www.ohgahall.or.jp/event/10001678/
END:VEVENT
BEGIN:VEVENT
DTSTART;TZID=Asia/Tokyo:20271120T080000
DTEND;TZID=Asia/Tokyo:20271120T170000
DTSTAMP:20260424T195909
CREATED:20251124T112719Z
LAST-MODIFIED:20251124T112719Z
UID:10001541-1826697600-1826730000@www.ohgahall.or.jp
SUMMARY:公演が計画されております
DESCRIPTION:
URL:https://www.ohgahall.or.jp/event/10001541/
END:VEVENT
BEGIN:VEVENT
DTSTART;TZID=Asia/Tokyo:20271121T080000
DTEND;TZID=Asia/Tokyo:20271121T170000
DTSTAMP:20260424T195909
CREATED:20251124T112741Z
LAST-MODIFIED:20251124T112741Z
UID:10001542-1826784000-1826816400@www.ohgahall.or.jp
SUMMARY:公演が計画されております
DESCRIPTION:
URL:https://www.ohgahall.or.jp/event/10001542/
END:VEVENT
BEGIN:VEVENT
DTSTART;TZID=Asia/Tokyo:20271122T080000
DTEND;TZID=Asia/Tokyo:20271122T170000
DTSTAMP:20260424T195909
CREATED:20250111T045127Z
LAST-MODIFIED:20250111T045127Z
UID:10001063-1826870400-1826902800@www.ohgahall.or.jp
SUMMARY:休館日
DESCRIPTION:
URL:https://www.ohgahall.or.jp/event/10001063/
END:VEVENT
BEGIN:VEVENT
DTSTART;TZID=Asia/Tokyo:20271123T080000
DTEND;TZID=Asia/Tokyo:20271123T170000
DTSTAMP:20260424T195909
CREATED:20250111T044505Z
LAST-MODIFIED:20250111T044505Z
UID:10001058-1826956800-1826989200@www.ohgahall.or.jp
SUMMARY:勤労感謝の日
DESCRIPTION:
URL:https://www.ohgahall.or.jp/event/10001058/
END:VEVENT
BEGIN:VEVENT
DTSTART;TZID=Asia/Tokyo:20271123T080000
DTEND;TZID=Asia/Tokyo:20271123T170000
DTSTAMP:20260424T195909
CREATED:20251123T085532Z
LAST-MODIFIED:20251123T085532Z
UID:10001534-1826956800-1826989200@www.ohgahall.or.jp
SUMMARY:公演が計画されております
DESCRIPTION:
URL:https://www.ohgahall.or.jp/event/10001534/
END:VEVENT
BEGIN:VEVENT
DTSTART;TZID=Asia/Tokyo:20271124T080000
DTEND;TZID=Asia/Tokyo:20271124T170000
DTSTAMP:20260424T195909
CREATED:20250906T062221Z
LAST-MODIFIED:20250906T062221Z
UID:10001445-1827043200-1827075600@www.ohgahall.or.jp
SUMMARY:休館日
DESCRIPTION:
URL:https://www.ohgahall.or.jp/event/10001445/
END:VEVENT
BEGIN:VEVENT
DTSTART;TZID=Asia/Tokyo:20271127T080000
DTEND;TZID=Asia/Tokyo:20271127T170000
DTSTAMP:20260424T195909
CREATED:20251127T054936Z
LAST-MODIFIED:20251127T054936Z
UID:10001543-1827302400-1827334800@www.ohgahall.or.jp
SUMMARY:公演が計画されております
DESCRIPTION:
URL:https://www.ohgahall.or.jp/event/10001543/
END:VEVENT
BEGIN:VEVENT
DTSTART;TZID=Asia/Tokyo:20271128T080000
DTEND;TZID=Asia/Tokyo:20271128T170000
DTSTAMP:20260424T195909
CREATED:20251127T054953Z
LAST-MODIFIED:20251127T054953Z
UID:10001544-1827388800-1827421200@www.ohgahall.or.jp
SUMMARY:公演が計画されております
DESCRIPTION:
URL:https://www.ohgahall.or.jp/event/10001544/
END:VEVENT
BEGIN:VEVENT
DTSTART;TZID=Asia/Tokyo:20271129T080000
DTEND;TZID=Asia/Tokyo:20271129T170000
DTSTAMP:20260424T195909
CREATED:20250111T045147Z
LAST-MODIFIED:20250111T045147Z
UID:10001064-1827475200-1827507600@www.ohgahall.or.jp
SUMMARY:休館日
DESCRIPTION:
URL:https://www.ohgahall.or.jp/event/10001064/
END:VEVENT
END:VCALENDAR