BEGIN:VCALENDAR
VERSION:2.0
PRODID:-//軽井沢大賀ホール - ECPv6.3.1//NONSGML v1.0//EN
CALSCALE:GREGORIAN
METHOD:PUBLISH
X-WR-CALNAME:軽井沢大賀ホール
X-ORIGINAL-URL:https://www.ohgahall.or.jp
X-WR-CALDESC:軽井沢大賀ホール のイベント
REFRESH-INTERVAL;VALUE=DURATION:PT1H
X-Robots-Tag:noindex
X-PUBLISHED-TTL:PT1H
BEGIN:VTIMEZONE
TZID:Asia/Tokyo
BEGIN:STANDARD
TZOFFSETFROM:+0900
TZOFFSETTO:+0900
TZNAME:JST
DTSTART:20270101T000000
END:STANDARD
END:VTIMEZONE
BEGIN:VEVENT
DTSTART;TZID=Asia/Tokyo:20270703T080000
DTEND;TZID=Asia/Tokyo:20270703T170000
DTSTAMP:20260422T133739
CREATED:20250801T101601Z
LAST-MODIFIED:20250801T101601Z
UID:10001401-1814601600-1814634000@www.ohgahall.or.jp
SUMMARY:公演が計画されております
DESCRIPTION:
URL:https://www.ohgahall.or.jp/event/10001401/
END:VEVENT
BEGIN:VEVENT
DTSTART;TZID=Asia/Tokyo:20270704T080000
DTEND;TZID=Asia/Tokyo:20270704T170000
DTSTAMP:20260422T133739
CREATED:20250801T101616Z
LAST-MODIFIED:20250801T101616Z
UID:10001402-1814688000-1814720400@www.ohgahall.or.jp
SUMMARY:公演が計画されております
DESCRIPTION:
URL:https://www.ohgahall.or.jp/event/10001402/
END:VEVENT
BEGIN:VEVENT
DTSTART;TZID=Asia/Tokyo:20270710T080000
DTEND;TZID=Asia/Tokyo:20270710T170000
DTSTAMP:20260422T133739
CREATED:20260402T003855Z
LAST-MODIFIED:20260402T003855Z
UID:10001666-1815206400-1815238800@www.ohgahall.or.jp
SUMMARY:準備・リハーサル
DESCRIPTION:
URL:https://www.ohgahall.or.jp/event/10001666/
END:VEVENT
BEGIN:VEVENT
DTSTART;TZID=Asia/Tokyo:20270711T080000
DTEND;TZID=Asia/Tokyo:20270711T170000
DTSTAMP:20260422T133739
CREATED:20260402T003833Z
LAST-MODIFIED:20260402T003833Z
UID:10001665-1815292800-1815325200@www.ohgahall.or.jp
SUMMARY:公園が計画されております
DESCRIPTION:
URL:https://www.ohgahall.or.jp/event/10001665/
END:VEVENT
BEGIN:VEVENT
DTSTART;TZID=Asia/Tokyo:20270717T080000
DTEND;TZID=Asia/Tokyo:20270717T170000
DTSTAMP:20260422T133739
CREATED:20250801T101511Z
LAST-MODIFIED:20250801T101511Z
UID:10001399-1815811200-1815843600@www.ohgahall.or.jp
SUMMARY:公演が計画されております
DESCRIPTION:
URL:https://www.ohgahall.or.jp/event/10001399/
END:VEVENT
BEGIN:VEVENT
DTSTART;TZID=Asia/Tokyo:20270718T080000
DTEND;TZID=Asia/Tokyo:20270718T170000
DTSTAMP:20260422T133739
CREATED:20250801T101525Z
LAST-MODIFIED:20250801T101525Z
UID:10001400-1815897600-1815930000@www.ohgahall.or.jp
SUMMARY:公演が計画されております
DESCRIPTION:
URL:https://www.ohgahall.or.jp/event/10001400/
END:VEVENT
BEGIN:VEVENT
DTSTART;TZID=Asia/Tokyo:20270719T080000
DTEND;TZID=Asia/Tokyo:20270719T170000
DTSTAMP:20260422T133739
CREATED:20250111T044021Z
LAST-MODIFIED:20250111T044021Z
UID:10001052-1815984000-1816016400@www.ohgahall.or.jp
SUMMARY:海の日
DESCRIPTION:
URL:https://www.ohgahall.or.jp/event/10001052/
END:VEVENT
BEGIN:VEVENT
DTSTART;TZID=Asia/Tokyo:20270719T080000
DTEND;TZID=Asia/Tokyo:20270719T170000
DTSTAMP:20260422T133739
CREATED:20260402T023258Z
LAST-MODIFIED:20260402T023258Z
UID:10001669-1815984000-1816016400@www.ohgahall.or.jp
SUMMARY:公演が計画されております
DESCRIPTION:
URL:https://www.ohgahall.or.jp/event/10001669/
END:VEVENT
BEGIN:VEVENT
DTSTART;TZID=Asia/Tokyo:20270722T080000
DTEND;TZID=Asia/Tokyo:20270722T170000
DTSTAMP:20260422T133739
CREATED:20251203T063035Z
LAST-MODIFIED:20251203T063035Z
UID:10001551-1816243200-1816275600@www.ohgahall.or.jp
SUMMARY:公演が計画されております
DESCRIPTION:
URL:https://www.ohgahall.or.jp/event/10001551/
END:VEVENT
BEGIN:VEVENT
DTSTART;TZID=Asia/Tokyo:20270723T080000
DTEND;TZID=Asia/Tokyo:20270723T170000
DTSTAMP:20260422T133739
CREATED:20251203T063056Z
LAST-MODIFIED:20251203T063056Z
UID:10001552-1816329600-1816362000@www.ohgahall.or.jp
SUMMARY:公演が計画されております
DESCRIPTION:
URL:https://www.ohgahall.or.jp/event/10001552/
END:VEVENT
BEGIN:VEVENT
DTSTART;TZID=Asia/Tokyo:20270724T080000
DTEND;TZID=Asia/Tokyo:20270724T170000
DTSTAMP:20260422T133739
CREATED:20251203T063111Z
LAST-MODIFIED:20251203T063111Z
UID:10001553-1816416000-1816448400@www.ohgahall.or.jp
SUMMARY:公演が計画されております
DESCRIPTION:
URL:https://www.ohgahall.or.jp/event/10001553/
END:VEVENT
BEGIN:VEVENT
DTSTART;TZID=Asia/Tokyo:20270725T080000
DTEND;TZID=Asia/Tokyo:20270725T170000
DTSTAMP:20260422T133739
CREATED:20251203T063134Z
LAST-MODIFIED:20251203T063134Z
UID:10001554-1816502400-1816534800@www.ohgahall.or.jp
SUMMARY:公演が計画されております
DESCRIPTION:
URL:https://www.ohgahall.or.jp/event/10001554/
END:VEVENT
BEGIN:VEVENT
DTSTART;TZID=Asia/Tokyo:20270726T080000
DTEND;TZID=Asia/Tokyo:20270726T170000
DTSTAMP:20260422T133739
CREATED:20260107T070812Z
LAST-MODIFIED:20260107T070812Z
UID:10001583-1816588800-1816621200@www.ohgahall.or.jp
SUMMARY:公演が計画されております
DESCRIPTION:
URL:https://www.ohgahall.or.jp/event/10001583/
END:VEVENT
BEGIN:VEVENT
DTSTART;TZID=Asia/Tokyo:20270727T080000
DTEND;TZID=Asia/Tokyo:20270727T170000
DTSTAMP:20260422T133739
CREATED:20260107T070838Z
LAST-MODIFIED:20260107T070838Z
UID:10001584-1816675200-1816707600@www.ohgahall.or.jp
SUMMARY:公演が計画されております
DESCRIPTION:
URL:https://www.ohgahall.or.jp/event/10001584/
END:VEVENT
BEGIN:VEVENT
DTSTART;TZID=Asia/Tokyo:20270728T080000
DTEND;TZID=Asia/Tokyo:20270728T170000
DTSTAMP:20260422T133739
CREATED:20260107T071041Z
LAST-MODIFIED:20260107T071041Z
UID:10001585-1816761600-1816794000@www.ohgahall.or.jp
SUMMARY:公演が計画されております
DESCRIPTION:
URL:https://www.ohgahall.or.jp/event/10001585/
END:VEVENT
BEGIN:VEVENT
DTSTART;TZID=Asia/Tokyo:20270729T080000
DTEND;TZID=Asia/Tokyo:20270729T170000
DTSTAMP:20260422T133739
CREATED:20251203T063202Z
LAST-MODIFIED:20251203T063202Z
UID:10001555-1816848000-1816880400@www.ohgahall.or.jp
SUMMARY:公演が計画されております
DESCRIPTION:
URL:https://www.ohgahall.or.jp/event/10001555/
END:VEVENT
BEGIN:VEVENT
DTSTART;TZID=Asia/Tokyo:20270730T080000
DTEND;TZID=Asia/Tokyo:20270730T170000
DTSTAMP:20260422T133739
CREATED:20251203T063216Z
LAST-MODIFIED:20251203T063216Z
UID:10001556-1816934400-1816966800@www.ohgahall.or.jp
SUMMARY:公演が計画されております
DESCRIPTION:
URL:https://www.ohgahall.or.jp/event/10001556/
END:VEVENT
BEGIN:VEVENT
DTSTART;TZID=Asia/Tokyo:20270731T080000
DTEND;TZID=Asia/Tokyo:20270731T170000
DTSTAMP:20260422T133739
CREATED:20250801T101419Z
LAST-MODIFIED:20250801T101419Z
UID:10001398-1817020800-1817053200@www.ohgahall.or.jp
SUMMARY:公演が計画されております
DESCRIPTION:
URL:https://www.ohgahall.or.jp/event/10001398/
END:VEVENT
END:VCALENDAR