BEGIN:VCALENDAR
VERSION:2.0
PRODID:-//軽井沢大賀ホール - ECPv6.3.1//NONSGML v1.0//EN
CALSCALE:GREGORIAN
METHOD:PUBLISH
X-WR-CALNAME:軽井沢大賀ホール
X-ORIGINAL-URL:https://www.ohgahall.or.jp
X-WR-CALDESC:軽井沢大賀ホール のイベント
REFRESH-INTERVAL;VALUE=DURATION:PT1H
X-Robots-Tag:noindex
X-PUBLISHED-TTL:PT1H
BEGIN:VTIMEZONE
TZID:Asia/Tokyo
BEGIN:STANDARD
TZOFFSETFROM:+0900
TZOFFSETTO:+0900
TZNAME:JST
DTSTART:20270101T000000
END:STANDARD
END:VTIMEZONE
BEGIN:VEVENT
DTSTART;TZID=Asia/Tokyo:20270405T080000
DTEND;TZID=Asia/Tokyo:20270405T170000
DTSTAMP:20260422T091158
CREATED:20251012T054620Z
LAST-MODIFIED:20251012T054620Z
UID:10001479-1806912000-1806944400@www.ohgahall.or.jp
SUMMARY:休館日
DESCRIPTION:
URL:https://www.ohgahall.or.jp/event/10001479/
END:VEVENT
BEGIN:VEVENT
DTSTART;TZID=Asia/Tokyo:20270410T080000
DTEND;TZID=Asia/Tokyo:20270410T170000
DTSTAMP:20260422T091158
CREATED:20251211T013254Z
LAST-MODIFIED:20260402T023445Z
UID:10001565-1807344000-1807376400@www.ohgahall.or.jp
SUMMARY:公演が計画されております
DESCRIPTION:
URL:https://www.ohgahall.or.jp/event/10001565/
END:VEVENT
BEGIN:VEVENT
DTSTART;TZID=Asia/Tokyo:20270412T080000
DTEND;TZID=Asia/Tokyo:20270412T170000
DTSTAMP:20260422T091158
CREATED:20251012T054647Z
LAST-MODIFIED:20251012T054647Z
UID:10001480-1807516800-1807549200@www.ohgahall.or.jp
SUMMARY:休館日
DESCRIPTION:
URL:https://www.ohgahall.or.jp/event/10001480/
END:VEVENT
BEGIN:VEVENT
DTSTART;TZID=Asia/Tokyo:20270418T080000
DTEND;TZID=Asia/Tokyo:20270418T170000
DTSTAMP:20260422T091158
CREATED:20260405T074606Z
LAST-MODIFIED:20260405T074606Z
UID:10001671-1808035200-1808067600@www.ohgahall.or.jp
SUMMARY:公演が計画されております
DESCRIPTION:
URL:https://www.ohgahall.or.jp/%tribe_events_slug%/%post_id%/2027-04-18/
END:VEVENT
BEGIN:VEVENT
DTSTART;TZID=Asia/Tokyo:20270419T080000
DTEND;TZID=Asia/Tokyo:20270419T170000
DTSTAMP:20260422T091158
CREATED:20251012T054711Z
LAST-MODIFIED:20251012T054711Z
UID:10001481-1808121600-1808154000@www.ohgahall.or.jp
SUMMARY:休館日
DESCRIPTION:
URL:https://www.ohgahall.or.jp/event/10001481/
END:VEVENT
BEGIN:VEVENT
DTSTART;TZID=Asia/Tokyo:20270424T080000
DTEND;TZID=Asia/Tokyo:20270424T170000
DTSTAMP:20260422T091158
CREATED:20250128T021127Z
LAST-MODIFIED:20250626T072439Z
UID:10001134-1808553600-1808586000@www.ohgahall.or.jp
SUMMARY:公演が計画されております
DESCRIPTION:
URL:https://www.ohgahall.or.jp/event/10001134/
END:VEVENT
BEGIN:VEVENT
DTSTART;TZID=Asia/Tokyo:20270425T080000
DTEND;TZID=Asia/Tokyo:20270425T170000
DTSTAMP:20260422T091158
CREATED:20250128T021203Z
LAST-MODIFIED:20250626T072521Z
UID:10001135-1808640000-1808672400@www.ohgahall.or.jp
SUMMARY:公演が計画されております
DESCRIPTION:
URL:https://www.ohgahall.or.jp/event/10001135/
END:VEVENT
BEGIN:VEVENT
DTSTART;TZID=Asia/Tokyo:20270426T080000
DTEND;TZID=Asia/Tokyo:20270426T170000
DTSTAMP:20260422T091158
CREATED:20251012T054740Z
LAST-MODIFIED:20251012T054740Z
UID:10001482-1808726400-1808758800@www.ohgahall.or.jp
SUMMARY:休館日
DESCRIPTION:
URL:https://www.ohgahall.or.jp/event/10001482/
END:VEVENT
BEGIN:VEVENT
DTSTART;TZID=Asia/Tokyo:20270428T080000
DTEND;TZID=Asia/Tokyo:20270428T170000
DTSTAMP:20260422T091158
CREATED:20250111T042904Z
LAST-MODIFIED:20250111T051439Z
UID:10001040-1808899200-1808931600@www.ohgahall.or.jp
SUMMARY:使用の予定がございます
DESCRIPTION:
URL:https://www.ohgahall.or.jp/event/10001040/
END:VEVENT
BEGIN:VEVENT
DTSTART;TZID=Asia/Tokyo:20270429T080000
DTEND;TZID=Asia/Tokyo:20270429T170000
DTSTAMP:20260422T091158
CREATED:20250111T042923Z
LAST-MODIFIED:20250111T043521Z
UID:10001041-1808985600-1809018000@www.ohgahall.or.jp
SUMMARY:使用の予定がございます
DESCRIPTION:
URL:https://www.ohgahall.or.jp/event/10001041/
END:VEVENT
BEGIN:VEVENT
DTSTART;TZID=Asia/Tokyo:20270429T080000
DTEND;TZID=Asia/Tokyo:20270429T170000
DTSTAMP:20260422T091158
CREATED:20250111T043829Z
LAST-MODIFIED:20250111T043829Z
UID:10001048-1808985600-1809018000@www.ohgahall.or.jp
SUMMARY:昭和の日
DESCRIPTION:
URL:https://www.ohgahall.or.jp/event/10001048/
END:VEVENT
BEGIN:VEVENT
DTSTART;TZID=Asia/Tokyo:20270430T080000
DTEND;TZID=Asia/Tokyo:20270430T170000
DTSTAMP:20260422T091158
CREATED:20250111T043243Z
LAST-MODIFIED:20250111T043455Z
UID:10001042-1809072000-1809104400@www.ohgahall.or.jp
SUMMARY:使用の予定がございます
DESCRIPTION:
URL:https://www.ohgahall.or.jp/event/10001042/
END:VEVENT
END:VCALENDAR