BEGIN:VCALENDAR
VERSION:2.0
PRODID:-//軽井沢大賀ホール - ECPv6.3.1//NONSGML v1.0//EN
CALSCALE:GREGORIAN
METHOD:PUBLISH
X-ORIGINAL-URL:https://www.ohgahall.or.jp
X-WR-CALDESC:軽井沢大賀ホール のイベント
REFRESH-INTERVAL;VALUE=DURATION:PT1H
X-Robots-Tag:noindex
X-PUBLISHED-TTL:PT1H
BEGIN:VTIMEZONE
TZID:Asia/Tokyo
BEGIN:STANDARD
TZOFFSETFROM:+0900
TZOFFSETTO:+0900
TZNAME:JST
DTSTART:20270101T000000
END:STANDARD
END:VTIMEZONE
BEGIN:VEVENT
DTSTART;TZID=Asia/Tokyo:20270201T080000
DTEND;TZID=Asia/Tokyo:20270201T170000
DTSTAMP:20260422T060937
CREATED:20241021T074619Z
LAST-MODIFIED:20241021T074619Z
UID:10000913-1801468800-1801501200@www.ohgahall.or.jp
SUMMARY:休館日
DESCRIPTION:
URL:https://www.ohgahall.or.jp/event/10000913/
END:VEVENT
BEGIN:VEVENT
DTSTART;TZID=Asia/Tokyo:20270202T080000
DTEND;TZID=Asia/Tokyo:20270202T170000
DTSTAMP:20260422T060937
CREATED:20241220T022334Z
LAST-MODIFIED:20241220T024240Z
UID:10001010-1801555200-1801587600@www.ohgahall.or.jp
SUMMARY:施設工事
DESCRIPTION:
URL:https://www.ohgahall.or.jp/event/10001010/
END:VEVENT
BEGIN:VEVENT
DTSTART;TZID=Asia/Tokyo:20270203T080000
DTEND;TZID=Asia/Tokyo:20270203T170000
DTSTAMP:20260422T060937
CREATED:20241220T022355Z
LAST-MODIFIED:20241220T024257Z
UID:10001011-1801641600-1801674000@www.ohgahall.or.jp
SUMMARY:施設工事
DESCRIPTION:
URL:https://www.ohgahall.or.jp/event/10001011/
END:VEVENT
BEGIN:VEVENT
DTSTART;TZID=Asia/Tokyo:20270204T080000
DTEND;TZID=Asia/Tokyo:20270204T170000
DTSTAMP:20260422T060937
CREATED:20241220T022515Z
LAST-MODIFIED:20241220T024315Z
UID:10001013-1801728000-1801760400@www.ohgahall.or.jp
SUMMARY:施設工事
DESCRIPTION:
URL:https://www.ohgahall.or.jp/event/10001013/
END:VEVENT
BEGIN:VEVENT
DTSTART;TZID=Asia/Tokyo:20270205T080000
DTEND;TZID=Asia/Tokyo:20270205T170000
DTSTAMP:20260422T060937
CREATED:20241220T022537Z
LAST-MODIFIED:20241220T024330Z
UID:10001014-1801814400-1801846800@www.ohgahall.or.jp
SUMMARY:施設工事
DESCRIPTION:
URL:https://www.ohgahall.or.jp/event/10001014/
END:VEVENT
BEGIN:VEVENT
DTSTART;TZID=Asia/Tokyo:20270206T080000
DTEND;TZID=Asia/Tokyo:20270206T170000
DTSTAMP:20260422T060937
CREATED:20241220T024735Z
LAST-MODIFIED:20241220T024742Z
UID:10001024-1801900800-1801933200@www.ohgahall.or.jp
SUMMARY:施設工事
DESCRIPTION:
URL:https://www.ohgahall.or.jp/event/10001024/
END:VEVENT
BEGIN:VEVENT
DTSTART;TZID=Asia/Tokyo:20270207T080000
DTEND;TZID=Asia/Tokyo:20270207T170000
DTSTAMP:20260422T060937
CREATED:20241220T022556Z
LAST-MODIFIED:20241220T024347Z
UID:10001015-1801987200-1802019600@www.ohgahall.or.jp
SUMMARY:施設工事
DESCRIPTION:
URL:https://www.ohgahall.or.jp/event/10001015/
END:VEVENT
BEGIN:VEVENT
DTSTART;TZID=Asia/Tokyo:20270208T080000
DTEND;TZID=Asia/Tokyo:20270208T170000
DTSTAMP:20260422T060937
CREATED:20241021T074640Z
LAST-MODIFIED:20241021T074640Z
UID:10000914-1802073600-1802106000@www.ohgahall.or.jp
SUMMARY:休館日
DESCRIPTION:
URL:https://www.ohgahall.or.jp/event/10000914/
END:VEVENT
BEGIN:VEVENT
DTSTART;TZID=Asia/Tokyo:20270209T080000
DTEND;TZID=Asia/Tokyo:20270209T170000
DTSTAMP:20260422T060937
CREATED:20241220T022614Z
LAST-MODIFIED:20241220T024405Z
UID:10001016-1802160000-1802192400@www.ohgahall.or.jp
SUMMARY:施設工事
DESCRIPTION:
URL:https://www.ohgahall.or.jp/event/10001016/
END:VEVENT
BEGIN:VEVENT
DTSTART;TZID=Asia/Tokyo:20270210T080000
DTEND;TZID=Asia/Tokyo:20270210T170000
DTSTAMP:20260422T060937
CREATED:20241220T022638Z
LAST-MODIFIED:20241220T024419Z
UID:10001017-1802246400-1802278800@www.ohgahall.or.jp
SUMMARY:施設工事
DESCRIPTION:
URL:https://www.ohgahall.or.jp/event/10001017/
END:VEVENT
BEGIN:VEVENT
DTSTART;TZID=Asia/Tokyo:20270211T080000
DTEND;TZID=Asia/Tokyo:20270211T170000
DTSTAMP:20260422T060937
CREATED:20241021T074710Z
LAST-MODIFIED:20241021T074710Z
UID:10000915-1802332800-1802365200@www.ohgahall.or.jp
SUMMARY:建国記念の日
DESCRIPTION:
URL:https://www.ohgahall.or.jp/event/10000915/
END:VEVENT
BEGIN:VEVENT
DTSTART;TZID=Asia/Tokyo:20270211T080000
DTEND;TZID=Asia/Tokyo:20270211T170000
DTSTAMP:20260422T060937
CREATED:20241220T023101Z
LAST-MODIFIED:20241220T023449Z
UID:10001018-1802332800-1802365200@www.ohgahall.or.jp
SUMMARY:施設工事
DESCRIPTION:
URL:https://www.ohgahall.or.jp/event/10001018/
END:VEVENT
BEGIN:VEVENT
DTSTART;TZID=Asia/Tokyo:20270212T080000
DTEND;TZID=Asia/Tokyo:20270212T170000
DTSTAMP:20260422T060937
CREATED:20241021T074732Z
LAST-MODIFIED:20241021T074732Z
UID:10000916-1802419200-1802451600@www.ohgahall.or.jp
SUMMARY:休館日
DESCRIPTION:
URL:https://www.ohgahall.or.jp/event/10000916/
END:VEVENT
BEGIN:VEVENT
DTSTART;TZID=Asia/Tokyo:20270213T080000
DTEND;TZID=Asia/Tokyo:20270213T170000
DTSTAMP:20260422T060937
CREATED:20241220T023134Z
LAST-MODIFIED:20241220T023223Z
UID:10001020-1802505600-1802538000@www.ohgahall.or.jp
SUMMARY:施設工事
DESCRIPTION:
URL:https://www.ohgahall.or.jp/event/10001020/
END:VEVENT
BEGIN:VEVENT
DTSTART;TZID=Asia/Tokyo:20270214T080000
DTEND;TZID=Asia/Tokyo:20270214T170000
DTSTAMP:20260422T060937
CREATED:20241220T023150Z
LAST-MODIFIED:20241220T023207Z
UID:10001021-1802592000-1802624400@www.ohgahall.or.jp
SUMMARY:施設工事
DESCRIPTION:
URL:https://www.ohgahall.or.jp/event/10001021/
END:VEVENT
BEGIN:VEVENT
DTSTART;TZID=Asia/Tokyo:20270215T080000
DTEND;TZID=Asia/Tokyo:20270215T170000
DTSTAMP:20260422T060937
CREATED:20241021T074946Z
LAST-MODIFIED:20241021T074946Z
UID:10000921-1802678400-1802710800@www.ohgahall.or.jp
SUMMARY:休館日
DESCRIPTION:
URL:https://www.ohgahall.or.jp/event/10000921/
END:VEVENT
BEGIN:VEVENT
DTSTART;TZID=Asia/Tokyo:20270216T080000
DTEND;TZID=Asia/Tokyo:20270216T170000
DTSTAMP:20260422T060937
CREATED:20241220T024636Z
LAST-MODIFIED:20241220T024636Z
UID:10001023-1802764800-1802797200@www.ohgahall.or.jp
SUMMARY:施設工事
DESCRIPTION:
URL:https://www.ohgahall.or.jp/event/10001023/
END:VEVENT
BEGIN:VEVENT
DTSTART;TZID=Asia/Tokyo:20270217T080000
DTEND;TZID=Asia/Tokyo:20270217T170000
DTSTAMP:20260422T060937
CREATED:20241220T024553Z
LAST-MODIFIED:20241220T024553Z
UID:10001022-1802851200-1802883600@www.ohgahall.or.jp
SUMMARY:施設工事
DESCRIPTION:
URL:https://www.ohgahall.or.jp/event/10001022/
END:VEVENT
BEGIN:VEVENT
DTSTART;TZID=Asia/Tokyo:20270218T080000
DTEND;TZID=Asia/Tokyo:20270218T170000
DTSTAMP:20260422T060937
CREATED:20241220T022316Z
LAST-MODIFIED:20241220T024521Z
UID:10001009-1802937600-1802970000@www.ohgahall.or.jp
SUMMARY:施設工事
DESCRIPTION:
URL:https://www.ohgahall.or.jp/event/10001009/
END:VEVENT
BEGIN:VEVENT
DTSTART;TZID=Asia/Tokyo:20270219T080000
DTEND;TZID=Asia/Tokyo:20270219T170000
DTSTAMP:20260422T060937
CREATED:20241021T075241Z
LAST-MODIFIED:20241021T075241Z
UID:10000924-1803024000-1803056400@www.ohgahall.or.jp
SUMMARY:準備・リハーサル
DESCRIPTION:
URL:https://www.ohgahall.or.jp/event/10000924/
END:VEVENT
BEGIN:VEVENT
DTSTART;TZID=Asia/Tokyo:20270220T080000
DTEND;TZID=Asia/Tokyo:20270220T170000
DTSTAMP:20260422T060937
CREATED:20241021T075308Z
LAST-MODIFIED:20241021T075308Z
UID:10000925-1803110400-1803142800@www.ohgahall.or.jp
SUMMARY:公演が計画されております
DESCRIPTION:
URL:https://www.ohgahall.or.jp/event/10000925/
END:VEVENT
BEGIN:VEVENT
DTSTART;TZID=Asia/Tokyo:20270222T080000
DTEND;TZID=Asia/Tokyo:20270222T170000
DTSTAMP:20260422T060937
CREATED:20241021T074813Z
LAST-MODIFIED:20241021T074813Z
UID:10000918-1803283200-1803315600@www.ohgahall.or.jp
SUMMARY:休館日
DESCRIPTION:
URL:https://www.ohgahall.or.jp/event/10000918/
END:VEVENT
BEGIN:VEVENT
DTSTART;TZID=Asia/Tokyo:20270223T080000
DTEND;TZID=Asia/Tokyo:20270223T170000
DTSTAMP:20260422T060937
CREATED:20241021T074836Z
LAST-MODIFIED:20241021T074836Z
UID:10000919-1803369600-1803402000@www.ohgahall.or.jp
SUMMARY:天皇誕生日
DESCRIPTION:
URL:https://www.ohgahall.or.jp/event/10000919/
END:VEVENT
BEGIN:VEVENT
DTSTART;TZID=Asia/Tokyo:20270224T080000
DTEND;TZID=Asia/Tokyo:20270224T170000
DTSTAMP:20260422T060937
CREATED:20241021T074854Z
LAST-MODIFIED:20241021T074854Z
UID:10000920-1803456000-1803488400@www.ohgahall.or.jp
SUMMARY:休館日
DESCRIPTION:
URL:https://www.ohgahall.or.jp/event/10000920/
END:VEVENT
BEGIN:VEVENT
DTSTART;TZID=Asia/Tokyo:20270226T080000
DTEND;TZID=Asia/Tokyo:20270226T170000
DTSTAMP:20260422T060937
CREATED:20241021T075325Z
LAST-MODIFIED:20241021T075325Z
UID:10000926-1803628800-1803661200@www.ohgahall.or.jp
SUMMARY:準備・リハーサル
DESCRIPTION:
URL:https://www.ohgahall.or.jp/event/10000926/
END:VEVENT
BEGIN:VEVENT
DTSTART;TZID=Asia/Tokyo:20270227T080000
DTEND;TZID=Asia/Tokyo:20270227T170000
DTSTAMP:20260422T060937
CREATED:20241021T075343Z
LAST-MODIFIED:20241021T075343Z
UID:10000927-1803715200-1803747600@www.ohgahall.or.jp
SUMMARY:公演が計画されております
DESCRIPTION:
URL:https://www.ohgahall.or.jp/event/10000927/
END:VEVENT
END:VCALENDAR