BEGIN:VCALENDAR
VERSION:2.0
PRODID:-//軽井沢大賀ホール - ECPv6.3.1//NONSGML v1.0//EN
CALSCALE:GREGORIAN
METHOD:PUBLISH
X-ORIGINAL-URL:https://www.ohgahall.or.jp
X-WR-CALDESC:軽井沢大賀ホール のイベント
REFRESH-INTERVAL;VALUE=DURATION:PT1H
X-Robots-Tag:noindex
X-PUBLISHED-TTL:PT1H
BEGIN:VTIMEZONE
TZID:Asia/Tokyo
BEGIN:STANDARD
TZOFFSETFROM:+0900
TZOFFSETTO:+0900
TZNAME:JST
DTSTART:20260101T000000
END:STANDARD
END:VTIMEZONE
BEGIN:VEVENT
DTSTART;TZID=Asia/Tokyo:20261001T080000
DTEND;TZID=Asia/Tokyo:20261001T170000
DTSTAMP:20260421T232327
CREATED:20250919T053149Z
LAST-MODIFIED:20250919T053149Z
UID:10001458-1790841600-1790874000@www.ohgahall.or.jp
SUMMARY:公演が計画されております
DESCRIPTION:
URL:https://www.ohgahall.or.jp/event/10001458/
END:VEVENT
BEGIN:VEVENT
DTSTART;TZID=Asia/Tokyo:20261003T080000
DTEND;TZID=Asia/Tokyo:20261003T170000
DTSTAMP:20260421T232327
CREATED:20250601T071335Z
LAST-MODIFIED:20250601T071335Z
UID:10001273-1791014400-1791046800@www.ohgahall.or.jp
SUMMARY:公演が計画されております
DESCRIPTION:
URL:https://www.ohgahall.or.jp/event/10001273/
END:VEVENT
BEGIN:VEVENT
DTSTART;TZID=Asia/Tokyo:20261004T080000
DTEND;TZID=Asia/Tokyo:20261004T170000
DTSTAMP:20260421T232327
CREATED:20250124T011944Z
LAST-MODIFIED:20250124T011944Z
UID:10001116-1791100800-1791133200@www.ohgahall.or.jp
SUMMARY:公演が計画されております
DESCRIPTION:
URL:https://www.ohgahall.or.jp/event/10001116/
END:VEVENT
BEGIN:VEVENT
DTSTART;TZID=Asia/Tokyo:20261008T080000
DTEND;TZID=Asia/Tokyo:20261008T170000
DTSTAMP:20260421T232327
CREATED:20251016T052913Z
LAST-MODIFIED:20251016T052913Z
UID:10001518-1791446400-1791478800@www.ohgahall.or.jp
SUMMARY:公演が計画されております
DESCRIPTION:
URL:https://www.ohgahall.or.jp/event/10001518/
END:VEVENT
BEGIN:VEVENT
DTSTART;TZID=Asia/Tokyo:20261010T080000
DTEND;TZID=Asia/Tokyo:20261010T170000
DTSTAMP:20260421T232327
CREATED:20241103T081646Z
LAST-MODIFIED:20241103T081646Z
UID:10000947-1791619200-1791651600@www.ohgahall.or.jp
SUMMARY:公演が計画されております
DESCRIPTION:
URL:https://www.ohgahall.or.jp/event/10000947/
END:VEVENT
BEGIN:VEVENT
DTSTART;TZID=Asia/Tokyo:20261011T080000
DTEND;TZID=Asia/Tokyo:20261011T170000
DTSTAMP:20260421T232327
CREATED:20250616T061604Z
LAST-MODIFIED:20250616T061604Z
UID:10001369-1791705600-1791738000@www.ohgahall.or.jp
SUMMARY:公演が計画されております
DESCRIPTION:
URL:https://www.ohgahall.or.jp/event/10001369/
END:VEVENT
BEGIN:VEVENT
DTSTART;TZID=Asia/Tokyo:20261012T080000
DTEND;TZID=Asia/Tokyo:20261012T170000
DTSTAMP:20260421T232327
CREATED:20240407T020811Z
LAST-MODIFIED:20240407T020811Z
UID:10000573-1791792000-1791824400@www.ohgahall.or.jp
SUMMARY:スポーツの日
DESCRIPTION:
URL:https://www.ohgahall.or.jp/event/10000573/
END:VEVENT
BEGIN:VEVENT
DTSTART;TZID=Asia/Tokyo:20261012T080000
DTEND;TZID=Asia/Tokyo:20261012T170000
DTSTAMP:20260421T232327
CREATED:20241010T121226Z
LAST-MODIFIED:20241010T121226Z
UID:10000851-1791792000-1791824400@www.ohgahall.or.jp
SUMMARY:公演が計画されております
DESCRIPTION:
URL:https://www.ohgahall.or.jp/event/10000851/
END:VEVENT
BEGIN:VEVENT
DTSTART;VALUE=DATE:20261014
DTEND;VALUE=DATE:20261015
DTSTAMP:20260421T232327
CREATED:20260417T030008Z
LAST-MODIFIED:20260419T003308Z
UID:10001686-1791936000-1792022399@www.ohgahall.or.jp
SUMMARY:ホットスタッフ軽井沢presents春風亭一之輔 軽井沢独演会 プロデュース：広瀬和生
DESCRIPTION:
URL:https://www.ohgahall.or.jp/event/10001686/
CATEGORIES:その他
ATTACH;FMTTYPE=image/jpeg:https://www.ohgahall.or.jp/K3PJBvmt/wp-content/uploads/2026/04/春風亭一之輔_チラシ1.jpg
END:VEVENT
BEGIN:VEVENT
DTSTART;TZID=Asia/Tokyo:20261016T080000
DTEND;TZID=Asia/Tokyo:20261016T170000
DTSTAMP:20260421T232327
CREATED:20241021T073452Z
LAST-MODIFIED:20241021T073452Z
UID:10000897-1792137600-1792170000@www.ohgahall.or.jp
SUMMARY:準備・リハーサル
DESCRIPTION:
URL:https://www.ohgahall.or.jp/event/10000897/
END:VEVENT
BEGIN:VEVENT
DTSTART;TZID=Asia/Tokyo:20261017T080000
DTEND;TZID=Asia/Tokyo:20261017T170000
DTSTAMP:20260421T232327
CREATED:20260319T084434Z
LAST-MODIFIED:20260319T084434Z
UID:10001654-1792224000-1792256400@www.ohgahall.or.jp
SUMMARY:公演が計画されております
DESCRIPTION:
URL:https://www.ohgahall.or.jp/event/10001654/
END:VEVENT
BEGIN:VEVENT
DTSTART;TZID=Asia/Tokyo:20261018T080000
DTEND;TZID=Asia/Tokyo:20261018T170000
DTSTAMP:20260421T232327
CREATED:20250616T061622Z
LAST-MODIFIED:20250616T061622Z
UID:10001370-1792310400-1792342800@www.ohgahall.or.jp
SUMMARY:公演が計画されております
DESCRIPTION:
URL:https://www.ohgahall.or.jp/event/10001370/
END:VEVENT
BEGIN:VEVENT
DTSTART;TZID=Asia/Tokyo:20261021T080000
DTEND;TZID=Asia/Tokyo:20261021T170000
DTSTAMP:20260421T232327
CREATED:20250601T071616Z
LAST-MODIFIED:20260207T084646Z
UID:10001275-1792569600-1792602000@www.ohgahall.or.jp
SUMMARY:公演が計画されております
DESCRIPTION:
URL:https://www.ohgahall.or.jp/event/10001275/
END:VEVENT
BEGIN:VEVENT
DTSTART;TZID=Asia/Tokyo:20261022T080000
DTEND;TZID=Asia/Tokyo:20261022T170000
DTSTAMP:20260421T232327
CREATED:20260207T084724Z
LAST-MODIFIED:20260207T084724Z
UID:10001618-1792656000-1792688400@www.ohgahall.or.jp
SUMMARY:公演が計画されております
DESCRIPTION:
URL:https://www.ohgahall.or.jp/event/10001618/
END:VEVENT
BEGIN:VEVENT
DTSTART;TZID=Asia/Tokyo:20261023T080000
DTEND;TZID=Asia/Tokyo:20261023T170000
DTSTAMP:20260421T232327
CREATED:20241021T073411Z
LAST-MODIFIED:20241021T073421Z
UID:10000895-1792742400-1792774800@www.ohgahall.or.jp
SUMMARY:準備・リハーサル
DESCRIPTION:
URL:https://www.ohgahall.or.jp/event/10000895/
END:VEVENT
BEGIN:VEVENT
DTSTART;TZID=Asia/Tokyo:20261024T080000
DTEND;TZID=Asia/Tokyo:20261024T170000
DTSTAMP:20260421T232327
CREATED:20241021T073436Z
LAST-MODIFIED:20241021T073436Z
UID:10000896-1792828800-1792861200@www.ohgahall.or.jp
SUMMARY:公演が計画されております
DESCRIPTION:
URL:https://www.ohgahall.or.jp/event/10000896/
END:VEVENT
BEGIN:VEVENT
DTSTART;TZID=Asia/Tokyo:20261025T080000
DTEND;TZID=Asia/Tokyo:20261025T170000
DTSTAMP:20260421T232327
CREATED:20250116T022113Z
LAST-MODIFIED:20250116T022113Z
UID:10001102-1792915200-1792947600@www.ohgahall.or.jp
SUMMARY:公演が計画されております
DESCRIPTION:
URL:https://www.ohgahall.or.jp/event/10001102/
END:VEVENT
BEGIN:VEVENT
DTSTART;TZID=Asia/Tokyo:20261029T080000
DTEND;TZID=Asia/Tokyo:20261029T170000
DTSTAMP:20260421T232327
CREATED:20260410T100727Z
LAST-MODIFIED:20260410T100727Z
UID:10001677-1793260800-1793293200@www.ohgahall.or.jp
SUMMARY:公演が計画されております
DESCRIPTION:
URL:https://www.ohgahall.or.jp/event/10001677/
END:VEVENT
BEGIN:VEVENT
DTSTART;TZID=Asia/Tokyo:20261030T080000
DTEND;TZID=Asia/Tokyo:20261030T170000
DTSTAMP:20260421T232327
CREATED:20260307T014736Z
LAST-MODIFIED:20260419T005431Z
UID:10001636-1793347200-1793379600@www.ohgahall.or.jp
SUMMARY:スーホの白い馬が軽井沢大賀ホールに走ってくる
DESCRIPTION:
URL:https://www.ohgahall.or.jp/event/10001636/
CATEGORIES:その他
END:VEVENT
BEGIN:VEVENT
DTSTART;TZID=Asia/Tokyo:20261031T080000
DTEND;TZID=Asia/Tokyo:20261031T170000
DTSTAMP:20260421T232327
CREATED:20250111T051725Z
LAST-MODIFIED:20250608T021407Z
UID:10001098-1793433600-1793466000@www.ohgahall.or.jp
SUMMARY:公演が計画されております
DESCRIPTION:
URL:https://www.ohgahall.or.jp/event/10001098/
END:VEVENT
END:VCALENDAR