BEGIN:VCALENDAR
VERSION:2.0
PRODID:-//軽井沢大賀ホール - ECPv6.3.1//NONSGML v1.0//EN
CALSCALE:GREGORIAN
METHOD:PUBLISH
X-ORIGINAL-URL:https://www.ohgahall.or.jp
X-WR-CALDESC:軽井沢大賀ホール のイベント
REFRESH-INTERVAL;VALUE=DURATION:PT1H
X-Robots-Tag:noindex
X-PUBLISHED-TTL:PT1H
BEGIN:VTIMEZONE
TZID:Asia/Tokyo
BEGIN:STANDARD
TZOFFSETFROM:+0900
TZOFFSETTO:+0900
TZNAME:JST
DTSTART:20260101T000000
END:STANDARD
END:VTIMEZONE
BEGIN:VEVENT
DTSTART;TZID=Asia/Tokyo:20260802T080000
DTEND;TZID=Asia/Tokyo:20260802T170000
DTSTAMP:20260421T194258
CREATED:20240803T024536Z
LAST-MODIFIED:20241021T072940Z
UID:10000771-1785657600-1785690000@www.ohgahall.or.jp
SUMMARY:公演が計画されております
DESCRIPTION:
URL:https://www.ohgahall.or.jp/event/10000771/
END:VEVENT
BEGIN:VEVENT
DTSTART;VALUE=DATE:20260803
DTEND;VALUE=DATE:20260804
DTSTAMP:20260421T194258
CREATED:20260307T074050Z
LAST-MODIFIED:20260415T021255Z
UID:10001639-1785715200-1785801599@www.ohgahall.or.jp
SUMMARY:マリアセレン デビュー10周年記念軽井沢コンサート
DESCRIPTION:
URL:https://www.ohgahall.or.jp/event/10001639/
CATEGORIES:クラシック
END:VEVENT
BEGIN:VEVENT
DTSTART;TZID=Asia/Tokyo:20260804T080000
DTEND;TZID=Asia/Tokyo:20260804T170000
DTSTAMP:20260421T194258
CREATED:20241220T020048Z
LAST-MODIFIED:20260313T062148Z
UID:10000994-1785830400-1785862800@www.ohgahall.or.jp
SUMMARY:公演が計画されております
DESCRIPTION:
URL:https://www.ohgahall.or.jp/event/10000994/
END:VEVENT
BEGIN:VEVENT
DTSTART;TZID=Asia/Tokyo:20260806T080000
DTEND;TZID=Asia/Tokyo:20260806T170000
DTSTAMP:20260421T194258
CREATED:20240812T095517Z
LAST-MODIFIED:20241021T073000Z
UID:10000780-1786003200-1786035600@www.ohgahall.or.jp
SUMMARY:関係者のみのご利用がございます
DESCRIPTION:
URL:https://www.ohgahall.or.jp/event/10000780/
END:VEVENT
BEGIN:VEVENT
DTSTART;TZID=Asia/Tokyo:20260807T080000
DTEND;TZID=Asia/Tokyo:20260807T170000
DTSTAMP:20260421T194258
CREATED:20240807T123644Z
LAST-MODIFIED:20241021T073017Z
UID:10000773-1786089600-1786122000@www.ohgahall.or.jp
SUMMARY:関係者のみのご利用がございます
DESCRIPTION:
URL:https://www.ohgahall.or.jp/event/10000773/
END:VEVENT
BEGIN:VEVENT
DTSTART;TZID=Asia/Tokyo:20260808T080000
DTEND;TZID=Asia/Tokyo:20260808T170000
DTSTAMP:20260421T194258
CREATED:20240812T095611Z
LAST-MODIFIED:20260406T022129Z
UID:10000781-1786176000-1786208400@www.ohgahall.or.jp
SUMMARY:軽井沢大賀ホールCLASSICS2026 渡辺貞夫カルテット2026「INTO TOMORROW」
DESCRIPTION:2026-08-09
URL:https://www.ohgahall.or.jp/event/10000781/
CATEGORIES:ジャズ
ATTACH;FMTTYPE=image/jpeg:https://www.ohgahall.or.jp/K3PJBvmt/wp-content/uploads/2026/04/2026-0808-OhgaHall_0313_page-0001.jpg
END:VEVENT
BEGIN:VEVENT
DTSTART;TZID=Asia/Tokyo:20260809T080000
DTEND;TZID=Asia/Tokyo:20260809T170000
DTSTAMP:20260421T194258
CREATED:20260406T020035Z
LAST-MODIFIED:20260406T051656Z
UID:10001668-1786262400-1786294800@www.ohgahall.or.jp
SUMMARY:軽井沢大賀ホールCLASSICS2026 阪田知樹 ベートーヴェンピアノ協奏曲リサイタル
DESCRIPTION:
URL:https://www.ohgahall.or.jp/event/10001668/
CATEGORIES:クラシック
ATTACH;FMTTYPE=image/jpeg:https://www.ohgahall.or.jp/K3PJBvmt/wp-content/uploads/2026/04/260809_karuizawa_flyer_260402_omote.jpg
END:VEVENT
BEGIN:VEVENT
DTSTART;TZID=Asia/Tokyo:20260810T080000
DTEND;TZID=Asia/Tokyo:20260810T170000
DTSTAMP:20260421T194258
CREATED:20240812T095350Z
LAST-MODIFIED:20241021T073103Z
UID:10000778-1786348800-1786381200@www.ohgahall.or.jp
SUMMARY:公演が計画されております
DESCRIPTION:2026-08-09
URL:https://www.ohgahall.or.jp/event/10000778/
END:VEVENT
BEGIN:VEVENT
DTSTART;TZID=Asia/Tokyo:20260811T080000
DTEND;TZID=Asia/Tokyo:20260811T170000
DTSTAMP:20260421T194258
CREATED:20240407T020652Z
LAST-MODIFIED:20240407T020652Z
UID:10000570-1786435200-1786467600@www.ohgahall.or.jp
SUMMARY:山の日
DESCRIPTION:
URL:https://www.ohgahall.or.jp/event/10000570/
END:VEVENT
BEGIN:VEVENT
DTSTART;TZID=Asia/Tokyo:20260811T080000
DTEND;TZID=Asia/Tokyo:20260811T170000
DTSTAMP:20260421T194258
CREATED:20240812T095414Z
LAST-MODIFIED:20241021T073115Z
UID:10000779-1786435200-1786467600@www.ohgahall.or.jp
SUMMARY:公演が計画されております
DESCRIPTION:
URL:https://www.ohgahall.or.jp/event/10000779/
END:VEVENT
BEGIN:VEVENT
DTSTART;TZID=Asia/Tokyo:20260812T080000
DTEND;TZID=Asia/Tokyo:20260812T170000
DTSTAMP:20260421T194258
CREATED:20260207T090447Z
LAST-MODIFIED:20260214T051619Z
UID:10001623-1786521600-1786554000@www.ohgahall.or.jp
SUMMARY:スペシャル納涼コンサート
DESCRIPTION:
URL:https://www.ohgahall.or.jp/event/10001623/
CATEGORIES:クラシック
ATTACH;FMTTYPE=image/jpeg:https://www.ohgahall.or.jp/K3PJBvmt/wp-content/uploads/2026/02/2963bbf9df6a376821973eca123b97e4.jpg
END:VEVENT
BEGIN:VEVENT
DTSTART;TZID=Asia/Tokyo:20260813T080000
DTEND;TZID=Asia/Tokyo:20260813T170000
DTSTAMP:20260421T194258
CREATED:20250818T090824Z
LAST-MODIFIED:20250818T090824Z
UID:10001407-1786608000-1786640400@www.ohgahall.or.jp
SUMMARY:公演が計画されております
DESCRIPTION:
URL:https://www.ohgahall.or.jp/event/10001407/
END:VEVENT
BEGIN:VEVENT
DTSTART;TZID=Asia/Tokyo:20260814T080000
DTEND;TZID=Asia/Tokyo:20260814T170000
DTSTAMP:20260421T194258
CREATED:20241107T082525Z
LAST-MODIFIED:20241107T082525Z
UID:10000948-1786694400-1786726800@www.ohgahall.or.jp
SUMMARY:準備・リハーサル
DESCRIPTION:
URL:https://www.ohgahall.or.jp/event/10000948/
END:VEVENT
BEGIN:VEVENT
DTSTART;TZID=Asia/Tokyo:20260815T080000
DTEND;TZID=Asia/Tokyo:20260815T170000
DTSTAMP:20260421T194258
CREATED:20241107T082625Z
LAST-MODIFIED:20260419T060338Z
UID:10000949-1786780800-1786813200@www.ohgahall.or.jp
SUMMARY:響 HIBIKI CONCERT
DESCRIPTION:
URL:https://www.ohgahall.or.jp/event/10000949/
CATEGORIES:クラシック
ATTACH;FMTTYPE=image/jpeg:https://www.ohgahall.or.jp/K3PJBvmt/wp-content/uploads/2024/11/20260419144308_00002-scaled.jpg
END:VEVENT
BEGIN:VEVENT
DTSTART;VALUE=DATE:20260816
DTEND;VALUE=DATE:20260817
DTSTAMP:20260421T194258
CREATED:20260404T090431Z
LAST-MODIFIED:20260417T002330Z
UID:10001670-1786838400-1786924799@www.ohgahall.or.jp
SUMMARY:軽井沢夏の狂言
DESCRIPTION:
URL:https://www.ohgahall.or.jp/event/10001670/
CATEGORIES:伝統芸能
ATTACH;FMTTYPE=image/jpeg:https://www.ohgahall.or.jp/K3PJBvmt/wp-content/uploads/2026/04/燎の会_軽井沢2026_A4_チラシ表ol_page-0001.jpg
END:VEVENT
BEGIN:VEVENT
DTSTART;TZID=Asia/Tokyo:20260817T080000
DTEND;TZID=Asia/Tokyo:20260817T170000
DTSTAMP:20260421T194258
CREATED:20260319T084654Z
LAST-MODIFIED:20260319T084654Z
UID:10001656-1786953600-1786986000@www.ohgahall.or.jp
SUMMARY:公演が計画されております
DESCRIPTION:
URL:https://www.ohgahall.or.jp/event/10001656/
END:VEVENT
BEGIN:VEVENT
DTSTART;TZID=Asia/Tokyo:20260821T080000
DTEND;TZID=Asia/Tokyo:20260821T170000
DTSTAMP:20260421T194258
CREATED:20260319T084627Z
LAST-MODIFIED:20260319T084627Z
UID:10001655-1787299200-1787331600@www.ohgahall.or.jp
SUMMARY:使用の予定がございます
DESCRIPTION:
URL:https://www.ohgahall.or.jp/event/10001655/
END:VEVENT
BEGIN:VEVENT
DTSTART;TZID=Asia/Tokyo:20260822T080000
DTEND;TZID=Asia/Tokyo:20260822T170000
DTSTAMP:20260421T194258
CREATED:20250401T055138Z
LAST-MODIFIED:20250401T055138Z
UID:10001211-1787385600-1787418000@www.ohgahall.or.jp
SUMMARY:公演が計画されております
DESCRIPTION:
URL:https://www.ohgahall.or.jp/event/10001211/
END:VEVENT
BEGIN:VEVENT
DTSTART;TZID=Asia/Tokyo:20260823T080000
DTEND;TZID=Asia/Tokyo:20260823T170000
DTSTAMP:20260421T194258
CREATED:20260406T060754Z
LAST-MODIFIED:20260406T060754Z
UID:10001673-1787472000-1787504400@www.ohgahall.or.jp
SUMMARY:公演が計画されております
DESCRIPTION:
URL:https://www.ohgahall.or.jp/event/10001673/
END:VEVENT
BEGIN:VEVENT
DTSTART;TZID=Asia/Tokyo:20260828T080000
DTEND;TZID=Asia/Tokyo:20260828T170000
DTSTAMP:20260421T194258
CREATED:20240829T125007Z
LAST-MODIFIED:20240829T125007Z
UID:10000799-1787904000-1787936400@www.ohgahall.or.jp
SUMMARY:公演が計画されております
DESCRIPTION:
URL:https://www.ohgahall.or.jp/event/10000799/
END:VEVENT
BEGIN:VEVENT
DTSTART;TZID=Asia/Tokyo:20260829T080000
DTEND;TZID=Asia/Tokyo:20260829T170000
DTSTAMP:20260421T194258
CREATED:20240829T125024Z
LAST-MODIFIED:20240829T125024Z
UID:10000800-1787990400-1788022800@www.ohgahall.or.jp
SUMMARY:公演が計画されております
DESCRIPTION:
URL:https://www.ohgahall.or.jp/event/10000800/
END:VEVENT
BEGIN:VEVENT
DTSTART;TZID=Asia/Tokyo:20260830T080000
DTEND;TZID=Asia/Tokyo:20260830T170000
DTSTAMP:20260421T194258
CREATED:20240829T125042Z
LAST-MODIFIED:20240829T125042Z
UID:10000801-1788076800-1788109200@www.ohgahall.or.jp
SUMMARY:公演が計画されております
DESCRIPTION:
URL:https://www.ohgahall.or.jp/event/10000801/
END:VEVENT
BEGIN:VEVENT
DTSTART;TZID=Asia/Tokyo:20260831T080000
DTEND;TZID=Asia/Tokyo:20260831T170000
DTSTAMP:20260421T194258
CREATED:20250526T023603Z
LAST-MODIFIED:20250718T063138Z
UID:10001266-1788163200-1788195600@www.ohgahall.or.jp
SUMMARY:公演が計画されております
DESCRIPTION:
URL:https://www.ohgahall.or.jp/event/10001266/
END:VEVENT
END:VCALENDAR