BEGIN:VCALENDAR
VERSION:2.0
PRODID:-//軽井沢大賀ホール - ECPv6.3.1//NONSGML v1.0//EN
CALSCALE:GREGORIAN
METHOD:PUBLISH
X-WR-CALNAME:軽井沢大賀ホール
X-ORIGINAL-URL:https://www.ohgahall.or.jp
X-WR-CALDESC:軽井沢大賀ホール のイベント
REFRESH-INTERVAL;VALUE=DURATION:PT1H
X-Robots-Tag:noindex
X-PUBLISHED-TTL:PT1H
BEGIN:VTIMEZONE
TZID:Asia/Tokyo
BEGIN:STANDARD
TZOFFSETFROM:+0900
TZOFFSETTO:+0900
TZNAME:JST
DTSTART:20260101T000000
END:STANDARD
END:VTIMEZONE
BEGIN:VEVENT
DTSTART;TZID=Asia/Tokyo:20260701T080000
DTEND;TZID=Asia/Tokyo:20260701T170000
DTSTAMP:20260421T175751
CREATED:20260130T064729Z
LAST-MODIFIED:20260130T064729Z
UID:10001609-1782892800-1782925200@www.ohgahall.or.jp
SUMMARY:関係者のみのご利用がございます
DESCRIPTION:
URL:https://www.ohgahall.or.jp/event/10001609/
END:VEVENT
BEGIN:VEVENT
DTSTART;TZID=Asia/Tokyo:20260702T080000
DTEND;TZID=Asia/Tokyo:20260702T170000
DTSTAMP:20260421T175751
CREATED:20260130T064756Z
LAST-MODIFIED:20260130T064756Z
UID:10001610-1782979200-1783011600@www.ohgahall.or.jp
SUMMARY:関係者のみのご利用がございます
DESCRIPTION:
URL:https://www.ohgahall.or.jp/event/10001610/
END:VEVENT
BEGIN:VEVENT
DTSTART;TZID=Asia/Tokyo:20260704T080000
DTEND;TZID=Asia/Tokyo:20260704T170000
DTSTAMP:20260421T175751
CREATED:20240722T014208Z
LAST-MODIFIED:20260417T002249Z
UID:10000760-1783152000-1783184400@www.ohgahall.or.jp
SUMMARY:千住真理子ヴァイオリン・リサイタル in 軽井沢
DESCRIPTION:
URL:https://www.ohgahall.or.jp/event/10000760/
CATEGORIES:クラシック
ATTACH;FMTTYPE=image/jpeg:https://www.ohgahall.or.jp/K3PJBvmt/wp-content/uploads/2024/07/senju_2607_omote.jpg
END:VEVENT
BEGIN:VEVENT
DTSTART;VALUE=DATE:20260705
DTEND;VALUE=DATE:20260706
DTSTAMP:20260421T175751
CREATED:20250615T022322Z
LAST-MODIFIED:20260325T032818Z
UID:10001361-1783209600-1783295999@www.ohgahall.or.jp
SUMMARY:バゼーダ祝祭カンマーオーケストラ 第11回定期演奏会
DESCRIPTION:
URL:https://www.ohgahall.or.jp/event/10001361/
CATEGORIES:クラシック
ATTACH;FMTTYPE=image/jpeg:https://www.ohgahall.or.jp/K3PJBvmt/wp-content/uploads/2025/06/2025.7.5-2_page-0001.jpg
END:VEVENT
BEGIN:VEVENT
DTSTART;TZID=Asia/Tokyo:20260711T080000
DTEND;TZID=Asia/Tokyo:20260711T170000
DTSTAMP:20260421T175751
CREATED:20260215T060051Z
LAST-MODIFIED:20260410T003348Z
UID:10001625-1783756800-1783789200@www.ohgahall.or.jp
SUMMARY:杉山清貴 acoustic solo tour 2026
DESCRIPTION:
URL:https://www.ohgahall.or.jp/event/10001625/
CATEGORIES:ポップス
END:VEVENT
BEGIN:VEVENT
DTSTART;TZID=Asia/Tokyo:20260712T080000
DTEND;TZID=Asia/Tokyo:20260712T170000
DTSTAMP:20260421T175751
CREATED:20251130T010357Z
LAST-MODIFIED:20251130T010357Z
UID:10001549-1783843200-1783875600@www.ohgahall.or.jp
SUMMARY:公演が計画されております
DESCRIPTION:
URL:https://www.ohgahall.or.jp/event/10001549/
END:VEVENT
BEGIN:VEVENT
DTSTART;VALUE=DATE:20260718
DTEND;VALUE=DATE:20260719
DTSTAMP:20260421T175751
CREATED:20260417T030020Z
LAST-MODIFIED:20260415T093440Z
UID:10001682-1784332800-1784419199@www.ohgahall.or.jp
SUMMARY:TOSHIKI KADOMATSU Live in KARUIZAWA 2026 "Singin' in the Forest"
DESCRIPTION:
URL:https://www.ohgahall.or.jp/event/10001682/
CATEGORIES:ポップス
END:VEVENT
BEGIN:VEVENT
DTSTART;VALUE=DATE:20260719
DTEND;VALUE=DATE:20260720
DTSTAMP:20260421T175751
CREATED:20260417T030025Z
LAST-MODIFIED:20260415T093654Z
UID:10001683-1784419200-1784505599@www.ohgahall.or.jp
SUMMARY:TOSHIKI KADOMATSU Live in KARUIZAWA 2026 "Singin' in the Forest"
DESCRIPTION:
URL:https://www.ohgahall.or.jp/event/10001683/
CATEGORIES:ポップス
END:VEVENT
BEGIN:VEVENT
DTSTART;TZID=Asia/Tokyo:20260720T080000
DTEND;TZID=Asia/Tokyo:20260720T170000
DTSTAMP:20260421T175751
CREATED:20240407T020617Z
LAST-MODIFIED:20240407T020951Z
UID:10000569-1784534400-1784566800@www.ohgahall.or.jp
SUMMARY:海の日
DESCRIPTION:
URL:https://www.ohgahall.or.jp/event/10000569/
END:VEVENT
BEGIN:VEVENT
DTSTART;TZID=Asia/Tokyo:20260720T080000
DTEND;TZID=Asia/Tokyo:20260720T170000
DTSTAMP:20260421T175751
CREATED:20260402T060033Z
LAST-MODIFIED:20260421T053912Z
UID:10001664-1784534400-1784566800@www.ohgahall.or.jp
SUMMARY:原田知世 Acoustic Ensemble Tour 2026
DESCRIPTION:
URL:https://www.ohgahall.or.jp/event/10001664/
CATEGORIES:ポップス
ATTACH;FMTTYPE=image/jpeg:https://www.ohgahall.or.jp/K3PJBvmt/wp-content/uploads/2026/03/原田知世-2025-③-cTaro-Mizutani.jpg
END:VEVENT
BEGIN:VEVENT
DTSTART;TZID=Asia/Tokyo:20260721T080000
DTEND;TZID=Asia/Tokyo:20260721T170000
DTSTAMP:20260421T175751
CREATED:20260401T010000Z
LAST-MODIFIED:20260328T041728Z
UID:10001662-1784620800-1784653200@www.ohgahall.or.jp
SUMMARY:ライナー・キュッヒル ヴァイオリンリサイタル
DESCRIPTION:
URL:https://www.ohgahall.or.jp/event/10001662/
CATEGORIES:クラシック
ATTACH;FMTTYPE=image/jpeg:https://www.ohgahall.or.jp/K3PJBvmt/wp-content/uploads/2026/03/キュッヒルさんチラシ2026修正版_page-0001.jpg
END:VEVENT
BEGIN:VEVENT
DTSTART;TZID=Asia/Tokyo:20260722T080000
DTEND;TZID=Asia/Tokyo:20260722T170000
DTSTAMP:20260421T175751
CREATED:20260325T061434Z
LAST-MODIFIED:20260325T063353Z
UID:10001661-1784707200-1784739600@www.ohgahall.or.jp
SUMMARY:公演が計画されております
DESCRIPTION:
URL:https://www.ohgahall.or.jp/event/10001661/
END:VEVENT
BEGIN:VEVENT
DTSTART;TZID=Asia/Tokyo:20260724T080000
DTEND;TZID=Asia/Tokyo:20260724T170000
DTSTAMP:20260421T175752
CREATED:20251008T021938Z
LAST-MODIFIED:20251008T022039Z
UID:10001473-1784880000-1784912400@www.ohgahall.or.jp
SUMMARY:公演が計画されております
DESCRIPTION:
URL:https://www.ohgahall.or.jp/event/10001473/
END:VEVENT
BEGIN:VEVENT
DTSTART;TZID=Asia/Tokyo:20260725T080000
DTEND;TZID=Asia/Tokyo:20260725T170000
DTSTAMP:20260421T175752
CREATED:20260325T000024Z
LAST-MODIFIED:20260326T000825Z
UID:10001659-1784966400-1784998800@www.ohgahall.or.jp
SUMMARY:ファンタジー・フルート軽井沢演奏会 vol.2
DESCRIPTION:
URL:https://www.ohgahall.or.jp/event/10001659/
CATEGORIES:吹奏楽
ATTACH;FMTTYPE=image/jpeg:https://www.ohgahall.or.jp/K3PJBvmt/wp-content/uploads/2026/03/FFK２チラシおもて0322_page-0001.jpg
END:VEVENT
BEGIN:VEVENT
DTSTART;TZID=Asia/Tokyo:20260726T080000
DTEND;TZID=Asia/Tokyo:20260726T170000
DTSTAMP:20260421T175752
CREATED:20240813T004107Z
LAST-MODIFIED:20241021T072833Z
UID:10000783-1785052800-1785085200@www.ohgahall.or.jp
SUMMARY:公演が計画されております
DESCRIPTION:
URL:https://www.ohgahall.or.jp/event/10000783/
END:VEVENT
BEGIN:VEVENT
DTSTART;TZID=Asia/Tokyo:20260727T080000
DTEND;TZID=Asia/Tokyo:20260727T170000
DTSTAMP:20260421T175752
CREATED:20250526T023316Z
LAST-MODIFIED:20260214T073006Z
UID:10001257-1785139200-1785171600@www.ohgahall.or.jp
SUMMARY:第15回若い芽の弦楽アンサンブルアカデミー in 軽井沢
DESCRIPTION:
URL:https://www.ohgahall.or.jp/event/10001257/
END:VEVENT
BEGIN:VEVENT
DTSTART;TZID=Asia/Tokyo:20260728T080000
DTEND;TZID=Asia/Tokyo:20260728T170000
DTSTAMP:20260421T175752
CREATED:20250526T023333Z
LAST-MODIFIED:20260214T073616Z
UID:10001258-1785225600-1785258000@www.ohgahall.or.jp
SUMMARY:第15回若い芽の弦楽アンサンブルアカデミー in 軽井沢
DESCRIPTION:
URL:https://www.ohgahall.or.jp/event/10001258/
END:VEVENT
BEGIN:VEVENT
DTSTART;TZID=Asia/Tokyo:20260729T080000
DTEND;TZID=Asia/Tokyo:20260729T170000
DTSTAMP:20260421T175752
CREATED:20250526T023349Z
LAST-MODIFIED:20260325T060533Z
UID:10001259-1785312000-1785344400@www.ohgahall.or.jp
SUMMARY:第15回YEK ヴィルトゥオーソたちの響演
DESCRIPTION:
URL:https://www.ohgahall.or.jp/event/10001259/
CATEGORIES:クラシック
ATTACH;FMTTYPE=image/jpeg:https://www.ohgahall.or.jp/K3PJBvmt/wp-content/uploads/2025/05/619845393_1496130845851663_1343305417627830743_n.jpg
END:VEVENT
BEGIN:VEVENT
DTSTART;TZID=Asia/Tokyo:20260729T080000
DTEND;TZID=Asia/Tokyo:20260729T170000
DTSTAMP:20260421T175752
CREATED:20260214T073140Z
LAST-MODIFIED:20260214T073635Z
UID:10001626-1785312000-1785344400@www.ohgahall.or.jp
SUMMARY:第15回若い芽の弦楽アンサンブルアカデミー in 軽井沢
DESCRIPTION:
URL:https://www.ohgahall.or.jp/event/10001626/
END:VEVENT
BEGIN:VEVENT
DTSTART;TZID=Asia/Tokyo:20260730T080000
DTEND;TZID=Asia/Tokyo:20260730T170000
DTSTAMP:20260421T175752
CREATED:20250526T023406Z
LAST-MODIFIED:20260325T060620Z
UID:10001260-1785398400-1785430800@www.ohgahall.or.jp
SUMMARY:第15回YEK YEK選抜受講生コンサート
DESCRIPTION:
URL:https://www.ohgahall.or.jp/event/10001260/
CATEGORIES:クラシック
END:VEVENT
BEGIN:VEVENT
DTSTART;TZID=Asia/Tokyo:20260730T080000
DTEND;TZID=Asia/Tokyo:20260730T170000
DTSTAMP:20260421T175752
CREATED:20260214T073544Z
LAST-MODIFIED:20260214T073551Z
UID:10001627-1785398400-1785430800@www.ohgahall.or.jp
SUMMARY:第15回若い芽の弦楽アンサンブルアカデミー in 軽井沢
DESCRIPTION:
URL:https://www.ohgahall.or.jp/event/10001627/
END:VEVENT
BEGIN:VEVENT
DTSTART;TZID=Asia/Tokyo:20260731T080000
DTEND;TZID=Asia/Tokyo:20260731T170000
DTSTAMP:20260421T175752
CREATED:20260214T073039Z
LAST-MODIFIED:20260214T073121Z
UID:10001385-1785484800-1785517200@www.ohgahall.or.jp
SUMMARY:第15回若い芽の弦楽アンサンブルアカデミー in 軽井沢
DESCRIPTION:
URL:https://www.ohgahall.or.jp/event/10001385/
END:VEVENT
BEGIN:VEVENT
DTSTART;TZID=Asia/Tokyo:20260731T080000
DTEND;TZID=Asia/Tokyo:20260731T170000
DTSTAMP:20260421T175752
CREATED:20260214T080527Z
LAST-MODIFIED:20260325T060645Z
UID:10001261-1785484800-1785517200@www.ohgahall.or.jp
SUMMARY:第15回YEK 横山奏 指揮 YEKストリング・オーケストラ
DESCRIPTION:
URL:https://www.ohgahall.or.jp/event/10001261/
CATEGORIES:クラシック
ATTACH;FMTTYPE=image/jpeg:https://www.ohgahall.or.jp/K3PJBvmt/wp-content/uploads/2025/05/622223603_1496130855851662_7257117109971958778_n.jpg
END:VEVENT
END:VCALENDAR