BEGIN:VCALENDAR
VERSION:2.0
PRODID:-//軽井沢大賀ホール - ECPv6.3.1//NONSGML v1.0//EN
CALSCALE:GREGORIAN
METHOD:PUBLISH
X-ORIGINAL-URL:https://www.ohgahall.or.jp
X-WR-CALDESC:軽井沢大賀ホール のイベント
REFRESH-INTERVAL;VALUE=DURATION:PT1H
X-Robots-Tag:noindex
X-PUBLISHED-TTL:PT1H
BEGIN:VTIMEZONE
TZID:Asia/Tokyo
BEGIN:STANDARD
TZOFFSETFROM:+0900
TZOFFSETTO:+0900
TZNAME:JST
DTSTART:20250101T000000
END:STANDARD
END:VTIMEZONE
BEGIN:VEVENT
DTSTART;TZID=Asia/Tokyo:20251101T080000
DTEND;TZID=Asia/Tokyo:20251101T170000
DTSTAMP:20260422T005227
CREATED:20251004T101508Z
LAST-MODIFIED:20251025T082023Z
UID:10001471-1761984000-1762016400@www.ohgahall.or.jp
SUMMARY:楽屋使用の予定がございます
DESCRIPTION:
URL:https://www.ohgahall.or.jp/event/10001471/
END:VEVENT
BEGIN:VEVENT
DTSTART;VALUE=DATE:20251103
DTEND;VALUE=DATE:20251104
DTSTAMP:20260422T005227
CREATED:20250405T111858Z
LAST-MODIFIED:20251025T081228Z
UID:10001217-1762128000-1762214399@www.ohgahall.or.jp
SUMMARY:わたしのたいせつな風景〜舞台は軽井沢大賀ホール。主役は集まるひとたち、全員。〜
DESCRIPTION:
URL:https://www.ohgahall.or.jp/event/10001217/
CATEGORIES:その他
END:VEVENT
BEGIN:VEVENT
DTSTART;TZID=Asia/Tokyo:20251103T080000
DTEND;TZID=Asia/Tokyo:20251103T170000
DTSTAMP:20260422T005227
CREATED:20240407T023045Z
LAST-MODIFIED:20240407T023045Z
UID:10000608-1762156800-1762189200@www.ohgahall.or.jp
SUMMARY:文化の日
DESCRIPTION:
URL:https://www.ohgahall.or.jp/event/10000608/
END:VEVENT
BEGIN:VEVENT
DTSTART;TZID=Asia/Tokyo:20251104T080000
DTEND;TZID=Asia/Tokyo:20251104T170000
DTSTAMP:20260422T005227
CREATED:20240304T083905Z
LAST-MODIFIED:20240304T083905Z
UID:10000421-1762243200-1762275600@www.ohgahall.or.jp
SUMMARY:休館日
DESCRIPTION:
URL:https://www.ohgahall.or.jp/event/10000421/
END:VEVENT
BEGIN:VEVENT
DTSTART;TZID=Asia/Tokyo:20251105T080000
DTEND;TZID=Asia/Tokyo:20251105T170000
DTSTAMP:20260422T005227
CREATED:20240304T083919Z
LAST-MODIFIED:20240304T083927Z
UID:10000422-1762329600-1762362000@www.ohgahall.or.jp
SUMMARY:休館日
DESCRIPTION:
URL:https://www.ohgahall.or.jp/event/10000422/
END:VEVENT
BEGIN:VEVENT
DTSTART;TZID=Asia/Tokyo:20251106T080000
DTEND;TZID=Asia/Tokyo:20251106T170000
DTSTAMP:20260422T005227
CREATED:20250520T091152Z
LAST-MODIFIED:20251019T041954Z
UID:10001254-1762416000-1762448400@www.ohgahall.or.jp
SUMMARY:【ロビーホワイエ】Open NetworkIng Conference Japan 2025 BoF
DESCRIPTION:
URL:https://www.ohgahall.or.jp/event/10001254/
CATEGORIES:その他
END:VEVENT
BEGIN:VEVENT
DTSTART;TZID=Asia/Tokyo:20251107T080000
DTEND;TZID=Asia/Tokyo:20251107T170000
DTSTAMP:20260422T005227
CREATED:20250520T091210Z
LAST-MODIFIED:20251019T052723Z
UID:10001255-1762502400-1762534800@www.ohgahall.or.jp
SUMMARY:Open NetworkIng Conference Japan 2025 本会議
DESCRIPTION:
URL:https://www.ohgahall.or.jp/event/10001255/
CATEGORIES:その他
END:VEVENT
BEGIN:VEVENT
DTSTART;VALUE=DATE:20251108
DTEND;VALUE=DATE:20251109
DTSTAMP:20260422T005227
CREATED:20240304T083707Z
LAST-MODIFIED:20250929T061409Z
UID:10000414-1762560000-1762646399@www.ohgahall.or.jp
SUMMARY:第9回 軽井沢シャンソンコンクール
DESCRIPTION:
URL:https://www.ohgahall.or.jp/event/10000414/
CATEGORIES:シャンソン
ATTACH;FMTTYPE=image/jpeg:https://www.ohgahall.or.jp/K3PJBvmt/wp-content/uploads/2024/03/2025-2.jpg
END:VEVENT
BEGIN:VEVENT
DTSTART;TZID=Asia/Tokyo:20251109T080000
DTEND;TZID=Asia/Tokyo:20251109T170000
DTSTAMP:20260422T005227
CREATED:20250116T021701Z
LAST-MODIFIED:20250922T074835Z
UID:10001101-1762675200-1762707600@www.ohgahall.or.jp
SUMMARY:第5回軽井沢混声合唱団定期演奏会
DESCRIPTION:
URL:https://www.ohgahall.or.jp/event/10001101/
CATEGORIES:コーラス
ATTACH;FMTTYPE=image/png:https://www.ohgahall.or.jp/K3PJBvmt/wp-content/uploads/2025/01/1000003676-1.png
END:VEVENT
BEGIN:VEVENT
DTSTART;TZID=Asia/Tokyo:20251110T080000
DTEND;TZID=Asia/Tokyo:20251110T170000
DTSTAMP:20260422T005227
CREATED:20240304T083942Z
LAST-MODIFIED:20240304T083942Z
UID:10000423-1762761600-1762794000@www.ohgahall.or.jp
SUMMARY:休館日
DESCRIPTION:
URL:https://www.ohgahall.or.jp/event/10000423/
END:VEVENT
BEGIN:VEVENT
DTSTART;TZID=Asia/Tokyo:20251113T080000
DTEND;TZID=Asia/Tokyo:20251113T170000
DTSTAMP:20260422T005227
CREATED:20251004T101433Z
LAST-MODIFIED:20251004T101433Z
UID:10001470-1763020800-1763053200@www.ohgahall.or.jp
SUMMARY:関係者のみのご利用がございます
DESCRIPTION:
URL:https://www.ohgahall.or.jp/event/10001470/
END:VEVENT
BEGIN:VEVENT
DTSTART;TZID=Asia/Tokyo:20251114T080000
DTEND;TZID=Asia/Tokyo:20251114T170000
DTSTAMP:20260422T005227
CREATED:20251016T102042Z
LAST-MODIFIED:20251016T102042Z
UID:10001519-1763107200-1763139600@www.ohgahall.or.jp
SUMMARY:施設点検
DESCRIPTION:
URL:https://www.ohgahall.or.jp/event/10001519/
END:VEVENT
BEGIN:VEVENT
DTSTART;TZID=Asia/Tokyo:20251115T080000
DTEND;TZID=Asia/Tokyo:20251115T170000
DTSTAMP:20260422T005227
CREATED:20240304T083610Z
LAST-MODIFIED:20251031T062905Z
UID:10000411-1763193600-1763226000@www.ohgahall.or.jp
SUMMARY:関係者のみのご利用がございます
DESCRIPTION:
URL:https://www.ohgahall.or.jp/event/10000411/
END:VEVENT
BEGIN:VEVENT
DTSTART;TZID=Asia/Tokyo:20251115T100000
DTEND;TZID=Asia/Tokyo:20251115T150000
DTSTAMP:20260422T005227
CREATED:20250831T104736Z
LAST-MODIFIED:20250906T012349Z
UID:10001434-1763200800-1763218800@www.ohgahall.or.jp
SUMMARY:［他会場公演］2025軽井沢リゾート コンサート
DESCRIPTION:
URL:https://www.ohgahall.or.jp/event/10001434/
CATEGORIES:ジャズ
ATTACH;FMTTYPE=image/jpeg:https://www.ohgahall.or.jp/K3PJBvmt/wp-content/uploads/2025/08/2025リゾート_チラシv5_OL_omoteresise.jpg
END:VEVENT
BEGIN:VEVENT
DTSTART;TZID=Asia/Tokyo:20251117T080000
DTEND;TZID=Asia/Tokyo:20251117T170000
DTSTAMP:20260422T005227
CREATED:20240304T083958Z
LAST-MODIFIED:20240304T083958Z
UID:10000424-1763366400-1763398800@www.ohgahall.or.jp
SUMMARY:休館日
DESCRIPTION:
URL:https://www.ohgahall.or.jp/event/10000424/
END:VEVENT
BEGIN:VEVENT
DTSTART;TZID=Asia/Tokyo:20251118T080000
DTEND;TZID=Asia/Tokyo:20251118T170000
DTSTAMP:20260422T005227
CREATED:20240330T025654Z
LAST-MODIFIED:20251113T051855Z
UID:10000517-1763452800-1763485200@www.ohgahall.or.jp
SUMMARY:関係者のみのご利用がございます
DESCRIPTION:
URL:https://www.ohgahall.or.jp/event/10000517/
END:VEVENT
BEGIN:VEVENT
DTSTART;VALUE=DATE:20251120
DTEND;VALUE=DATE:20251121
DTSTAMP:20260422T005227
CREATED:20251028T081944Z
LAST-MODIFIED:20251028T081944Z
UID:10001520-1763596800-1763683199@www.ohgahall.or.jp
SUMMARY:【演奏者ラウンジ】歌声の森 Cantabile
DESCRIPTION:
URL:https://www.ohgahall.or.jp/event/10001520/
CATEGORIES:レッスン
ATTACH;FMTTYPE=image/jpeg:https://www.ohgahall.or.jp/K3PJBvmt/wp-content/uploads/2024/05/「歌声の森」HP画像_page-0001.jpg
END:VEVENT
BEGIN:VEVENT
DTSTART;VALUE=DATE:20251122
DTEND;VALUE=DATE:20251123
DTSTAMP:20260422T005227
CREATED:20240304T083756Z
LAST-MODIFIED:20250824T064129Z
UID:10000417-1763769600-1763855999@www.ohgahall.or.jp
SUMMARY:Petit Concert（プティ・コンサート）
DESCRIPTION:
URL:https://www.ohgahall.or.jp/event/10000417/
CATEGORIES:クラシック
END:VEVENT
BEGIN:VEVENT
DTSTART;TZID=Asia/Tokyo:20251122T100000
DTEND;TZID=Asia/Tokyo:20251122T150000
DTSTAMP:20260422T005227
CREATED:20250901T103734Z
LAST-MODIFIED:20250906T012532Z
UID:10001431-1763805600-1763823600@www.ohgahall.or.jp
SUMMARY:［他会場公演］2025軽井沢リゾート コンサート
DESCRIPTION:
URL:https://www.ohgahall.or.jp/event/10001431/
CATEGORIES:クラシック
ATTACH;FMTTYPE=image/jpeg:https://www.ohgahall.or.jp/K3PJBvmt/wp-content/uploads/2025/08/2025リゾート_チラシv5_OL_omoteresise.jpg
END:VEVENT
BEGIN:VEVENT
DTSTART;TZID=Asia/Tokyo:20251122T120000
DTEND;TZID=Asia/Tokyo:20251122T150000
DTSTAMP:20260422T005227
CREATED:20250925T084946Z
LAST-MODIFIED:20251122T074312Z
UID:10001463-1763812800-1763823600@www.ohgahall.or.jp
SUMMARY:［他会場公演］ルシア塩満 プロ50周年記念 アルパコンサート
DESCRIPTION:
URL:https://www.ohgahall.or.jp/event/10001463/
CATEGORIES:その他
ATTACH;FMTTYPE=image/jpeg:https://www.ohgahall.or.jp/K3PJBvmt/wp-content/uploads/2025/09/20250925175045_00001-scaled.jpg
END:VEVENT
BEGIN:VEVENT
DTSTART;TZID=Asia/Tokyo:20251123T080000
DTEND;TZID=Asia/Tokyo:20251123T170000
DTSTAMP:20260422T005227
CREATED:20240304T083812Z
LAST-MODIFIED:20251122T072950Z
UID:10000418-1763884800-1763917200@www.ohgahall.or.jp
SUMMARY:にじいろピアノコンクール 甲信越ファイナル
DESCRIPTION:
URL:https://www.ohgahall.or.jp/event/10000418/
CATEGORIES:コンクール
END:VEVENT
BEGIN:VEVENT
DTSTART;TZID=Asia/Tokyo:20251123T080000
DTEND;TZID=Asia/Tokyo:20251123T170000
DTSTAMP:20260422T005227
CREATED:20240407T023105Z
LAST-MODIFIED:20240407T023105Z
UID:10000609-1763884800-1763917200@www.ohgahall.or.jp
SUMMARY:勤労感謝の日
DESCRIPTION:
URL:https://www.ohgahall.or.jp/event/10000609/
END:VEVENT
BEGIN:VEVENT
DTSTART;TZID=Asia/Tokyo:20251124T080000
DTEND;TZID=Asia/Tokyo:20251124T170000
DTSTAMP:20260422T005227
CREATED:20240304T083829Z
LAST-MODIFIED:20251122T073007Z
UID:10000419-1763971200-1764003600@www.ohgahall.or.jp
SUMMARY:にじいろピアノコンクール 甲信越ファイナル
DESCRIPTION:
URL:https://www.ohgahall.or.jp/event/10000419/
CATEGORIES:コンクール
END:VEVENT
BEGIN:VEVENT
DTSTART;TZID=Asia/Tokyo:20251124T080000
DTEND;TZID=Asia/Tokyo:20251124T170000
DTSTAMP:20260422T005227
CREATED:20240407T023120Z
LAST-MODIFIED:20240407T023120Z
UID:10000610-1763971200-1764003600@www.ohgahall.or.jp
SUMMARY:振替休日
DESCRIPTION:
URL:https://www.ohgahall.or.jp/event/10000610/
END:VEVENT
BEGIN:VEVENT
DTSTART;TZID=Asia/Tokyo:20251124T130000
DTEND;TZID=Asia/Tokyo:20251124T160000
DTSTAMP:20260422T005227
CREATED:20250722T091252Z
LAST-MODIFIED:20251124T112948Z
UID:10001393-1763989200-1764000000@www.ohgahall.or.jp
SUMMARY:【他会場公演】第9回軽井沢森の音楽祭2025 第1部：佐原敦子×居福健太郎デュオコンサート ロマン派の深淵なる世界～2つの晩年のソナタとともに～
DESCRIPTION:
URL:https://www.ohgahall.or.jp/event/10001393/
CATEGORIES:その他
ATTACH;FMTTYPE=image/jpeg:https://www.ohgahall.or.jp/K3PJBvmt/wp-content/uploads/2025/07/20250722181159_00001-scaled.jpg
END:VEVENT
BEGIN:VEVENT
DTSTART;TZID=Asia/Tokyo:20251124T140000
DTEND;TZID=Asia/Tokyo:20251124T190000
DTSTAMP:20260422T005227
CREATED:20250722T091956Z
LAST-MODIFIED:20251124T113014Z
UID:10001394-1763992800-1764010800@www.ohgahall.or.jp
SUMMARY:【他会場公演】第9回軽井沢森の音楽祭2025 第2部：≪中川座≫色彩のラプソディー～哀愁からエスパニョーラの情熱へと変わる夕暮れ～
DESCRIPTION:
URL:https://www.ohgahall.or.jp/event/10001394/
CATEGORIES:その他
ATTACH;FMTTYPE=image/jpeg:https://www.ohgahall.or.jp/K3PJBvmt/wp-content/uploads/2025/07/20250722181159_00001-scaled.jpg
END:VEVENT
BEGIN:VEVENT
DTSTART;TZID=Asia/Tokyo:20251125T080000
DTEND;TZID=Asia/Tokyo:20251125T170000
DTSTAMP:20260422T005227
CREATED:20240304T084015Z
LAST-MODIFIED:20240304T084015Z
UID:10000425-1764057600-1764090000@www.ohgahall.or.jp
SUMMARY:休館日
DESCRIPTION:
URL:https://www.ohgahall.or.jp/event/10000425/
END:VEVENT
BEGIN:VEVENT
DTSTART;TZID=Asia/Tokyo:20251126T080000
DTEND;TZID=Asia/Tokyo:20251126T170000
DTSTAMP:20260422T005227
CREATED:20240304T084033Z
LAST-MODIFIED:20240304T084033Z
UID:10000426-1764144000-1764176400@www.ohgahall.or.jp
SUMMARY:休館日
DESCRIPTION:
URL:https://www.ohgahall.or.jp/event/10000426/
END:VEVENT
BEGIN:VEVENT
DTSTART;VALUE=DATE:20251128
DTEND;VALUE=DATE:20251129
DTSTAMP:20260422T005227
CREATED:20250319T033918Z
LAST-MODIFIED:20250822T024418Z
UID:10001205-1764288000-1764374399@www.ohgahall.or.jp
SUMMARY:岩崎宏美&国府弘子アコースティックトリオ スぺシャルコンサート　in　軽井沢大賀ホール
DESCRIPTION:ぜひ、お越しください。
URL:https://www.ohgahall.or.jp/event/10001205/
CATEGORIES:ジャズ
END:VEVENT
BEGIN:VEVENT
DTSTART;TZID=Asia/Tokyo:20251129T080000
DTEND;TZID=Asia/Tokyo:20251129T170000
DTSTAMP:20260422T005227
CREATED:20240304T083631Z
LAST-MODIFIED:20251113T051918Z
UID:10000412-1764403200-1764435600@www.ohgahall.or.jp
SUMMARY:準備・リハーサル
DESCRIPTION:
URL:https://www.ohgahall.or.jp/event/10000412/
END:VEVENT
END:VCALENDAR