BEGIN:VCALENDAR
VERSION:2.0
PRODID:-//軽井沢大賀ホール - ECPv6.3.1//NONSGML v1.0//EN
CALSCALE:GREGORIAN
METHOD:PUBLISH
X-WR-CALNAME:軽井沢大賀ホール
X-ORIGINAL-URL:https://www.ohgahall.or.jp
X-WR-CALDESC:軽井沢大賀ホール のイベント
REFRESH-INTERVAL;VALUE=DURATION:PT1H
X-Robots-Tag:noindex
X-PUBLISHED-TTL:PT1H
BEGIN:VTIMEZONE
TZID:Asia/Tokyo
BEGIN:STANDARD
TZOFFSETFROM:+0900
TZOFFSETTO:+0900
TZNAME:JST
DTSTART:20250101T000000
END:STANDARD
END:VTIMEZONE
BEGIN:VEVENT
DTSTART;VALUE=DATE:20250901
DTEND;VALUE=DATE:20250902
DTSTAMP:20260422T024827
CREATED:20250502T101529Z
LAST-MODIFIED:20250901T071615Z
UID:10001240-1756684800-1756771199@www.ohgahall.or.jp
SUMMARY:【他会場公演】軽井沢国際音楽祭2025 軽井沢安東美術館 ミュージアムコンサートⅡ ロマンの行方、ブルースの台頭
DESCRIPTION:
URL:https://www.ohgahall.or.jp/event/10001240/
CATEGORIES:クラシック
ATTACH;FMTTYPE=image/jpeg:https://www.ohgahall.or.jp/K3PJBvmt/wp-content/uploads/2025/05/20250509150039_00001-scaled.jpg
END:VEVENT
BEGIN:VEVENT
DTSTART;VALUE=DATE:20250901
DTEND;VALUE=DATE:20250902
DTSTAMP:20260422T024827
CREATED:20250112T054540Z
LAST-MODIFIED:20250729T083530Z
UID:10001100-1756684800-1756771199@www.ohgahall.or.jp
SUMMARY:ラインハイト室内楽アカデミー　第12回修了コンサート
DESCRIPTION:
URL:https://www.ohgahall.or.jp/event/10001100/
CATEGORIES:クラシック
END:VEVENT
BEGIN:VEVENT
DTSTART;TZID=Asia/Tokyo:20250902T080000
DTEND;TZID=Asia/Tokyo:20250902T170000
DTSTAMP:20260422T024827
CREATED:20250831T074626Z
LAST-MODIFIED:20250831T074626Z
UID:10001429-1756800000-1756832400@www.ohgahall.or.jp
SUMMARY:施設点検
DESCRIPTION:
URL:https://www.ohgahall.or.jp/event/10001429/
END:VEVENT
BEGIN:VEVENT
DTSTART;TZID=Asia/Tokyo:20250903T080000
DTEND;TZID=Asia/Tokyo:20250903T170000
DTSTAMP:20260422T024827
CREATED:20250831T073404Z
LAST-MODIFIED:20250831T073837Z
UID:10001426-1756886400-1756918800@www.ohgahall.or.jp
SUMMARY:楽屋使用の予定がございます
DESCRIPTION:
URL:https://www.ohgahall.or.jp/event/10001426/
END:VEVENT
BEGIN:VEVENT
DTSTART;TZID=Asia/Tokyo:20250903T080000
DTEND;TZID=Asia/Tokyo:20250903T170000
DTSTAMP:20260422T024827
CREATED:20250831T073956Z
LAST-MODIFIED:20250831T073956Z
UID:10001428-1756886400-1756918800@www.ohgahall.or.jp
SUMMARY:施設点検
DESCRIPTION:
URL:https://www.ohgahall.or.jp/event/10001428/
END:VEVENT
BEGIN:VEVENT
DTSTART;TZID=Asia/Tokyo:20250904T080000
DTEND;TZID=Asia/Tokyo:20250904T170000
DTSTAMP:20260422T024827
CREATED:20250627T025402Z
LAST-MODIFIED:20251013T011251Z
UID:10001381-1756972800-1757005200@www.ohgahall.or.jp
SUMMARY:広田勇樹＆矢野雄太DUO撮影
DESCRIPTION:
URL:https://www.ohgahall.or.jp/event/10001381/
END:VEVENT
BEGIN:VEVENT
DTSTART;VALUE=DATE:20250906
DTEND;VALUE=DATE:20250907
DTSTAMP:20260422T024827
CREATED:20250607T073036Z
LAST-MODIFIED:20250906T101821Z
UID:10001284-1757116800-1757203199@www.ohgahall.or.jp
SUMMARY:伊勢正三 Summer Live 2025 〜ほんの短い夏〜
DESCRIPTION:
URL:https://www.ohgahall.or.jp/event/10001284/
CATEGORIES:ポップス
END:VEVENT
BEGIN:VEVENT
DTSTART;TZID=Asia/Tokyo:20250907T080000
DTEND;TZID=Asia/Tokyo:20250907T170000
DTSTAMP:20260422T024827
CREATED:20240330T024237Z
LAST-MODIFIED:20250617T030348Z
UID:10000499-1757232000-1757264400@www.ohgahall.or.jp
SUMMARY:０さいから入れる　メロディコマカロン コンサート  物語と聴き馴染みのある曲とのコラボレーション  えほんとおんがく　風船の島  〜本当の自分の気持ち〜
DESCRIPTION:
URL:https://www.ohgahall.or.jp/event/10000499/
CATEGORIES:その他
ATTACH;FMTTYPE=image/png:https://www.ohgahall.or.jp/K3PJBvmt/wp-content/uploads/2024/03/チラシ6月-1.png
END:VEVENT
BEGIN:VEVENT
DTSTART;TZID=Asia/Tokyo:20250911T080000
DTEND;TZID=Asia/Tokyo:20250911T170000
DTSTAMP:20260422T024827
CREATED:20250906T051605Z
LAST-MODIFIED:20250906T051605Z
UID:10001437-1757577600-1757610000@www.ohgahall.or.jp
SUMMARY:楽屋使用の予定がございます
DESCRIPTION:
URL:https://www.ohgahall.or.jp/event/10001437/
END:VEVENT
BEGIN:VEVENT
DTSTART;TZID=Asia/Tokyo:20250912T080000
DTEND;TZID=Asia/Tokyo:20250912T170000
DTSTAMP:20260422T024827
CREATED:20250831T073900Z
LAST-MODIFIED:20250831T073900Z
UID:10001427-1757664000-1757696400@www.ohgahall.or.jp
SUMMARY:施設点検
DESCRIPTION:
URL:https://www.ohgahall.or.jp/event/10001427/
END:VEVENT
BEGIN:VEVENT
DTSTART;TZID=Asia/Tokyo:20250913T080000
DTEND;TZID=Asia/Tokyo:20250913T170000
DTSTAMP:20260422T024827
CREATED:20240524T005951Z
LAST-MODIFIED:20250913T065112Z
UID:10000697-1757750400-1757782800@www.ohgahall.or.jp
SUMMARY:軽井沢吹奏楽団 第26回定期演奏会
DESCRIPTION:
URL:https://www.ohgahall.or.jp/event/10000697/
ATTACH;FMTTYPE=image/jpeg:https://www.ohgahall.or.jp/K3PJBvmt/wp-content/uploads/2024/05/26回定演チラシ最終_PDF-2_page-0001-1.jpg
END:VEVENT
BEGIN:VEVENT
DTSTART;VALUE=DATE:20250914
DTEND;VALUE=DATE:20250915
DTSTAMP:20260422T024827
CREATED:20240915T010005Z
LAST-MODIFIED:20250914T065707Z
UID:10000828-1757808000-1757894399@www.ohgahall.or.jp
SUMMARY:三浦コウ　ピアノリサイタル at 軽井沢大賀ホール
DESCRIPTION:
URL:https://www.ohgahall.or.jp/event/10000828/
CATEGORIES:クラシック
ATTACH;FMTTYPE=image/jpeg:https://www.ohgahall.or.jp/K3PJBvmt/wp-content/uploads/2024/09/20250502191943_00001-scaled.jpg
END:VEVENT
BEGIN:VEVENT
DTSTART;VALUE=DATE:20250915
DTEND;VALUE=DATE:20250916
DTSTAMP:20260422T024827
CREATED:20240824T080257Z
LAST-MODIFIED:20250826T003343Z
UID:10000794-1757894400-1757980799@www.ohgahall.or.jp
SUMMARY:東京音楽院SummerConcert
DESCRIPTION:
URL:https://www.ohgahall.or.jp/event/10000794/
CATEGORIES:クラシック
END:VEVENT
BEGIN:VEVENT
DTSTART;TZID=Asia/Tokyo:20250915T080000
DTEND;TZID=Asia/Tokyo:20250915T170000
DTSTAMP:20260422T024827
CREATED:20240407T022937Z
LAST-MODIFIED:20240407T022937Z
UID:10000605-1757923200-1757955600@www.ohgahall.or.jp
SUMMARY:敬老の日
DESCRIPTION:
URL:https://www.ohgahall.or.jp/event/10000605/
END:VEVENT
BEGIN:VEVENT
DTSTART;VALUE=DATE:20250920
DTEND;VALUE=DATE:20250921
DTSTAMP:20260422T024827
CREATED:20240824T070450Z
LAST-MODIFIED:20250812T011419Z
UID:10000793-1758326400-1758412799@www.ohgahall.or.jp
SUMMARY:軽井沢音楽部コンサート
DESCRIPTION:
URL:https://www.ohgahall.or.jp/event/10000793/
CATEGORIES:クラシック
ATTACH;FMTTYPE=image/jpeg:https://www.ohgahall.or.jp/K3PJBvmt/wp-content/uploads/2024/08/unnamed-3.jpg
END:VEVENT
BEGIN:VEVENT
DTSTART;TZID=Asia/Tokyo:20250921T080000
DTEND;TZID=Asia/Tokyo:20250921T170000
DTSTAMP:20260422T024827
CREATED:20240304T083120Z
LAST-MODIFIED:20250921T070514Z
UID:10000397-1758441600-1758474000@www.ohgahall.or.jp
SUMMARY:川口成彦　プレイエル1845で奏でるコンサート
DESCRIPTION:
URL:https://www.ohgahall.or.jp/event/10000397/
CATEGORIES:クラシック
ATTACH;FMTTYPE=image/jpeg:https://www.ohgahall.or.jp/K3PJBvmt/wp-content/uploads/2024/03/川口921大b-1.jpg
END:VEVENT
BEGIN:VEVENT
DTSTART;TZID=Asia/Tokyo:20250922T080000
DTEND;TZID=Asia/Tokyo:20250922T170000
DTSTAMP:20260422T024827
CREATED:20250904T090804Z
LAST-MODIFIED:20250904T090804Z
UID:10001435-1758528000-1758560400@www.ohgahall.or.jp
SUMMARY:楽屋使用の予定がございます
DESCRIPTION:
URL:https://www.ohgahall.or.jp/event/10001435/
END:VEVENT
BEGIN:VEVENT
DTSTART;VALUE=DATE:20250923
DTEND;VALUE=DATE:20250924
DTSTAMP:20260422T024827
CREATED:20241021T054708Z
LAST-MODIFIED:20250812T075423Z
UID:10000861-1758585600-1758671999@www.ohgahall.or.jp
SUMMARY:信州唱歌童謡の全国コンクール2025 全国大会
DESCRIPTION:
URL:https://www.ohgahall.or.jp/event/10000861/
CATEGORIES:その他
ATTACH;FMTTYPE=image/jpeg:https://www.ohgahall.or.jp/K3PJBvmt/wp-content/uploads/2024/10/20250314092323_00001-scaled.jpg
END:VEVENT
BEGIN:VEVENT
DTSTART;TZID=Asia/Tokyo:20250923T080000
DTEND;TZID=Asia/Tokyo:20250923T170000
DTSTAMP:20260422T024827
CREATED:20240407T022953Z
LAST-MODIFIED:20240407T022953Z
UID:10000606-1758614400-1758646800@www.ohgahall.or.jp
SUMMARY:秋分の日
DESCRIPTION:
URL:https://www.ohgahall.or.jp/event/10000606/
END:VEVENT
BEGIN:VEVENT
DTSTART;TZID=Asia/Tokyo:20250925T080000
DTEND;TZID=Asia/Tokyo:20250925T170000
DTSTAMP:20260422T024827
CREATED:20250825T063238Z
LAST-MODIFIED:20250825T063250Z
UID:10001409-1758787200-1758819600@www.ohgahall.or.jp
SUMMARY:施設点検
DESCRIPTION:
URL:https://www.ohgahall.or.jp/event/10001409/
END:VEVENT
BEGIN:VEVENT
DTSTART;TZID=Asia/Tokyo:20250927T080000
DTEND;TZID=Asia/Tokyo:20250927T170000
DTSTAMP:20260422T024827
CREATED:20250520T091428Z
LAST-MODIFIED:20250920T015258Z
UID:10001256-1758960000-1758992400@www.ohgahall.or.jp
SUMMARY:ピアノサークル・みなと ピアノ演奏会
DESCRIPTION:
URL:https://www.ohgahall.or.jp/event/10001256/
CATEGORIES:クラシック
END:VEVENT
BEGIN:VEVENT
DTSTART;TZID=Asia/Tokyo:20250928T080000
DTEND;TZID=Asia/Tokyo:20250928T170000
DTSTAMP:20260422T024827
CREATED:20250606T030022Z
LAST-MODIFIED:20250928T104148Z
UID:10001278-1759046400-1759078800@www.ohgahall.or.jp
SUMMARY:Slow LIVE '25 in 軽井沢
DESCRIPTION:
URL:https://www.ohgahall.or.jp/event/10001278/
CATEGORIES:ポップス
ATTACH;FMTTYPE=image/jpeg:https://www.ohgahall.or.jp/K3PJBvmt/wp-content/uploads/2025/06/公演ビジュアル0801.jpeg
END:VEVENT
BEGIN:VEVENT
DTSTART;VALUE=DATE:20250930
DTEND;VALUE=DATE:20251001
DTSTAMP:20260422T024827
CREATED:20250831T055226Z
LAST-MODIFIED:20250902T072130Z
UID:10001425-1759190400-1759276799@www.ohgahall.or.jp
SUMMARY:【演奏者ラウンジ】歌声の森 Cantabile
DESCRIPTION:
URL:https://www.ohgahall.or.jp/event/10001425/
CATEGORIES:レッスン
ATTACH;FMTTYPE=image/jpeg:https://www.ohgahall.or.jp/K3PJBvmt/wp-content/uploads/2024/05/「歌声の森」HP画像_page-0001.jpg
END:VEVENT
END:VCALENDAR