BEGIN:VCALENDAR
VERSION:2.0
PRODID:-//軽井沢大賀ホール - ECPv6.3.1//NONSGML v1.0//EN
CALSCALE:GREGORIAN
METHOD:PUBLISH
X-WR-CALNAME:軽井沢大賀ホール
X-ORIGINAL-URL:https://www.ohgahall.or.jp
X-WR-CALDESC:軽井沢大賀ホール のイベント
REFRESH-INTERVAL;VALUE=DURATION:PT1H
X-Robots-Tag:noindex
X-PUBLISHED-TTL:PT1H
BEGIN:VTIMEZONE
TZID:Asia/Tokyo
BEGIN:STANDARD
TZOFFSETFROM:+0900
TZOFFSETTO:+0900
TZNAME:JST
DTSTART:20250101T000000
END:STANDARD
END:VTIMEZONE
BEGIN:VEVENT
DTSTART;TZID=Asia/Tokyo:20250702T080000
DTEND;TZID=Asia/Tokyo:20250702T170000
DTSTAMP:20260422T060856
CREATED:20250623T011900Z
LAST-MODIFIED:20250623T011900Z
UID:10001372-1751443200-1751475600@www.ohgahall.or.jp
SUMMARY:施設点検
DESCRIPTION:
URL:https://www.ohgahall.or.jp/event/10001372/
END:VEVENT
BEGIN:VEVENT
DTSTART;TZID=Asia/Tokyo:20250703T080000
DTEND;TZID=Asia/Tokyo:20250703T170000
DTSTAMP:20260422T060856
CREATED:20250623T011937Z
LAST-MODIFIED:20250623T011947Z
UID:10001374-1751529600-1751562000@www.ohgahall.or.jp
SUMMARY:施設点検
DESCRIPTION:
URL:https://www.ohgahall.or.jp/event/10001374/
END:VEVENT
BEGIN:VEVENT
DTSTART;TZID=Asia/Tokyo:20250704T080000
DTEND;TZID=Asia/Tokyo:20250704T170000
DTSTAMP:20260422T060856
CREATED:20250603T025212Z
LAST-MODIFIED:20250627T011412Z
UID:10001280-1751616000-1751648400@www.ohgahall.or.jp
SUMMARY:関係者のみのご利用がございます
DESCRIPTION:
URL:https://www.ohgahall.or.jp/event/10001280/
END:VEVENT
BEGIN:VEVENT
DTSTART;TZID=Asia/Tokyo:20250705T080000
DTEND;TZID=Asia/Tokyo:20250705T170000
DTSTAMP:20260422T060856
CREATED:20240304T082140Z
LAST-MODIFIED:20250724T053940Z
UID:10000368-1751702400-1751734800@www.ohgahall.or.jp
SUMMARY:千住真理子ヴァイオリン・リサイタル in 軽井沢　〜50周年 感謝を込めて〜
DESCRIPTION:
URL:https://www.ohgahall.or.jp/event/10000368/
CATEGORIES:クラシック
ATTACH;FMTTYPE=image/jpeg:https://www.ohgahall.or.jp/K3PJBvmt/wp-content/uploads/2024/03/20250314090856_00002.jpg
END:VEVENT
BEGIN:VEVENT
DTSTART;TZID=Asia/Tokyo:20250706T080000
DTEND;TZID=Asia/Tokyo:20250706T170000
DTSTAMP:20260422T060856
CREATED:20240304T082154Z
LAST-MODIFIED:20250724T054105Z
UID:10000369-1751788800-1751821200@www.ohgahall.or.jp
SUMMARY:第5回 松実 健太と日本メディカルアンサンブルの室内楽演奏会
DESCRIPTION:
URL:https://www.ohgahall.or.jp/event/10000369/
CATEGORIES:クラシック
ATTACH;FMTTYPE=image/jpeg:https://www.ohgahall.or.jp/K3PJBvmt/wp-content/uploads/2024/03/20250629172851_00001.jpg
END:VEVENT
BEGIN:VEVENT
DTSTART;TZID=Asia/Tokyo:20250712T080000
DTEND;TZID=Asia/Tokyo:20250712T170000
DTSTAMP:20260422T060856
CREATED:20250708T100227Z
LAST-MODIFIED:20250708T100227Z
UID:10001386-1752307200-1752339600@www.ohgahall.or.jp
SUMMARY:楽屋使用の予定がございます
DESCRIPTION:
URL:https://www.ohgahall.or.jp/event/10001386/
END:VEVENT
BEGIN:VEVENT
DTSTART;TZID=Asia/Tokyo:20250713T120000
DTEND;TZID=Asia/Tokyo:20250713T170000
DTSTAMP:20260422T060856
CREATED:20250614T011405Z
LAST-MODIFIED:20250614T011418Z
UID:10001339-1752408000-1752426000@www.ohgahall.or.jp
SUMMARY:軽井沢ファミリーオーケストラ 練習
DESCRIPTION:
URL:https://www.ohgahall.or.jp/event/10001339/
CATEGORIES:クラシック
ATTACH;FMTTYPE=image/jpeg:https://www.ohgahall.or.jp/K3PJBvmt/wp-content/uploads/2024/11/DSC02632-scaled.jpg
END:VEVENT
BEGIN:VEVENT
DTSTART;TZID=Asia/Tokyo:20250713T130000
DTEND;TZID=Asia/Tokyo:20250713T235900
DTSTAMP:20260422T060856
CREATED:20250614T011314Z
LAST-MODIFIED:20250614T011314Z
UID:10001340-1752411600-1752451140@www.ohgahall.or.jp
SUMMARY:【演奏者ラウンジ】軽井沢少年少女合唱団 練習
DESCRIPTION:
URL:https://www.ohgahall.or.jp/event/10001340/
CATEGORIES:コーラス
ATTACH;FMTTYPE=image/jpeg:https://www.ohgahall.or.jp/K3PJBvmt/wp-content/uploads/2024/03/2024012419265300.jpg
END:VEVENT
BEGIN:VEVENT
DTSTART;VALUE=DATE:20250716
DTEND;VALUE=DATE:20250717
DTSTAMP:20260422T060856
CREATED:20250619T105446Z
LAST-MODIFIED:20250724T054505Z
UID:10001371-1752624000-1752710399@www.ohgahall.or.jp
SUMMARY:【演奏者ラウンジ】歌声の森 Cantabile
DESCRIPTION:
URL:https://www.ohgahall.or.jp/event/10001371/
CATEGORIES:レッスン
ATTACH;FMTTYPE=image/jpeg:https://www.ohgahall.or.jp/K3PJBvmt/wp-content/uploads/2024/05/「歌声の森」HP画像_page-0001.jpg
END:VEVENT
BEGIN:VEVENT
DTSTART;TZID=Asia/Tokyo:20250717T080000
DTEND;TZID=Asia/Tokyo:20250717T170000
DTSTAMP:20260422T060856
CREATED:20250623T011922Z
LAST-MODIFIED:20250623T011922Z
UID:10001373-1752739200-1752771600@www.ohgahall.or.jp
SUMMARY:施設点検
DESCRIPTION:
URL:https://www.ohgahall.or.jp/event/10001373/
END:VEVENT
BEGIN:VEVENT
DTSTART;TZID=Asia/Tokyo:20250718T080000
DTEND;TZID=Asia/Tokyo:20250718T150000
DTSTAMP:20260422T060856
CREATED:20240912T052817Z
LAST-MODIFIED:20250724T054155Z
UID:10000814-1752825600-1752850800@www.ohgahall.or.jp
SUMMARY:【マチネ】福間洸太朗サマースペシャル・ピアノリサイタル in 軽井沢
DESCRIPTION:
URL:https://www.ohgahall.or.jp/event/10000814/
CATEGORIES:クラシック
ATTACH;FMTTYPE=image/jpeg:https://www.ohgahall.or.jp/K3PJBvmt/wp-content/uploads/2024/09/GlMxCGWa4AA9yTJ.jpg
END:VEVENT
BEGIN:VEVENT
DTSTART;TZID=Asia/Tokyo:20250718T150000
DTEND;TZID=Asia/Tokyo:20250718T220000
DTSTAMP:20260422T060856
CREATED:20250307T060243Z
LAST-MODIFIED:20250724T054238Z
UID:10001191-1752850800-1752876000@www.ohgahall.or.jp
SUMMARY:【ソワレ】福間洸太朗サマースペシャル・ピアノリサイタル in 軽井沢
DESCRIPTION:
URL:https://www.ohgahall.or.jp/event/10001191/
CATEGORIES:クラシック
ATTACH;FMTTYPE=image/jpeg:https://www.ohgahall.or.jp/K3PJBvmt/wp-content/uploads/2024/09/GlMxCGWa4AA9yTJ.jpg
END:VEVENT
BEGIN:VEVENT
DTSTART;VALUE=DATE:20250719
DTEND;VALUE=DATE:20250720
DTSTAMP:20260422T060856
CREATED:20250407T030000Z
LAST-MODIFIED:20250724T054311Z
UID:10001212-1752883200-1752969599@www.ohgahall.or.jp
SUMMARY:TOSHIKI KADOMATSU Live in KARUIZAWA 2025 “with Bipod & Strings II”
DESCRIPTION:
URL:https://www.ohgahall.or.jp/event/10001212/
CATEGORIES:ロック
END:VEVENT
BEGIN:VEVENT
DTSTART;VALUE=DATE:20250720
DTEND;VALUE=DATE:20250721
DTSTAMP:20260422T060856
CREATED:20250407T030025Z
LAST-MODIFIED:20250724T054346Z
UID:10001213-1752969600-1753055999@www.ohgahall.or.jp
SUMMARY:TOSHIKI KADOMATSU Live in KARUIZAWA 2025 “with Bipod & Strings II”
DESCRIPTION:
URL:https://www.ohgahall.or.jp/event/10001213/
CATEGORIES:ロック
END:VEVENT
BEGIN:VEVENT
DTSTART;TZID=Asia/Tokyo:20250721T080000
DTEND;TZID=Asia/Tokyo:20250721T170000
DTSTAMP:20260422T060856
CREATED:20240407T022852Z
LAST-MODIFIED:20240407T022852Z
UID:10000603-1753084800-1753117200@www.ohgahall.or.jp
SUMMARY:海の日
DESCRIPTION:
URL:https://www.ohgahall.or.jp/event/10000603/
END:VEVENT
BEGIN:VEVENT
DTSTART;TZID=Asia/Tokyo:20250721T080000
DTEND;TZID=Asia/Tokyo:20250721T170000
DTSTAMP:20260422T060856
CREATED:20250208T010018Z
LAST-MODIFIED:20250724T054422Z
UID:10001146-1753084800-1753117200@www.ohgahall.or.jp
SUMMARY:“夏の軽井沢 プロム2025”
DESCRIPTION:
URL:https://www.ohgahall.or.jp/event/10001146/
CATEGORIES:クラシック
ATTACH;FMTTYPE=image/jpeg:https://www.ohgahall.or.jp/K3PJBvmt/wp-content/uploads/2025/02/20250312150245_00001-コピー-scaled.jpg
END:VEVENT
BEGIN:VEVENT
DTSTART;TZID=Asia/Tokyo:20250723T080000
DTEND;TZID=Asia/Tokyo:20250723T170000
DTSTAMP:20260422T060856
CREATED:20240912T071914Z
LAST-MODIFIED:20250528T042359Z
UID:10000816-1753257600-1753290000@www.ohgahall.or.jp
SUMMARY:準備・リハーサル
DESCRIPTION:
URL:https://www.ohgahall.or.jp/event/10000816/
END:VEVENT
BEGIN:VEVENT
DTSTART;TZID=Asia/Tokyo:20250724T080000
DTEND;TZID=Asia/Tokyo:20250724T170000
DTSTAMP:20260422T060856
CREATED:20240912T071933Z
LAST-MODIFIED:20250725T043203Z
UID:10000817-1753344000-1753376400@www.ohgahall.or.jp
SUMMARY:プリマベーラオトナバレエコンクール軽井沢
DESCRIPTION:
URL:https://www.ohgahall.or.jp/event/10000817/
CATEGORIES:コンクール
END:VEVENT
BEGIN:VEVENT
DTSTART;TZID=Asia/Tokyo:20250725T080000
DTEND;TZID=Asia/Tokyo:20250725T170000
DTSTAMP:20260422T060856
CREATED:20240625T020306Z
LAST-MODIFIED:20250728T025540Z
UID:10000740-1753430400-1753462800@www.ohgahall.or.jp
SUMMARY:ニューヨーク市ヤングピープルズ・コーラス日本公演2025
DESCRIPTION:
URL:https://www.ohgahall.or.jp/event/10000740/
CATEGORIES:コーラス
ATTACH;FMTTYPE=image/jpeg:https://www.ohgahall.or.jp/K3PJBvmt/wp-content/uploads/2024/06/チラシ表.jpg
END:VEVENT
BEGIN:VEVENT
DTSTART;TZID=Asia/Tokyo:20250726T080000
DTEND;TZID=Asia/Tokyo:20250726T170000
DTSTAMP:20260422T060856
CREATED:20241217T002442Z
LAST-MODIFIED:20250728T025620Z
UID:10000989-1753516800-1753549200@www.ohgahall.or.jp
SUMMARY:松井秀太郎 DUO 軽井沢公演
DESCRIPTION:
URL:https://www.ohgahall.or.jp/event/10000989/
CATEGORIES:ジャズ
ATTACH;FMTTYPE=image/jpeg:https://www.ohgahall.or.jp/K3PJBvmt/wp-content/uploads/2024/12/20250419133635_00001-scaled.jpg
END:VEVENT
BEGIN:VEVENT
DTSTART;TZID=Asia/Tokyo:20250727T120000
DTEND;TZID=Asia/Tokyo:20250727T170000
DTSTAMP:20260422T060856
CREATED:20250708T100509Z
LAST-MODIFIED:20250708T100509Z
UID:10001387-1753617600-1753635600@www.ohgahall.or.jp
SUMMARY:軽井沢ファミリーオーケストラ 練習
DESCRIPTION:
URL:https://www.ohgahall.or.jp/event/10001387/
CATEGORIES:クラシック
ATTACH;FMTTYPE=image/jpeg:https://www.ohgahall.or.jp/K3PJBvmt/wp-content/uploads/2024/11/DSC02632-scaled.jpg
END:VEVENT
BEGIN:VEVENT
DTSTART;TZID=Asia/Tokyo:20250728T080000
DTEND;TZID=Asia/Tokyo:20250728T170000
DTSTAMP:20260422T060856
CREATED:20250726T092632Z
LAST-MODIFIED:20250726T092712Z
UID:10001397-1753689600-1753722000@www.ohgahall.or.jp
SUMMARY:楽屋使用の予定がございます
DESCRIPTION:
URL:https://www.ohgahall.or.jp/event/10001397/
END:VEVENT
BEGIN:VEVENT
DTSTART;TZID=Asia/Tokyo:20250729T080000
DTEND;TZID=Asia/Tokyo:20250729T170000
DTSTAMP:20260422T060856
CREATED:20250314T010724Z
LAST-MODIFIED:20250727T014222Z
UID:10001198-1753776000-1753808400@www.ohgahall.or.jp
SUMMARY:学習院中・高等科 弦楽同好会 軽井沢大賀ホールコンサート
DESCRIPTION:
URL:https://www.ohgahall.or.jp/event/10001198/
CATEGORIES:クラシック
ATTACH;FMTTYPE=image/jpeg:https://www.ohgahall.or.jp/K3PJBvmt/wp-content/uploads/2025/03/20250729-scaled.jpg
END:VEVENT
BEGIN:VEVENT
DTSTART;TZID=Asia/Tokyo:20250730T080000
DTEND;TZID=Asia/Tokyo:20250730T170000
DTSTAMP:20260422T060856
CREATED:20241021T054824Z
LAST-MODIFIED:20250524T001931Z
UID:10000864-1753862400-1753894800@www.ohgahall.or.jp
SUMMARY:第104回グローバルクラシックコンサート 高原で聴く音楽の散歩 〜笛田博昭と仲間たち〜
DESCRIPTION:
URL:https://www.ohgahall.or.jp/event/10000864/
CATEGORIES:クラシック
ATTACH;FMTTYPE=image/jpeg:https://www.ohgahall.or.jp/K3PJBvmt/wp-content/uploads/2024/10/gc104チラシ_page-0001.jpg
END:VEVENT
END:VCALENDAR