BEGIN:VCALENDAR
VERSION:2.0
PRODID:-//軽井沢大賀ホール - ECPv6.3.1//NONSGML v1.0//EN
CALSCALE:GREGORIAN
METHOD:PUBLISH
X-WR-CALNAME:軽井沢大賀ホール
X-ORIGINAL-URL:https://www.ohgahall.or.jp
X-WR-CALDESC:軽井沢大賀ホール のイベント
REFRESH-INTERVAL;VALUE=DURATION:PT1H
X-Robots-Tag:noindex
X-PUBLISHED-TTL:PT1H
BEGIN:VTIMEZONE
TZID:Asia/Tokyo
BEGIN:STANDARD
TZOFFSETFROM:+0900
TZOFFSETTO:+0900
TZNAME:JST
DTSTART:20250101T000000
END:STANDARD
END:VTIMEZONE
BEGIN:VEVENT
DTSTART;TZID=Asia/Tokyo:20250601T080000
DTEND;TZID=Asia/Tokyo:20250601T170000
DTSTAMP:20260422T073712
CREATED:20240330T024007Z
LAST-MODIFIED:20250518T015846Z
UID:10000497-1748764800-1748797200@www.ohgahall.or.jp
SUMMARY:関係者のみのご利用がございます
DESCRIPTION:
URL:https://www.ohgahall.or.jp/event/10000497/
END:VEVENT
BEGIN:VEVENT
DTSTART;TZID=Asia/Tokyo:20250607T080000
DTEND;TZID=Asia/Tokyo:20250607T170000
DTSTAMP:20260422T073712
CREATED:20240413T015520Z
LAST-MODIFIED:20250724T054537Z
UID:10000648-1749283200-1749315600@www.ohgahall.or.jp
SUMMARY:石田組コンサートツアー2025
DESCRIPTION:
URL:https://www.ohgahall.or.jp/event/10000648/
CATEGORIES:クラシック
ATTACH;FMTTYPE=image/jpeg:https://www.ohgahall.or.jp/K3PJBvmt/wp-content/uploads/2024/04/KDF00019.jpg
END:VEVENT
BEGIN:VEVENT
DTSTART;TZID=Asia/Tokyo:20250608T080000
DTEND;TZID=Asia/Tokyo:20250608T170000
DTSTAMP:20260422T073712
CREATED:20240608T021537Z
LAST-MODIFIED:20250520T031812Z
UID:10000722-1749369600-1749402000@www.ohgahall.or.jp
SUMMARY:ブルーメン・フィルハーモニー メンバーによる 軽井沢の悦楽 2025
DESCRIPTION:
URL:https://www.ohgahall.or.jp/event/10000722/
CATEGORIES:クラシック
ATTACH;FMTTYPE=image/jpeg:https://www.ohgahall.or.jp/K3PJBvmt/wp-content/uploads/2024/06/Gq3c1wYWoAAdPoB.jpg
END:VEVENT
BEGIN:VEVENT
DTSTART;TZID=Asia/Tokyo:20250614T080000
DTEND;TZID=Asia/Tokyo:20250614T170000
DTSTAMP:20260422T073712
CREATED:20240719T024931Z
LAST-MODIFIED:20241021T062538Z
UID:10000755-1749888000-1749920400@www.ohgahall.or.jp
SUMMARY:関係者のみのご利用がございます
DESCRIPTION:
URL:https://www.ohgahall.or.jp/event/10000755/
END:VEVENT
BEGIN:VEVENT
DTSTART;TZID=Asia/Tokyo:20250615T080000
DTEND;TZID=Asia/Tokyo:20250615T170000
DTSTAMP:20260422T073712
CREATED:20240419T030236Z
LAST-MODIFIED:20250615T063332Z
UID:10000665-1749974400-1750006800@www.ohgahall.or.jp
SUMMARY:軽井沢フォレストコンサート
DESCRIPTION:
URL:https://www.ohgahall.or.jp/event/10000665/
CATEGORIES:コーラス
ATTACH;FMTTYPE=image/jpeg:https://www.ohgahall.or.jp/K3PJBvmt/wp-content/uploads/2024/04/20250404183847_00001.jpg
END:VEVENT
BEGIN:VEVENT
DTSTART;TZID=Asia/Tokyo:20250616T080000
DTEND;TZID=Asia/Tokyo:20250616T170000
DTSTAMP:20260422T073712
CREATED:20241116T060025Z
LAST-MODIFIED:20251013T004239Z
UID:10000955-1750060800-1750093200@www.ohgahall.or.jp
SUMMARY:松田華音レコーディング
DESCRIPTION:
URL:https://www.ohgahall.or.jp/event/10000955/
END:VEVENT
BEGIN:VEVENT
DTSTART;TZID=Asia/Tokyo:20250617T080000
DTEND;TZID=Asia/Tokyo:20250617T170000
DTSTAMP:20260422T073712
CREATED:20241116T060055Z
LAST-MODIFIED:20251013T005625Z
UID:10000956-1750147200-1750179600@www.ohgahall.or.jp
SUMMARY:松田華音レコーディング
DESCRIPTION:
URL:https://www.ohgahall.or.jp/event/10000956/
END:VEVENT
BEGIN:VEVENT
DTSTART;TZID=Asia/Tokyo:20250618T080000
DTEND;TZID=Asia/Tokyo:20250618T170000
DTSTAMP:20260422T073712
CREATED:20241116T060112Z
LAST-MODIFIED:20251013T010303Z
UID:10000957-1750233600-1750266000@www.ohgahall.or.jp
SUMMARY:松田華音レコーディング
DESCRIPTION:
URL:https://www.ohgahall.or.jp/event/10000957/
END:VEVENT
BEGIN:VEVENT
DTSTART;TZID=Asia/Tokyo:20250619T080000
DTEND;TZID=Asia/Tokyo:20250619T170000
DTSTAMP:20260422T073712
CREATED:20250220T060351Z
LAST-MODIFIED:20250421T092907Z
UID:10001173-1750320000-1750352400@www.ohgahall.or.jp
SUMMARY:広田・門田デュオコンサート
DESCRIPTION:
URL:https://www.ohgahall.or.jp/event/10001173/
CATEGORIES:クラシック
END:VEVENT
BEGIN:VEVENT
DTSTART;TZID=Asia/Tokyo:20250619T140000
DTEND;TZID=Asia/Tokyo:20250619T235900
DTSTAMP:20260422T073712
CREATED:20250411T085807Z
LAST-MODIFIED:20250623T085501Z
UID:10001227-1750341600-1750377540@www.ohgahall.or.jp
SUMMARY:【他会場公演】巷deクラシック in 御代田
DESCRIPTION:
URL:https://www.ohgahall.or.jp/event/10001227/
CATEGORIES:クラシック
ATTACH;FMTTYPE=image/jpeg:https://www.ohgahall.or.jp/K3PJBvmt/wp-content/uploads/2025/04/20250411174927_00001-scaled.jpg
END:VEVENT
BEGIN:VEVENT
DTSTART;TZID=Asia/Tokyo:20250620T080000
DTEND;TZID=Asia/Tokyo:20250620T170000
DTSTAMP:20260422T073712
CREATED:20250128T030945Z
LAST-MODIFIED:20250426T095451Z
UID:10001144-1750406400-1750438800@www.ohgahall.or.jp
SUMMARY:市民参加の地域包括ケアシステムを考える　市民と地域の意志表示 　市民（本人）の意志表示とは？地域の意志表示とは？
DESCRIPTION:
URL:https://www.ohgahall.or.jp/event/10001144/
CATEGORIES:講演会
ATTACH;FMTTYPE=image/jpeg:https://www.ohgahall.or.jp/K3PJBvmt/wp-content/uploads/2025/01/一般用セミナーチラシ（１Pのみ）_page-0001.jpg
END:VEVENT
BEGIN:VEVENT
DTSTART;VALUE=DATE:20250621
DTEND;VALUE=DATE:20250622
DTSTAMP:20260422T073712
CREATED:20240719T002301Z
LAST-MODIFIED:20250426T094739Z
UID:10000753-1750464000-1750550399@www.ohgahall.or.jp
SUMMARY:第14 回ソピアル演奏会
DESCRIPTION:
URL:https://www.ohgahall.or.jp/event/10000753/
CATEGORIES:クラシック
END:VEVENT
BEGIN:VEVENT
DTSTART;TZID=Asia/Tokyo:20250622T080000
DTEND;TZID=Asia/Tokyo:20250622T170000
DTSTAMP:20260422T073712
CREATED:20240511T025146Z
LAST-MODIFIED:20250623T001238Z
UID:10000682-1750579200-1750611600@www.ohgahall.or.jp
SUMMARY:来生たかお Stand Alone 2025 ～ Acoustic Tracks ノスタルジーへの誘い～
DESCRIPTION:
URL:https://www.ohgahall.or.jp/event/10000682/
CATEGORIES:ポップス
ATTACH;FMTTYPE=image/jpeg:https://www.ohgahall.or.jp/K3PJBvmt/wp-content/uploads/2024/05/20250419165142_00002-scaled.jpg
END:VEVENT
BEGIN:VEVENT
DTSTART;TZID=Asia/Tokyo:20250626T080000
DTEND;TZID=Asia/Tokyo:20250626T170000
DTSTAMP:20260422T073712
CREATED:20250627T025452Z
LAST-MODIFIED:20250627T025452Z
UID:10001382-1750924800-1750957200@www.ohgahall.or.jp
SUMMARY:楽屋使用の予定がございます
DESCRIPTION:
URL:https://www.ohgahall.or.jp/event/10001382/
END:VEVENT
BEGIN:VEVENT
DTSTART;TZID=Asia/Tokyo:20250628T080000
DTEND;TZID=Asia/Tokyo:20250628T170000
DTSTAMP:20260422T073712
CREATED:20240827T073130Z
LAST-MODIFIED:20250405T085336Z
UID:10000796-1751097600-1751130000@www.ohgahall.or.jp
SUMMARY:準備・リハーサル
DESCRIPTION:
URL:https://www.ohgahall.or.jp/event/10000796/
END:VEVENT
BEGIN:VEVENT
DTSTART;VALUE=DATE:20250629
DTEND;VALUE=DATE:20250630
DTSTAMP:20260422T073712
CREATED:20240827T073149Z
LAST-MODIFIED:20250629T063419Z
UID:10000797-1751155200-1751241599@www.ohgahall.or.jp
SUMMARY:にっぽんオカリナ祭り
DESCRIPTION:
URL:https://www.ohgahall.or.jp/event/10000797/
CATEGORIES:その他
ATTACH;FMTTYPE=image/jpeg:https://www.ohgahall.or.jp/K3PJBvmt/wp-content/uploads/2024/08/20250405175416_00001-scaled.jpg
END:VEVENT
BEGIN:VEVENT
DTSTART;VALUE=DATE:20250630
DTEND;VALUE=DATE:20250701
DTSTAMP:20260422T073712
CREATED:20250601T074151Z
LAST-MODIFIED:20250601T074151Z
UID:10001279-1751241600-1751327999@www.ohgahall.or.jp
SUMMARY:【演奏者ラウンジ】歌声の森 Cantabile
DESCRIPTION:
URL:https://www.ohgahall.or.jp/event/10001279/
CATEGORIES:レッスン
ATTACH;FMTTYPE=image/jpeg:https://www.ohgahall.or.jp/K3PJBvmt/wp-content/uploads/2024/05/「歌声の森」HP画像_page-0001.jpg
END:VEVENT
END:VCALENDAR