BEGIN:VCALENDAR
VERSION:2.0
PRODID:-//軽井沢大賀ホール - ECPv6.3.1//NONSGML v1.0//EN
CALSCALE:GREGORIAN
METHOD:PUBLISH
X-WR-CALNAME:軽井沢大賀ホール
X-ORIGINAL-URL:https://www.ohgahall.or.jp
X-WR-CALDESC:軽井沢大賀ホール のイベント
REFRESH-INTERVAL;VALUE=DURATION:PT1H
X-Robots-Tag:noindex
X-PUBLISHED-TTL:PT1H
BEGIN:VTIMEZONE
TZID:Asia/Tokyo
BEGIN:STANDARD
TZOFFSETFROM:+0900
TZOFFSETTO:+0900
TZNAME:JST
DTSTART:20250101T000000
END:STANDARD
END:VTIMEZONE
BEGIN:VEVENT
DTSTART;TZID=Asia/Tokyo:20250401T080000
DTEND;TZID=Asia/Tokyo:20250401T170000
DTSTAMP:20260422T043335
CREATED:20250202T085643Z
LAST-MODIFIED:20250202T085643Z
UID:10001147-1743494400-1743526800@www.ohgahall.or.jp
SUMMARY:施設点検
DESCRIPTION:
URL:https://www.ohgahall.or.jp/event/10001147/
END:VEVENT
BEGIN:VEVENT
DTSTART;VALUE=DATE:20250404
DTEND;VALUE=DATE:20250405
DTSTAMP:20260422T043335
CREATED:20241010T114031Z
LAST-MODIFIED:20250404T094544Z
UID:10000847-1743724800-1743811199@www.ohgahall.or.jp
SUMMARY:フランソワ・シャプラン チャリティ ショパン コンサート
DESCRIPTION:
URL:https://www.ohgahall.or.jp/event/10000847/
CATEGORIES:クラシック
ATTACH;FMTTYPE=image/jpeg:https://www.ohgahall.or.jp/K3PJBvmt/wp-content/uploads/2024/10/Chaplin2025表_11.jpg
END:VEVENT
BEGIN:VEVENT
DTSTART;VALUE=DATE:20250405
DTEND;VALUE=DATE:20250406
DTSTAMP:20260422T043335
CREATED:20240507T030143Z
LAST-MODIFIED:20250401T061655Z
UID:10000679-1743811200-1743897599@www.ohgahall.or.jp
SUMMARY:【関係者のみ】第4回軽井沢ツイッターピアノの会
DESCRIPTION:
URL:https://www.ohgahall.or.jp/event/10000679/
CATEGORIES:クラシック
END:VEVENT
BEGIN:VEVENT
DTSTART;VALUE=DATE:20250406
DTEND;VALUE=DATE:20250407
DTSTAMP:20260422T043335
CREATED:20240628T044717Z
LAST-MODIFIED:20250316T084633Z
UID:10000743-1743897600-1743983999@www.ohgahall.or.jp
SUMMARY:軽井沢Music Festival 第7回【スペシャルジョイントコンサート＆ファミリーコンサート】
DESCRIPTION:公演が計画されております
URL:https://www.ohgahall.or.jp/event/10000743/
CATEGORIES:クラシック
ATTACH;FMTTYPE=image/jpeg:https://www.ohgahall.or.jp/K3PJBvmt/wp-content/uploads/2024/06/2025年大賀ホールチラシ-1.jpg
END:VEVENT
BEGIN:VEVENT
DTSTART;TZID=Asia/Tokyo:20250411T080000
DTEND;TZID=Asia/Tokyo:20250411T170000
DTSTAMP:20260422T043335
CREATED:20240416T051912Z
LAST-MODIFIED:20240618T051425Z
UID:10000661-1744358400-1744390800@www.ohgahall.or.jp
SUMMARY:準備・リハーサル
DESCRIPTION:
URL:https://www.ohgahall.or.jp/event/10000661/
END:VEVENT
BEGIN:VEVENT
DTSTART;VALUE=DATE:20250412
DTEND;VALUE=DATE:20250413
DTSTAMP:20260422T043335
CREATED:20240416T051931Z
LAST-MODIFIED:20250412T084257Z
UID:10000662-1744416000-1744502399@www.ohgahall.or.jp
SUMMARY:終戦80周年 平和祈念コンサート
DESCRIPTION:
URL:https://www.ohgahall.or.jp/event/10000662/
CATEGORIES:クラシック
ATTACH;FMTTYPE=image/jpeg:https://www.ohgahall.or.jp/K3PJBvmt/wp-content/uploads/2024/04/20250307132852_00002-コピー-scaled.jpg
END:VEVENT
BEGIN:VEVENT
DTSTART;TZID=Asia/Tokyo:20250413T080000
DTEND;TZID=Asia/Tokyo:20250413T170000
DTSTAMP:20260422T043335
CREATED:20241005T042054Z
LAST-MODIFIED:20250413T071937Z
UID:10000841-1744531200-1744563600@www.ohgahall.or.jp
SUMMARY:リベラル・アンサンブル・オーケストラ 第20回記念演奏会
DESCRIPTION:
URL:https://www.ohgahall.or.jp/event/10000841/
CATEGORIES:クラシック
ATTACH;FMTTYPE=image/jpeg:https://www.ohgahall.or.jp/K3PJBvmt/wp-content/uploads/2024/10/ns8oIuaEHU.jpg
END:VEVENT
BEGIN:VEVENT
DTSTART;VALUE=DATE:20250416
DTEND;VALUE=DATE:20250417
DTSTAMP:20260422T043335
CREATED:20250316T052534Z
LAST-MODIFIED:20250316T052710Z
UID:10001201-1744761600-1744847999@www.ohgahall.or.jp
SUMMARY:【演奏者ラウンジ】歌声の森 Cantabile
DESCRIPTION:
URL:https://www.ohgahall.or.jp/event/10001201/
CATEGORIES:レッスン
ATTACH;FMTTYPE=image/jpeg:https://www.ohgahall.or.jp/K3PJBvmt/wp-content/uploads/2024/05/「歌声の森」HP画像_page-0001.jpg
END:VEVENT
BEGIN:VEVENT
DTSTART;VALUE=DATE:20250420
DTEND;VALUE=DATE:20250421
DTSTAMP:20260422T043335
CREATED:20240517T004033Z
LAST-MODIFIED:20250314T055619Z
UID:10000692-1745107200-1745193599@www.ohgahall.or.jp
SUMMARY:音結び～おむすび～
DESCRIPTION:
URL:https://www.ohgahall.or.jp/event/10000692/
CATEGORIES:その他
ATTACH;FMTTYPE=image/jpeg:https://www.ohgahall.or.jp/K3PJBvmt/wp-content/uploads/2024/05/0310_001-scaled.jpg
END:VEVENT
BEGIN:VEVENT
DTSTART;TZID=Asia/Tokyo:20250426T080000
DTEND;TZID=Asia/Tokyo:20250426T170000
DTSTAMP:20260422T043335
CREATED:20240304T081429Z
LAST-MODIFIED:20241109T100715Z
UID:10000347-1745654400-1745686800@www.ohgahall.or.jp
SUMMARY:準備・リハーサル
DESCRIPTION:
URL:https://www.ohgahall.or.jp/event/10000347/
END:VEVENT
BEGIN:VEVENT
DTSTART;TZID=Asia/Tokyo:20250427T080000
DTEND;TZID=Asia/Tokyo:20250427T170000
DTSTAMP:20260422T043335
CREATED:20250118T055231Z
LAST-MODIFIED:20250428T004401Z
UID:10001104-1745740800-1745773200@www.ohgahall.or.jp
SUMMARY:【軽井沢大賀ホール開館20周年記念 2025春の音楽祭】西武グループpresents　宮川彬良指揮 シエナ・ウインド・オーケストラ 「宇宙戦艦ヤマト」コンサート
DESCRIPTION:
URL:https://www.ohgahall.or.jp/event/10001104/
CATEGORIES:吹奏楽
ATTACH;FMTTYPE=image/jpeg:https://www.ohgahall.or.jp/K3PJBvmt/wp-content/uploads/2025/01/250427HPクレジット修正済み.jpg
END:VEVENT
BEGIN:VEVENT
DTSTART;TZID=Asia/Tokyo:20250428T080000
DTEND;TZID=Asia/Tokyo:20250428T170000
DTSTAMP:20260422T043335
CREATED:20240304T081541Z
LAST-MODIFIED:20240304T081541Z
UID:10000351-1745827200-1745859600@www.ohgahall.or.jp
SUMMARY:準備・リハーサル
DESCRIPTION:
URL:https://www.ohgahall.or.jp/event/10000351/
END:VEVENT
BEGIN:VEVENT
DTSTART;TZID=Asia/Tokyo:20250429T080000
DTEND;TZID=Asia/Tokyo:20250429T170000
DTSTAMP:20260422T043335
CREATED:20240407T022702Z
LAST-MODIFIED:20240407T022702Z
UID:10000598-1745913600-1745946000@www.ohgahall.or.jp
SUMMARY:昭和の日
DESCRIPTION:
URL:https://www.ohgahall.or.jp/event/10000598/
END:VEVENT
BEGIN:VEVENT
DTSTART;TZID=Asia/Tokyo:20250429T080000
DTEND;TZID=Asia/Tokyo:20250429T170000
DTSTAMP:20260422T043335
CREATED:20250118T060116Z
LAST-MODIFIED:20250429T120253Z
UID:10001105-1745913600-1745946000@www.ohgahall.or.jp
SUMMARY:【軽井沢大賀ホール開館20周年記念 2025春の音楽祭】小山実稚恵デビュー40周年記念〜ベートーヴェン後期三大ソナタ演奏会
DESCRIPTION:
URL:https://www.ohgahall.or.jp/event/10001105/
CATEGORIES:クラシック
ATTACH;FMTTYPE=image/jpeg:https://www.ohgahall.or.jp/K3PJBvmt/wp-content/uploads/2025/01/240429HP_page-0001-scaled.jpg
END:VEVENT
BEGIN:VEVENT
DTSTART;TZID=Asia/Tokyo:20250430T080000
DTEND;TZID=Asia/Tokyo:20250430T170000
DTSTAMP:20260422T043335
CREATED:20240304T081556Z
LAST-MODIFIED:20240304T081556Z
UID:10000352-1746000000-1746032400@www.ohgahall.or.jp
SUMMARY:準備・リハーサル
DESCRIPTION:
URL:https://www.ohgahall.or.jp/event/10000352/
END:VEVENT
END:VCALENDAR