BEGIN:VCALENDAR
VERSION:2.0
PRODID:-//軽井沢大賀ホール - ECPv6.3.1//NONSGML v1.0//EN
CALSCALE:GREGORIAN
METHOD:PUBLISH
X-ORIGINAL-URL:https://www.ohgahall.or.jp
X-WR-CALDESC:軽井沢大賀ホール のイベント
REFRESH-INTERVAL;VALUE=DURATION:PT1H
X-Robots-Tag:noindex
X-PUBLISHED-TTL:PT1H
BEGIN:VTIMEZONE
TZID:Asia/Tokyo
BEGIN:STANDARD
TZOFFSETFROM:+0900
TZOFFSETTO:+0900
TZNAME:JST
DTSTART:20250101T000000
END:STANDARD
END:VTIMEZONE
BEGIN:VEVENT
DTSTART;TZID=Asia/Tokyo:20250301T080000
DTEND;TZID=Asia/Tokyo:20250301T170000
DTSTAMP:20260422T024905
CREATED:20241201T030047Z
LAST-MODIFIED:20250301T081301Z
UID:10000980-1740816000-1740848400@www.ohgahall.or.jp
SUMMARY:【軽井沢大賀ホール主催公演】2025軽井沢町民音楽祭 寺下真理子ヴァイオリン・リサイタル ～ストラディヴァリウスと共に　デヴィ夫人が語る、戦争と平和、そして愛の物語～
DESCRIPTION:
URL:https://www.ohgahall.or.jp/event/10000980/
CATEGORIES:クラシック
ATTACH;FMTTYPE=image/jpeg:https://www.ohgahall.or.jp/K3PJBvmt/wp-content/uploads/2024/12/25町民-scaled.jpg
END:VEVENT
BEGIN:VEVENT
DTSTART;VALUE=DATE:20250302
DTEND;VALUE=DATE:20250303
DTSTAMP:20260422T024905
CREATED:20240304T080830Z
LAST-MODIFIED:20250222T021245Z
UID:10000331-1740873600-1740959999@www.ohgahall.or.jp
SUMMARY:【振替公演】バイオリンクラブ主催 バイオリンクラブ演奏会＆軽井沢ファミリーオーケストラ アンサンブル演奏会
DESCRIPTION:
URL:https://www.ohgahall.or.jp/event/10000331/
CATEGORIES:クラシック
ATTACH;FMTTYPE=image/jpeg:https://www.ohgahall.or.jp/K3PJBvmt/wp-content/uploads/2024/03/1000015417.jpg
END:VEVENT
BEGIN:VEVENT
DTSTART;TZID=Asia/Tokyo:20250303T080000
DTEND;TZID=Asia/Tokyo:20250303T170000
DTSTAMP:20260422T024905
CREATED:20240304T081012Z
LAST-MODIFIED:20240304T081012Z
UID:10000336-1740988800-1741021200@www.ohgahall.or.jp
SUMMARY:休館日
DESCRIPTION:
URL:https://www.ohgahall.or.jp/event/10000336/
END:VEVENT
BEGIN:VEVENT
DTSTART;TZID=Asia/Tokyo:20250304T080000
DTEND;TZID=Asia/Tokyo:20250304T170000
DTSTAMP:20260422T024905
CREATED:20250227T050409Z
LAST-MODIFIED:20250227T062017Z
UID:10001183-1741075200-1741107600@www.ohgahall.or.jp
SUMMARY:施設点検
DESCRIPTION:
URL:https://www.ohgahall.or.jp/event/10001183/
END:VEVENT
BEGIN:VEVENT
DTSTART;TZID=Asia/Tokyo:20250305T080000
DTEND;TZID=Asia/Tokyo:20250305T170000
DTSTAMP:20260422T024905
CREATED:20250227T050425Z
LAST-MODIFIED:20250227T062002Z
UID:10001184-1741161600-1741194000@www.ohgahall.or.jp
SUMMARY:施設点検
DESCRIPTION:
URL:https://www.ohgahall.or.jp/event/10001184/
END:VEVENT
BEGIN:VEVENT
DTSTART;TZID=Asia/Tokyo:20250306T080000
DTEND;TZID=Asia/Tokyo:20250306T170000
DTSTAMP:20260422T024905
CREATED:20250227T061908Z
LAST-MODIFIED:20250227T061944Z
UID:10001185-1741248000-1741280400@www.ohgahall.or.jp
SUMMARY:施設点検
DESCRIPTION:
URL:https://www.ohgahall.or.jp/event/10001185/
END:VEVENT
BEGIN:VEVENT
DTSTART;TZID=Asia/Tokyo:20250307T080000
DTEND;TZID=Asia/Tokyo:20250307T170000
DTSTAMP:20260422T024905
CREATED:20250227T061930Z
LAST-MODIFIED:20250227T061930Z
UID:10001186-1741334400-1741366800@www.ohgahall.or.jp
SUMMARY:施設点検
DESCRIPTION:
URL:https://www.ohgahall.or.jp/event/10001186/
END:VEVENT
BEGIN:VEVENT
DTSTART;VALUE=DATE:20250308
DTEND;VALUE=DATE:20250309
DTSTAMP:20260422T024905
CREATED:20250219T064118Z
LAST-MODIFIED:20250219T075521Z
UID:10001162-1741392000-1741478399@www.ohgahall.or.jp
SUMMARY:第29回長野県小諸高等学校音楽科演奏会
DESCRIPTION:
URL:https://www.ohgahall.or.jp/event/10001162/
CATEGORIES:クラシック
ATTACH;FMTTYPE=image/jpeg:https://www.ohgahall.or.jp/K3PJBvmt/wp-content/uploads/2025/02/20250219153346_00001-scaled.jpg
END:VEVENT
BEGIN:VEVENT
DTSTART;VALUE=DATE:20250309
DTEND;VALUE=DATE:20250310
DTSTAMP:20260422T024905
CREATED:20240720T085623Z
LAST-MODIFIED:20241028T062803Z
UID:10000759-1741478400-1741564799@www.ohgahall.or.jp
SUMMARY:コンサート×おしばい「ベートーヴェン物語」
DESCRIPTION:
URL:https://www.ohgahall.or.jp/event/10000759/
CATEGORIES:クラシック
ATTACH;FMTTYPE=image/jpeg:https://www.ohgahall.or.jp/K3PJBvmt/wp-content/uploads/2024/07/c94372dc38ab738cde527014caddbf64_page-0001.jpg
END:VEVENT
BEGIN:VEVENT
DTSTART;TZID=Asia/Tokyo:20250310T080000
DTEND;TZID=Asia/Tokyo:20250310T170000
DTSTAMP:20260422T024905
CREATED:20240304T081026Z
LAST-MODIFIED:20240304T081026Z
UID:10000337-1741593600-1741626000@www.ohgahall.or.jp
SUMMARY:休館日
DESCRIPTION:
URL:https://www.ohgahall.or.jp/event/10000337/
END:VEVENT
BEGIN:VEVENT
DTSTART;TZID=Asia/Tokyo:20250311T080000
DTEND;TZID=Asia/Tokyo:20250311T170000
DTSTAMP:20260422T024905
CREATED:20250128T024315Z
LAST-MODIFIED:20250220T053549Z
UID:10001143-1741680000-1741712400@www.ohgahall.or.jp
SUMMARY:施設点検
DESCRIPTION:
URL:https://www.ohgahall.or.jp/event/10001143/
END:VEVENT
BEGIN:VEVENT
DTSTART;TZID=Asia/Tokyo:20250312T080000
DTEND;TZID=Asia/Tokyo:20250312T170000
DTSTAMP:20260422T024905
CREATED:20250211T014720Z
LAST-MODIFIED:20250220T053531Z
UID:10001149-1741766400-1741798800@www.ohgahall.or.jp
SUMMARY:施設点検
DESCRIPTION:
URL:https://www.ohgahall.or.jp/event/10001149/
END:VEVENT
BEGIN:VEVENT
DTSTART;TZID=Asia/Tokyo:20250313T080000
DTEND;TZID=Asia/Tokyo:20250313T170000
DTSTAMP:20260422T024905
CREATED:20250220T053450Z
LAST-MODIFIED:20250220T053450Z
UID:10001170-1741852800-1741885200@www.ohgahall.or.jp
SUMMARY:施設点検
DESCRIPTION:
URL:https://www.ohgahall.or.jp/event/10001170/
END:VEVENT
BEGIN:VEVENT
DTSTART;VALUE=DATE:20250314
DTEND;VALUE=DATE:20250315
DTSTAMP:20260422T024905
CREATED:20250219T003852Z
LAST-MODIFIED:20250219T003852Z
UID:10001159-1741910400-1741996799@www.ohgahall.or.jp
SUMMARY:【演奏者ラウンジ】歌声の森 Cantabile
DESCRIPTION:
URL:https://www.ohgahall.or.jp/event/10001159/
CATEGORIES:レッスン
ATTACH;FMTTYPE=image/jpeg:https://www.ohgahall.or.jp/K3PJBvmt/wp-content/uploads/2024/05/「歌声の森」HP画像_page-0001.jpg
END:VEVENT
BEGIN:VEVENT
DTSTART;TZID=Asia/Tokyo:20250314T080000
DTEND;TZID=Asia/Tokyo:20250314T170000
DTSTAMP:20260422T024905
CREATED:20250220T053509Z
LAST-MODIFIED:20250220T053509Z
UID:10001171-1741939200-1741971600@www.ohgahall.or.jp
SUMMARY:施設点検
DESCRIPTION:
URL:https://www.ohgahall.or.jp/event/10001171/
END:VEVENT
BEGIN:VEVENT
DTSTART;TZID=Asia/Tokyo:20250315T080000
DTEND;TZID=Asia/Tokyo:20250315T170000
DTSTAMP:20260422T024905
CREATED:20240902T065110Z
LAST-MODIFIED:20241215T050853Z
UID:10000803-1742025600-1742058000@www.ohgahall.or.jp
SUMMARY:関係者のみのご利用がございます
DESCRIPTION:
URL:https://www.ohgahall.or.jp/event/10000803/
END:VEVENT
BEGIN:VEVENT
DTSTART;TZID=Asia/Tokyo:20250316T080000
DTEND;TZID=Asia/Tokyo:20250316T170000
DTSTAMP:20260422T024905
CREATED:20241206T044302Z
LAST-MODIFIED:20250305T020357Z
UID:10000981-1742112000-1742144400@www.ohgahall.or.jp
SUMMARY:関係者のみのご利用がございます。
DESCRIPTION:
URL:https://www.ohgahall.or.jp/event/10000981/
END:VEVENT
BEGIN:VEVENT
DTSTART;TZID=Asia/Tokyo:20250317T080000
DTEND;TZID=Asia/Tokyo:20250317T170000
DTSTAMP:20260422T024905
CREATED:20240304T081044Z
LAST-MODIFIED:20240304T081044Z
UID:10000338-1742198400-1742230800@www.ohgahall.or.jp
SUMMARY:休館日
DESCRIPTION:
URL:https://www.ohgahall.or.jp/event/10000338/
END:VEVENT
BEGIN:VEVENT
DTSTART;TZID=Asia/Tokyo:20250318T080000
DTEND;TZID=Asia/Tokyo:20250318T170000
DTSTAMP:20260422T024905
CREATED:20241206T064640Z
LAST-MODIFIED:20250315T024041Z
UID:10000982-1742284800-1742317200@www.ohgahall.or.jp
SUMMARY:高校生による春の室内楽コンサート
DESCRIPTION:
URL:https://www.ohgahall.or.jp/event/10000982/
CATEGORIES:クラシック
ATTACH;FMTTYPE=image/jpeg:https://www.ohgahall.or.jp/K3PJBvmt/wp-content/uploads/2024/12/20250318.jpg
END:VEVENT
BEGIN:VEVENT
DTSTART;VALUE=DATE:20250320
DTEND;VALUE=DATE:20250321
DTSTAMP:20260422T024905
CREATED:20250316T054432Z
LAST-MODIFIED:20250316T054537Z
UID:10001202-1742428800-1742515199@www.ohgahall.or.jp
SUMMARY:軽井沢中学校吹奏楽部　春のコンサート2025
DESCRIPTION:
URL:https://www.ohgahall.or.jp/event/10001202/
CATEGORIES:吹奏楽
END:VEVENT
BEGIN:VEVENT
DTSTART;TZID=Asia/Tokyo:20250320T080000
DTEND;TZID=Asia/Tokyo:20250320T170000
DTSTAMP:20260422T024905
CREATED:20240407T022636Z
LAST-MODIFIED:20240407T022636Z
UID:10000597-1742457600-1742490000@www.ohgahall.or.jp
SUMMARY:春分の日
DESCRIPTION:
URL:https://www.ohgahall.or.jp/event/10000597/
END:VEVENT
BEGIN:VEVENT
DTSTART;TZID=Asia/Tokyo:20250321T080000
DTEND;TZID=Asia/Tokyo:20250321T170000
DTSTAMP:20260422T024905
CREATED:20240304T081059Z
LAST-MODIFIED:20240304T081059Z
UID:10000339-1742544000-1742576400@www.ohgahall.or.jp
SUMMARY:休館日
DESCRIPTION:
URL:https://www.ohgahall.or.jp/event/10000339/
END:VEVENT
BEGIN:VEVENT
DTSTART;TZID=Asia/Tokyo:20250322T080000
DTEND;TZID=Asia/Tokyo:20250322T170000
DTSTAMP:20260422T024905
CREATED:20250309T061849Z
LAST-MODIFIED:20250320T030702Z
UID:10001194-1742630400-1742662800@www.ohgahall.or.jp
SUMMARY:軽井沢少年少女合唱団 練習
DESCRIPTION:
URL:https://www.ohgahall.or.jp/event/10001194/
CATEGORIES:コーラス
END:VEVENT
BEGIN:VEVENT
DTSTART;TZID=Asia/Tokyo:20250323T080000
DTEND;TZID=Asia/Tokyo:20250323T170000
DTSTAMP:20260422T024905
CREATED:20240330T020619Z
LAST-MODIFIED:20240330T023347Z
UID:10000489-1742716800-1742749200@www.ohgahall.or.jp
SUMMARY:関係者のみのご利用がございます
DESCRIPTION:
URL:https://www.ohgahall.or.jp/event/10000489/
END:VEVENT
BEGIN:VEVENT
DTSTART;TZID=Asia/Tokyo:20250324T080000
DTEND;TZID=Asia/Tokyo:20250324T170000
DTSTAMP:20260422T024905
CREATED:20240304T081115Z
LAST-MODIFIED:20240304T081115Z
UID:10000340-1742803200-1742835600@www.ohgahall.or.jp
SUMMARY:休館日
DESCRIPTION:
URL:https://www.ohgahall.or.jp/event/10000340/
END:VEVENT
BEGIN:VEVENT
DTSTART;TZID=Asia/Tokyo:20250325T080000
DTEND;TZID=Asia/Tokyo:20250325T170000
DTSTAMP:20260422T024905
CREATED:20240304T081210Z
LAST-MODIFIED:20240304T081210Z
UID:10000343-1742889600-1742922000@www.ohgahall.or.jp
SUMMARY:関係者のみのご利用がございます。
DESCRIPTION:
URL:https://www.ohgahall.or.jp/event/10000343/
END:VEVENT
BEGIN:VEVENT
DTSTART;TZID=Asia/Tokyo:20250325T080000
DTEND;TZID=Asia/Tokyo:20250325T170000
DTSTAMP:20260422T024905
CREATED:20250220T053635Z
LAST-MODIFIED:20250220T053635Z
UID:10001172-1742889600-1742922000@www.ohgahall.or.jp
SUMMARY:施設点検
DESCRIPTION:
URL:https://www.ohgahall.or.jp/event/10001172/
END:VEVENT
BEGIN:VEVENT
DTSTART;TZID=Asia/Tokyo:20250326T080000
DTEND;TZID=Asia/Tokyo:20250326T170000
DTSTAMP:20260422T024905
CREATED:20240304T081227Z
LAST-MODIFIED:20250220T053706Z
UID:10000344-1742976000-1743008400@www.ohgahall.or.jp
SUMMARY:施設点検
DESCRIPTION:
URL:https://www.ohgahall.or.jp/event/10000344/
END:VEVENT
BEGIN:VEVENT
DTSTART;TZID=Asia/Tokyo:20250327T080000
DTEND;TZID=Asia/Tokyo:20250327T170000
DTSTAMP:20260422T024905
CREATED:20240330T023234Z
LAST-MODIFIED:20240330T023234Z
UID:10000494-1743062400-1743094800@www.ohgahall.or.jp
SUMMARY:準備・リハーサル
DESCRIPTION:
URL:https://www.ohgahall.or.jp/event/10000494/
END:VEVENT
BEGIN:VEVENT
DTSTART;TZID=Asia/Tokyo:20250328T080000
DTEND;TZID=Asia/Tokyo:20250328T170000
DTSTAMP:20260422T024905
CREATED:20240304T080907Z
LAST-MODIFIED:20240330T023028Z
UID:10000333-1743148800-1743181200@www.ohgahall.or.jp
SUMMARY:準備・リハーサル
DESCRIPTION:
URL:https://www.ohgahall.or.jp/event/10000333/
END:VEVENT
END:VCALENDAR