BEGIN:VCALENDAR
VERSION:2.0
PRODID:-//軽井沢大賀ホール - ECPv6.3.1//NONSGML v1.0//EN
CALSCALE:GREGORIAN
METHOD:PUBLISH
X-WR-CALNAME:軽井沢大賀ホール
X-ORIGINAL-URL:https://www.ohgahall.or.jp
X-WR-CALDESC:軽井沢大賀ホール のイベント
REFRESH-INTERVAL;VALUE=DURATION:PT1H
X-Robots-Tag:noindex
X-PUBLISHED-TTL:PT1H
BEGIN:VTIMEZONE
TZID:Asia/Tokyo
BEGIN:STANDARD
TZOFFSETFROM:+0900
TZOFFSETTO:+0900
TZNAME:JST
DTSTART:20250101T000000
END:STANDARD
END:VTIMEZONE
BEGIN:VEVENT
DTSTART;TZID=Asia/Tokyo:20250201T080000
DTEND;TZID=Asia/Tokyo:20250201T170000
DTSTAMP:20260422T023849
CREATED:20240304T075909Z
LAST-MODIFIED:20240304T075909Z
UID:10000305-1738396800-1738429200@www.ohgahall.or.jp
SUMMARY:施設工事
DESCRIPTION:
URL:https://www.ohgahall.or.jp/event/10000305/
END:VEVENT
BEGIN:VEVENT
DTSTART;TZID=Asia/Tokyo:20250202T080000
DTEND;TZID=Asia/Tokyo:20250202T170000
DTSTAMP:20260422T023849
CREATED:20240304T075923Z
LAST-MODIFIED:20240304T075923Z
UID:10000306-1738483200-1738515600@www.ohgahall.or.jp
SUMMARY:施設工事
DESCRIPTION:
URL:https://www.ohgahall.or.jp/event/10000306/
END:VEVENT
BEGIN:VEVENT
DTSTART;TZID=Asia/Tokyo:20250203T080000
DTEND;TZID=Asia/Tokyo:20250203T170000
DTSTAMP:20260422T023849
CREATED:20240304T080445Z
LAST-MODIFIED:20240304T080445Z
UID:10000322-1738569600-1738602000@www.ohgahall.or.jp
SUMMARY:休館日
DESCRIPTION:
URL:https://www.ohgahall.or.jp/event/10000322/
END:VEVENT
BEGIN:VEVENT
DTSTART;TZID=Asia/Tokyo:20250204T080000
DTEND;TZID=Asia/Tokyo:20250204T170000
DTSTAMP:20260422T023849
CREATED:20240304T075940Z
LAST-MODIFIED:20240304T075940Z
UID:10000307-1738656000-1738688400@www.ohgahall.or.jp
SUMMARY:施設工事
DESCRIPTION:
URL:https://www.ohgahall.or.jp/event/10000307/
END:VEVENT
BEGIN:VEVENT
DTSTART;TZID=Asia/Tokyo:20250205T080000
DTEND;TZID=Asia/Tokyo:20250205T170000
DTSTAMP:20260422T023849
CREATED:20240304T075957Z
LAST-MODIFIED:20240304T075958Z
UID:10000308-1738742400-1738774800@www.ohgahall.or.jp
SUMMARY:施設工事
DESCRIPTION:
URL:https://www.ohgahall.or.jp/event/10000308/
END:VEVENT
BEGIN:VEVENT
DTSTART;TZID=Asia/Tokyo:20250206T080000
DTEND;TZID=Asia/Tokyo:20250206T170000
DTSTAMP:20260422T023849
CREATED:20240304T080015Z
LAST-MODIFIED:20240304T080015Z
UID:10000309-1738828800-1738861200@www.ohgahall.or.jp
SUMMARY:施設工事
DESCRIPTION:
URL:https://www.ohgahall.or.jp/event/10000309/
END:VEVENT
BEGIN:VEVENT
DTSTART;TZID=Asia/Tokyo:20250207T080000
DTEND;TZID=Asia/Tokyo:20250207T170000
DTSTAMP:20260422T023849
CREATED:20240304T080037Z
LAST-MODIFIED:20240304T080037Z
UID:10000310-1738915200-1738947600@www.ohgahall.or.jp
SUMMARY:施設工事
DESCRIPTION:
URL:https://www.ohgahall.or.jp/event/10000310/
END:VEVENT
BEGIN:VEVENT
DTSTART;TZID=Asia/Tokyo:20250208T080000
DTEND;TZID=Asia/Tokyo:20250208T170000
DTSTAMP:20260422T023849
CREATED:20240304T080053Z
LAST-MODIFIED:20240304T080053Z
UID:10000311-1739001600-1739034000@www.ohgahall.or.jp
SUMMARY:施設工事
DESCRIPTION:
URL:https://www.ohgahall.or.jp/event/10000311/
END:VEVENT
BEGIN:VEVENT
DTSTART;TZID=Asia/Tokyo:20250209T080000
DTEND;TZID=Asia/Tokyo:20250209T170000
DTSTAMP:20260422T023849
CREATED:20240304T080111Z
LAST-MODIFIED:20240304T080111Z
UID:10000312-1739088000-1739120400@www.ohgahall.or.jp
SUMMARY:施設工事
DESCRIPTION:
URL:https://www.ohgahall.or.jp/event/10000312/
END:VEVENT
BEGIN:VEVENT
DTSTART;TZID=Asia/Tokyo:20250210T080000
DTEND;TZID=Asia/Tokyo:20250210T170000
DTSTAMP:20260422T023849
CREATED:20240304T080502Z
LAST-MODIFIED:20240304T080502Z
UID:10000323-1739174400-1739206800@www.ohgahall.or.jp
SUMMARY:休館日
DESCRIPTION:
URL:https://www.ohgahall.or.jp/event/10000323/
END:VEVENT
BEGIN:VEVENT
DTSTART;TZID=Asia/Tokyo:20250211T080000
DTEND;TZID=Asia/Tokyo:20250211T170000
DTSTAMP:20260422T023849
CREATED:20240304T080128Z
LAST-MODIFIED:20240304T080128Z
UID:10000313-1739260800-1739293200@www.ohgahall.or.jp
SUMMARY:施設工事
DESCRIPTION:
URL:https://www.ohgahall.or.jp/event/10000313/
END:VEVENT
BEGIN:VEVENT
DTSTART;TZID=Asia/Tokyo:20250211T080000
DTEND;TZID=Asia/Tokyo:20250211T170000
DTSTAMP:20260422T023849
CREATED:20240407T022522Z
LAST-MODIFIED:20240407T022522Z
UID:10000594-1739260800-1739293200@www.ohgahall.or.jp
SUMMARY:建国記念日
DESCRIPTION:
URL:https://www.ohgahall.or.jp/event/10000594/
END:VEVENT
BEGIN:VEVENT
DTSTART;TZID=Asia/Tokyo:20250212T080000
DTEND;TZID=Asia/Tokyo:20250212T170000
DTSTAMP:20260422T023849
CREATED:20240304T080521Z
LAST-MODIFIED:20240304T080521Z
UID:10000324-1739347200-1739379600@www.ohgahall.or.jp
SUMMARY:休館日
DESCRIPTION:
URL:https://www.ohgahall.or.jp/event/10000324/
END:VEVENT
BEGIN:VEVENT
DTSTART;TZID=Asia/Tokyo:20250213T080000
DTEND;TZID=Asia/Tokyo:20250213T170000
DTSTAMP:20260422T023849
CREATED:20240304T080145Z
LAST-MODIFIED:20240304T080145Z
UID:10000314-1739433600-1739466000@www.ohgahall.or.jp
SUMMARY:施設工事
DESCRIPTION:
URL:https://www.ohgahall.or.jp/event/10000314/
END:VEVENT
BEGIN:VEVENT
DTSTART;TZID=Asia/Tokyo:20250214T080000
DTEND;TZID=Asia/Tokyo:20250214T170000
DTSTAMP:20260422T023849
CREATED:20240304T080201Z
LAST-MODIFIED:20240304T080201Z
UID:10000315-1739520000-1739552400@www.ohgahall.or.jp
SUMMARY:施設工事
DESCRIPTION:
URL:https://www.ohgahall.or.jp/event/10000315/
END:VEVENT
BEGIN:VEVENT
DTSTART;TZID=Asia/Tokyo:20250215T080000
DTEND;TZID=Asia/Tokyo:20250215T170000
DTSTAMP:20260422T023849
CREATED:20240304T080217Z
LAST-MODIFIED:20240304T080217Z
UID:10000316-1739606400-1739638800@www.ohgahall.or.jp
SUMMARY:施設工事
DESCRIPTION:
URL:https://www.ohgahall.or.jp/event/10000316/
END:VEVENT
BEGIN:VEVENT
DTSTART;TZID=Asia/Tokyo:20250216T080000
DTEND;TZID=Asia/Tokyo:20250216T170000
DTSTAMP:20260422T023849
CREATED:20240304T080235Z
LAST-MODIFIED:20240304T080235Z
UID:10000317-1739692800-1739725200@www.ohgahall.or.jp
SUMMARY:施設工事
DESCRIPTION:
URL:https://www.ohgahall.or.jp/event/10000317/
END:VEVENT
BEGIN:VEVENT
DTSTART;TZID=Asia/Tokyo:20250217T080000
DTEND;TZID=Asia/Tokyo:20250217T170000
DTSTAMP:20260422T023849
CREATED:20240304T080542Z
LAST-MODIFIED:20240304T080542Z
UID:10000325-1739779200-1739811600@www.ohgahall.or.jp
SUMMARY:休館日
DESCRIPTION:
URL:https://www.ohgahall.or.jp/event/10000325/
END:VEVENT
BEGIN:VEVENT
DTSTART;TZID=Asia/Tokyo:20250218T080000
DTEND;TZID=Asia/Tokyo:20250218T170000
DTSTAMP:20260422T023849
CREATED:20240304T080253Z
LAST-MODIFIED:20240304T080253Z
UID:10000318-1739865600-1739898000@www.ohgahall.or.jp
SUMMARY:施設工事
DESCRIPTION:
URL:https://www.ohgahall.or.jp/event/10000318/
END:VEVENT
BEGIN:VEVENT
DTSTART;TZID=Asia/Tokyo:20250219T080000
DTEND;TZID=Asia/Tokyo:20250219T170000
DTSTAMP:20260422T023849
CREATED:20240304T080312Z
LAST-MODIFIED:20240304T080312Z
UID:10000319-1739952000-1739984400@www.ohgahall.or.jp
SUMMARY:施設工事
DESCRIPTION:
URL:https://www.ohgahall.or.jp/event/10000319/
END:VEVENT
BEGIN:VEVENT
DTSTART;TZID=Asia/Tokyo:20250220T080000
DTEND;TZID=Asia/Tokyo:20250220T170000
DTSTAMP:20260422T023849
CREATED:20240304T080401Z
LAST-MODIFIED:20240304T080401Z
UID:10000320-1740038400-1740070800@www.ohgahall.or.jp
SUMMARY:施設工事
DESCRIPTION:
URL:https://www.ohgahall.or.jp/event/10000320/
END:VEVENT
BEGIN:VEVENT
DTSTART;TZID=Asia/Tokyo:20250221T080000
DTEND;TZID=Asia/Tokyo:20250221T170000
DTSTAMP:20260422T023849
CREATED:20240304T080420Z
LAST-MODIFIED:20240304T080420Z
UID:10000321-1740124800-1740157200@www.ohgahall.or.jp
SUMMARY:施設工事
DESCRIPTION:
URL:https://www.ohgahall.or.jp/event/10000321/
END:VEVENT
BEGIN:VEVENT
DTSTART;TZID=Asia/Tokyo:20250222T080000
DTEND;TZID=Asia/Tokyo:20250222T170000
DTSTAMP:20260422T023849
CREATED:20241119T053502Z
LAST-MODIFIED:20250222T081511Z
UID:10000959-1740211200-1740243600@www.ohgahall.or.jp
SUMMARY:SDGsチャリティーコンサート in 軽井沢大賀ホール
DESCRIPTION:
URL:https://www.ohgahall.or.jp/event/10000959/
CATEGORIES:その他
ATTACH;FMTTYPE=image/jpeg:https://www.ohgahall.or.jp/K3PJBvmt/wp-content/uploads/2024/11/2e4aaca38f7b734d6cbd114cf6a4b9b7_page-0001.jpg
END:VEVENT
BEGIN:VEVENT
DTSTART;TZID=Asia/Tokyo:20250223T080000
DTEND;TZID=Asia/Tokyo:20250223T170000
DTSTAMP:20260422T023849
CREATED:20240304T080724Z
LAST-MODIFIED:20250218T045039Z
UID:10000328-1740297600-1740330000@www.ohgahall.or.jp
SUMMARY:音楽コンクール入賞者によるミュージック・フェスティバル in 軽井沢
DESCRIPTION:
URL:https://www.ohgahall.or.jp/event/10000328/
CATEGORIES:クラシック
END:VEVENT
BEGIN:VEVENT
DTSTART;TZID=Asia/Tokyo:20250223T080000
DTEND;TZID=Asia/Tokyo:20250223T170000
DTSTAMP:20260422T023849
CREATED:20240407T022548Z
LAST-MODIFIED:20240407T022548Z
UID:10000595-1740297600-1740330000@www.ohgahall.or.jp
SUMMARY:天皇誕生日
DESCRIPTION:
URL:https://www.ohgahall.or.jp/event/10000595/
END:VEVENT
BEGIN:VEVENT
DTSTART;TZID=Asia/Tokyo:20250224T080000
DTEND;TZID=Asia/Tokyo:20250224T170000
DTSTAMP:20260422T023849
CREATED:20240330T020655Z
LAST-MODIFIED:20240330T020829Z
UID:10000490-1740384000-1740416400@www.ohgahall.or.jp
SUMMARY:祝日
DESCRIPTION:
URL:https://www.ohgahall.or.jp/event/10000490/
END:VEVENT
BEGIN:VEVENT
DTSTART;TZID=Asia/Tokyo:20250224T080000
DTEND;TZID=Asia/Tokyo:20250224T170000
DTSTAMP:20260422T023849
CREATED:20240330T020850Z
LAST-MODIFIED:20241215T050521Z
UID:10000491-1740384000-1740416400@www.ohgahall.or.jp
SUMMARY:関係者のみのご利用がございます
DESCRIPTION:
URL:https://www.ohgahall.or.jp/event/10000491/
END:VEVENT
BEGIN:VEVENT
DTSTART;TZID=Asia/Tokyo:20250224T080000
DTEND;TZID=Asia/Tokyo:20250224T170000
DTSTAMP:20260422T023849
CREATED:20240407T022609Z
LAST-MODIFIED:20240407T022609Z
UID:10000596-1740384000-1740416400@www.ohgahall.or.jp
SUMMARY:振替休日
DESCRIPTION:
URL:https://www.ohgahall.or.jp/event/10000596/
END:VEVENT
BEGIN:VEVENT
DTSTART;TZID=Asia/Tokyo:20250225T080000
DTEND;TZID=Asia/Tokyo:20250225T170000
DTSTAMP:20260422T023849
CREATED:20240304T080601Z
LAST-MODIFIED:20240304T080642Z
UID:10000326-1740470400-1740502800@www.ohgahall.or.jp
SUMMARY:休館日
DESCRIPTION:
URL:https://www.ohgahall.or.jp/event/10000326/
END:VEVENT
BEGIN:VEVENT
DTSTART;TZID=Asia/Tokyo:20250226T080000
DTEND;TZID=Asia/Tokyo:20250226T170000
DTSTAMP:20260422T023849
CREATED:20240304T080619Z
LAST-MODIFIED:20240304T080619Z
UID:10000327-1740556800-1740589200@www.ohgahall.or.jp
SUMMARY:休館日
DESCRIPTION:
URL:https://www.ohgahall.or.jp/event/10000327/
END:VEVENT
END:VCALENDAR