BEGIN:VCALENDAR
VERSION:2.0
PRODID:-//軽井沢大賀ホール - ECPv6.3.1//NONSGML v1.0//EN
CALSCALE:GREGORIAN
METHOD:PUBLISH
X-ORIGINAL-URL:https://www.ohgahall.or.jp
X-WR-CALDESC:軽井沢大賀ホール のイベント
REFRESH-INTERVAL;VALUE=DURATION:PT1H
X-Robots-Tag:noindex
X-PUBLISHED-TTL:PT1H
BEGIN:VTIMEZONE
TZID:Asia/Tokyo
BEGIN:STANDARD
TZOFFSETFROM:+0900
TZOFFSETTO:+0900
TZNAME:JST
DTSTART:20250101T000000
END:STANDARD
END:VTIMEZONE
BEGIN:VEVENT
DTSTART;TZID=Asia/Tokyo:20250101T080000
DTEND;TZID=Asia/Tokyo:20250101T170000
DTSTAMP:20260422T005227
CREATED:20240304T075027Z
LAST-MODIFIED:20240304T075027Z
UID:10000285-1735718400-1735750800@www.ohgahall.or.jp
SUMMARY:休館日
DESCRIPTION:
URL:https://www.ohgahall.or.jp/event/10000285/
END:VEVENT
BEGIN:VEVENT
DTSTART;TZID=Asia/Tokyo:20250101T080000
DTEND;TZID=Asia/Tokyo:20250101T170000
DTSTAMP:20260422T005227
CREATED:20240407T020157Z
LAST-MODIFIED:20240407T020157Z
UID:10000559-1735718400-1735750800@www.ohgahall.or.jp
SUMMARY:元日
DESCRIPTION:
URL:https://www.ohgahall.or.jp/event/10000559/
END:VEVENT
BEGIN:VEVENT
DTSTART;TZID=Asia/Tokyo:20250102T080000
DTEND;TZID=Asia/Tokyo:20250102T170000
DTSTAMP:20260422T005227
CREATED:20240304T075045Z
LAST-MODIFIED:20240304T075045Z
UID:10000286-1735804800-1735837200@www.ohgahall.or.jp
SUMMARY:休館日
DESCRIPTION:
URL:https://www.ohgahall.or.jp/event/10000286/
END:VEVENT
BEGIN:VEVENT
DTSTART;TZID=Asia/Tokyo:20250103T080000
DTEND;TZID=Asia/Tokyo:20250103T170000
DTSTAMP:20260422T005227
CREATED:20240304T075101Z
LAST-MODIFIED:20240304T075101Z
UID:10000287-1735891200-1735923600@www.ohgahall.or.jp
SUMMARY:休館日
DESCRIPTION:
URL:https://www.ohgahall.or.jp/event/10000287/
END:VEVENT
BEGIN:VEVENT
DTSTART;TZID=Asia/Tokyo:20250104T080000
DTEND;TZID=Asia/Tokyo:20250104T170000
DTSTAMP:20260422T005227
CREATED:20240304T075117Z
LAST-MODIFIED:20240304T075117Z
UID:10000288-1735977600-1736010000@www.ohgahall.or.jp
SUMMARY:休館日
DESCRIPTION:
URL:https://www.ohgahall.or.jp/event/10000288/
END:VEVENT
BEGIN:VEVENT
DTSTART;TZID=Asia/Tokyo:20250106T080000
DTEND;TZID=Asia/Tokyo:20250106T170000
DTSTAMP:20260422T005227
CREATED:20240304T075140Z
LAST-MODIFIED:20240304T075140Z
UID:10000289-1736150400-1736182800@www.ohgahall.or.jp
SUMMARY:休館日
DESCRIPTION:
URL:https://www.ohgahall.or.jp/event/10000289/
END:VEVENT
BEGIN:VEVENT
DTSTART;TZID=Asia/Tokyo:20250110T080000
DTEND;TZID=Asia/Tokyo:20250110T170000
DTSTAMP:20260422T005227
CREATED:20240304T075319Z
LAST-MODIFIED:20240304T075319Z
UID:10000294-1736496000-1736528400@www.ohgahall.or.jp
SUMMARY:準備・リハーサル
DESCRIPTION:
URL:https://www.ohgahall.or.jp/event/10000294/
END:VEVENT
BEGIN:VEVENT
DTSTART;TZID=Asia/Tokyo:20250111T080000
DTEND;TZID=Asia/Tokyo:20250111T170000
DTSTAMP:20260422T005227
CREATED:20240304T075351Z
LAST-MODIFIED:20250111T094929Z
UID:10000296-1736582400-1736614800@www.ohgahall.or.jp
SUMMARY:軽井沢大賀ホール2025ニューイヤー イルカコンサート 〜あいのたね❤まこう！〜
DESCRIPTION:
URL:https://www.ohgahall.or.jp/event/10000296/
CATEGORIES:ポップス
ATTACH;FMTTYPE=image/jpeg:https://www.ohgahall.or.jp/K3PJBvmt/wp-content/uploads/2024/03/イルカ_ソロアー写2024.jpeg
END:VEVENT
BEGIN:VEVENT
DTSTART;VALUE=DATE:20250112
DTEND;VALUE=DATE:20250113
DTSTAMP:20260422T005227
CREATED:20241215T082734Z
LAST-MODIFIED:20241215T082946Z
UID:10000988-1736640000-1736726399@www.ohgahall.or.jp
SUMMARY:【演奏者ラウンジ】軽井沢少年少女合唱団 練習
DESCRIPTION:
URL:https://www.ohgahall.or.jp/event/10000988/
CATEGORIES:コーラス
ATTACH;FMTTYPE=image/jpeg:https://www.ohgahall.or.jp/K3PJBvmt/wp-content/uploads/2024/03/2024012419265300.jpg
END:VEVENT
BEGIN:VEVENT
DTSTART;TZID=Asia/Tokyo:20250113T080000
DTEND;TZID=Asia/Tokyo:20250113T170000
DTSTAMP:20260422T005227
CREATED:20240304T075433Z
LAST-MODIFIED:20241224T055709Z
UID:10000298-1736755200-1736787600@www.ohgahall.or.jp
SUMMARY:令和７年　軽井沢町消防出初式
DESCRIPTION:
URL:https://www.ohgahall.or.jp/event/10000298/
CATEGORIES:その他
END:VEVENT
BEGIN:VEVENT
DTSTART;TZID=Asia/Tokyo:20250113T080000
DTEND;TZID=Asia/Tokyo:20250113T170000
DTSTAMP:20260422T005227
CREATED:20240330T020423Z
LAST-MODIFIED:20240330T020423Z
UID:10000487-1736755200-1736787600@www.ohgahall.or.jp
SUMMARY:
DESCRIPTION:
URL:https://www.ohgahall.or.jp/event/10000487/
END:VEVENT
BEGIN:VEVENT
DTSTART;TZID=Asia/Tokyo:20250113T080000
DTEND;TZID=Asia/Tokyo:20250113T170000
DTSTAMP:20260422T005227
CREATED:20240407T022459Z
LAST-MODIFIED:20240407T022459Z
UID:10000593-1736755200-1736787600@www.ohgahall.or.jp
SUMMARY:成人の日
DESCRIPTION:
URL:https://www.ohgahall.or.jp/event/10000593/
END:VEVENT
BEGIN:VEVENT
DTSTART;TZID=Asia/Tokyo:20250113T130000
DTEND;TZID=Asia/Tokyo:20250113T170000
DTSTAMP:20260422T005227
CREATED:20241226T035553Z
LAST-MODIFIED:20241226T035923Z
UID:10001035-1736773200-1736787600@www.ohgahall.or.jp
SUMMARY:軽井沢ファミリーオーケストラ 練習
DESCRIPTION:
URL:https://www.ohgahall.or.jp/event/10001035/
CATEGORIES:クラシック
ATTACH;FMTTYPE=image/jpeg:https://www.ohgahall.or.jp/K3PJBvmt/wp-content/uploads/2024/11/DSC02632-scaled.jpg
END:VEVENT
BEGIN:VEVENT
DTSTART;TZID=Asia/Tokyo:20250114T080000
DTEND;TZID=Asia/Tokyo:20250114T170000
DTSTAMP:20260422T005227
CREATED:20240304T075159Z
LAST-MODIFIED:20240304T075159Z
UID:10000290-1736841600-1736874000@www.ohgahall.or.jp
SUMMARY:休館日
DESCRIPTION:
URL:https://www.ohgahall.or.jp/event/10000290/
END:VEVENT
BEGIN:VEVENT
DTSTART;TZID=Asia/Tokyo:20250115T080000
DTEND;TZID=Asia/Tokyo:20250115T170000
DTSTAMP:20260422T005227
CREATED:20240304T075216Z
LAST-MODIFIED:20240304T075216Z
UID:10000291-1736928000-1736960400@www.ohgahall.or.jp
SUMMARY:休館日
DESCRIPTION:
URL:https://www.ohgahall.or.jp/event/10000291/
END:VEVENT
BEGIN:VEVENT
DTSTART;VALUE=DATE:20250117
DTEND;VALUE=DATE:20250118
DTSTAMP:20260422T005227
CREATED:20241218T091251Z
LAST-MODIFIED:20241220T003953Z
UID:10000991-1737072000-1737158399@www.ohgahall.or.jp
SUMMARY:【演奏者ラウンジ】歌声の森 Cantabile
DESCRIPTION:
URL:https://www.ohgahall.or.jp/event/10000991/
CATEGORIES:レッスン
ATTACH;FMTTYPE=image/jpeg:https://www.ohgahall.or.jp/K3PJBvmt/wp-content/uploads/2024/05/「歌声の森」HP画像_page-0001.jpg
END:VEVENT
BEGIN:VEVENT
DTSTART;TZID=Asia/Tokyo:20250118T080000
DTEND;TZID=Asia/Tokyo:20250118T170000
DTSTAMP:20260422T005227
CREATED:20240304T075334Z
LAST-MODIFIED:20240304T075334Z
UID:10000295-1737187200-1737219600@www.ohgahall.or.jp
SUMMARY:準備・リハーサル
DESCRIPTION:
URL:https://www.ohgahall.or.jp/event/10000295/
END:VEVENT
BEGIN:VEVENT
DTSTART;TZID=Asia/Tokyo:20250119T080000
DTEND;TZID=Asia/Tokyo:20250119T170000
DTSTAMP:20260422T005227
CREATED:20240304T075451Z
LAST-MODIFIED:20250119T071112Z
UID:10000299-1737273600-1737306000@www.ohgahall.or.jp
SUMMARY:丸の内交響楽団 ニューイヤーコンサート2025軽井沢大賀ホール公演
DESCRIPTION:
URL:https://www.ohgahall.or.jp/event/10000299/
CATEGORIES:クラシック
ATTACH;FMTTYPE=image/jpeg:https://www.ohgahall.or.jp/K3PJBvmt/wp-content/uploads/2024/03/20241119115853_00001.jpg
END:VEVENT
BEGIN:VEVENT
DTSTART;TZID=Asia/Tokyo:20250120T080000
DTEND;TZID=Asia/Tokyo:20250120T170000
DTSTAMP:20260422T005227
CREATED:20240304T075234Z
LAST-MODIFIED:20240304T075234Z
UID:10000292-1737360000-1737392400@www.ohgahall.or.jp
SUMMARY:休館日
DESCRIPTION:
URL:https://www.ohgahall.or.jp/event/10000292/
END:VEVENT
BEGIN:VEVENT
DTSTART;TZID=Asia/Tokyo:20250121T080000
DTEND;TZID=Asia/Tokyo:20250121T170000
DTSTAMP:20260422T005227
CREATED:20241005T024237Z
LAST-MODIFIED:20241005T024237Z
UID:10000834-1737446400-1737478800@www.ohgahall.or.jp
SUMMARY:施設工事
DESCRIPTION:
URL:https://www.ohgahall.or.jp/event/10000834/
END:VEVENT
BEGIN:VEVENT
DTSTART;TZID=Asia/Tokyo:20250122T080000
DTEND;TZID=Asia/Tokyo:20250122T170000
DTSTAMP:20260422T005227
CREATED:20241005T024300Z
LAST-MODIFIED:20241005T024300Z
UID:10000835-1737532800-1737565200@www.ohgahall.or.jp
SUMMARY:施設工事
DESCRIPTION:
URL:https://www.ohgahall.or.jp/event/10000835/
END:VEVENT
BEGIN:VEVENT
DTSTART;TZID=Asia/Tokyo:20250123T080000
DTEND;TZID=Asia/Tokyo:20250123T170000
DTSTAMP:20260422T005227
CREATED:20241005T024433Z
LAST-MODIFIED:20241005T024433Z
UID:10000837-1737619200-1737651600@www.ohgahall.or.jp
SUMMARY:施設工事
DESCRIPTION:
URL:https://www.ohgahall.or.jp/event/10000837/
END:VEVENT
BEGIN:VEVENT
DTSTART;TZID=Asia/Tokyo:20250124T080000
DTEND;TZID=Asia/Tokyo:20250124T170000
DTSTAMP:20260422T005227
CREATED:20241005T024355Z
LAST-MODIFIED:20241005T024355Z
UID:10000836-1737705600-1737738000@www.ohgahall.or.jp
SUMMARY:施設工事
DESCRIPTION:
URL:https://www.ohgahall.or.jp/event/10000836/
END:VEVENT
BEGIN:VEVENT
DTSTART;VALUE=DATE:20250125
DTEND;VALUE=DATE:20250126
DTSTAMP:20260422T005227
CREATED:20240304T075740Z
LAST-MODIFIED:20250125T070214Z
UID:10000304-1737763200-1737849599@www.ohgahall.or.jp
SUMMARY:川村優子 Birthday Recital
DESCRIPTION:
URL:https://www.ohgahall.or.jp/event/10000304/
CATEGORIES:クラシック
ATTACH;FMTTYPE=image/jpeg:https://www.ohgahall.or.jp/K3PJBvmt/wp-content/uploads/2024/03/0158_001-scaled.jpg
END:VEVENT
BEGIN:VEVENT
DTSTART;TZID=Asia/Tokyo:20250126T080000
DTEND;TZID=Asia/Tokyo:20250126T170000
DTSTAMP:20260422T005227
CREATED:20241005T024505Z
LAST-MODIFIED:20241005T024505Z
UID:10000838-1737878400-1737910800@www.ohgahall.or.jp
SUMMARY:施設工事
DESCRIPTION:
URL:https://www.ohgahall.or.jp/event/10000838/
END:VEVENT
BEGIN:VEVENT
DTSTART;TZID=Asia/Tokyo:20250127T080000
DTEND;TZID=Asia/Tokyo:20250127T170000
DTSTAMP:20260422T005227
CREATED:20240304T075255Z
LAST-MODIFIED:20240304T075255Z
UID:10000293-1737964800-1737997200@www.ohgahall.or.jp
SUMMARY:休館日
DESCRIPTION:
URL:https://www.ohgahall.or.jp/event/10000293/
END:VEVENT
BEGIN:VEVENT
DTSTART;TZID=Asia/Tokyo:20250128T080000
DTEND;TZID=Asia/Tokyo:20250128T170000
DTSTAMP:20260422T005227
CREATED:20240304T075511Z
LAST-MODIFIED:20240304T075511Z
UID:10000300-1738051200-1738083600@www.ohgahall.or.jp
SUMMARY:施設工事
DESCRIPTION:
URL:https://www.ohgahall.or.jp/event/10000300/
END:VEVENT
BEGIN:VEVENT
DTSTART;TZID=Asia/Tokyo:20250129T080000
DTEND;TZID=Asia/Tokyo:20250129T170000
DTSTAMP:20260422T005227
CREATED:20240304T075529Z
LAST-MODIFIED:20240304T075529Z
UID:10000301-1738137600-1738170000@www.ohgahall.or.jp
SUMMARY:施設工事
DESCRIPTION:
URL:https://www.ohgahall.or.jp/event/10000301/
END:VEVENT
BEGIN:VEVENT
DTSTART;TZID=Asia/Tokyo:20250130T080000
DTEND;TZID=Asia/Tokyo:20250130T170000
DTSTAMP:20260422T005227
CREATED:20240304T075546Z
LAST-MODIFIED:20240304T075546Z
UID:10000302-1738224000-1738256400@www.ohgahall.or.jp
SUMMARY:施設工事
DESCRIPTION:
URL:https://www.ohgahall.or.jp/event/10000302/
END:VEVENT
BEGIN:VEVENT
DTSTART;TZID=Asia/Tokyo:20250131T080000
DTEND;TZID=Asia/Tokyo:20250131T170000
DTSTAMP:20260422T005227
CREATED:20240304T075602Z
LAST-MODIFIED:20240304T075602Z
UID:10000303-1738310400-1738342800@www.ohgahall.or.jp
SUMMARY:施設工事
DESCRIPTION:
URL:https://www.ohgahall.or.jp/event/10000303/
END:VEVENT
END:VCALENDAR